BEGIN:VCALENDAR
VERSION:2.0
PRODID:-//La Familia Counseling Center - ECPv6.15.20//NONSGML v1.0//EN
CALSCALE:GREGORIAN
METHOD:PUBLISH
X-WR-CALNAME:La Familia Counseling Center
X-ORIGINAL-URL:https://lafcc.org
X-WR-CALDESC:Events for La Familia Counseling Center
REFRESH-INTERVAL;VALUE=DURATION:PT1H
X-Robots-Tag:noindex
X-PUBLISHED-TTL:PT1H
BEGIN:VTIMEZONE
TZID:America/Los_Angeles
BEGIN:DAYLIGHT
TZOFFSETFROM:-0800
TZOFFSETTO:-0700
TZNAME:PDT
DTSTART:20150308T100000
END:DAYLIGHT
BEGIN:STANDARD
TZOFFSETFROM:-0700
TZOFFSETTO:-0800
TZNAME:PST
DTSTART:20151101T090000
END:STANDARD
BEGIN:DAYLIGHT
TZOFFSETFROM:-0800
TZOFFSETTO:-0700
TZNAME:PDT
DTSTART:20160313T100000
END:DAYLIGHT
BEGIN:STANDARD
TZOFFSETFROM:-0700
TZOFFSETTO:-0800
TZNAME:PST
DTSTART:20161106T090000
END:STANDARD
BEGIN:DAYLIGHT
TZOFFSETFROM:-0800
TZOFFSETTO:-0700
TZNAME:PDT
DTSTART:20170312T100000
END:DAYLIGHT
BEGIN:STANDARD
TZOFFSETFROM:-0700
TZOFFSETTO:-0800
TZNAME:PST
DTSTART:20171105T090000
END:STANDARD
END:VTIMEZONE
BEGIN:VEVENT
DTSTART;TZID=America/Los_Angeles:20161029T110000
DTEND;TZID=America/Los_Angeles:20161029T183000
DTSTAMP:20260423T231005
CREATED:20160929T183233Z
LAST-MODIFIED:20161012T175822Z
UID:10000692-1477738800-1477765800@lafcc.org
SUMMARY:Calaveras & Corn Festival
DESCRIPTION: Calaveras & Corn Festival Celebrating both Dia de los Muertos and Halloween! \nALL PROCEEDS WILL GO TO LA FAMILIA COUNSELING CENTER and Help Chiapas! \nCome out and support bring your friends and family! \n\n \n 
URL:https://lafcc.org/event/calaveras-corn-festival-and-scavenger-hunt/
LOCATION:Casa de Español\, 1101 R. Steet\, Sacramento\, CA\, 95811\, United States
END:VEVENT
END:VCALENDAR