BEGIN:VCALENDAR
VERSION:2.0
PRODID:-//La Familia Counseling Center - ECPv6.15.20//NONSGML v1.0//EN
CALSCALE:GREGORIAN
METHOD:PUBLISH
X-WR-CALNAME:La Familia Counseling Center
X-ORIGINAL-URL:https://lafcc.org
X-WR-CALDESC:Events for La Familia Counseling Center
REFRESH-INTERVAL;VALUE=DURATION:PT1H
X-Robots-Tag:noindex
X-PUBLISHED-TTL:PT1H
BEGIN:VTIMEZONE
TZID:America/Los_Angeles
BEGIN:DAYLIGHT
TZOFFSETFROM:-0800
TZOFFSETTO:-0700
TZNAME:PDT
DTSTART:20250309T100000
END:DAYLIGHT
BEGIN:STANDARD
TZOFFSETFROM:-0700
TZOFFSETTO:-0800
TZNAME:PST
DTSTART:20251102T090000
END:STANDARD
BEGIN:DAYLIGHT
TZOFFSETFROM:-0800
TZOFFSETTO:-0700
TZNAME:PDT
DTSTART:20260308T100000
END:DAYLIGHT
BEGIN:STANDARD
TZOFFSETFROM:-0700
TZOFFSETTO:-0800
TZNAME:PST
DTSTART:20261101T090000
END:STANDARD
BEGIN:DAYLIGHT
TZOFFSETFROM:-0800
TZOFFSETTO:-0700
TZNAME:PDT
DTSTART:20270314T100000
END:DAYLIGHT
BEGIN:STANDARD
TZOFFSETFROM:-0700
TZOFFSETTO:-0800
TZNAME:PST
DTSTART:20271107T090000
END:STANDARD
END:VTIMEZONE
BEGIN:VEVENT
DTSTART;TZID=America/Los_Angeles:20260420T140000
DTEND;TZID=America/Los_Angeles:20260420T210000
DTSTAMP:20260421T164936
CREATED:20260420T155006Z
LAST-MODIFIED:20260420T155006Z
UID:10005296-1776693600-1776718800@lafcc.org
SUMMARY:Mendocino Farms Fundraiser
DESCRIPTION:Dine & Donate for a Great Cause – supporting La Familia Counseling Center.\n\n\nEvery meal helps fuel our Summer Lunch Program – A Summer of Growth. A Future of Possibility.\n\n\nJoin us at Mendocino Farms and make your meal count:\nOrder online for pickup or delivery using code GIVEBACK\nOr show this flyer in-store\n\n\n20% of your purchase will be donated back to support local youth!\n\n\nMonday\, April 20th\n2pm-Close\n4730 Freeport Blvd.\, Suite 110\, Sacramento\, CA 95822\n\n\nBring your friends\, family\, and appetite – every bite makes a difference!
URL:https://lafcc.org/event/mendocino-farms-fundraiser/
LOCATION:4730 Freeport Blvd.\, Suite 110\, Sacramento\, CA 95822
ATTACH;FMTTYPE=image/jpeg:https://lafcc.org/wp-content/uploads/2026/04/Mendocino-Flyer-ENG-1-1-scaled.jpg
END:VEVENT
END:VCALENDAR