BEGIN:VCALENDAR
VERSION:2.0
PRODID:-//La Familia Counseling Center - ECPv6.15.20//NONSGML v1.0//EN
CALSCALE:GREGORIAN
METHOD:PUBLISH
X-WR-CALNAME:La Familia Counseling Center
X-ORIGINAL-URL:https://lafcc.org
X-WR-CALDESC:Events for La Familia Counseling Center
REFRESH-INTERVAL;VALUE=DURATION:PT1H
X-Robots-Tag:noindex
X-PUBLISHED-TTL:PT1H
BEGIN:VTIMEZONE
TZID:America/Los_Angeles
BEGIN:DAYLIGHT
TZOFFSETFROM:-0800
TZOFFSETTO:-0700
TZNAME:PDT
DTSTART:20170312T100000
END:DAYLIGHT
BEGIN:STANDARD
TZOFFSETFROM:-0700
TZOFFSETTO:-0800
TZNAME:PST
DTSTART:20171105T090000
END:STANDARD
BEGIN:DAYLIGHT
TZOFFSETFROM:-0800
TZOFFSETTO:-0700
TZNAME:PDT
DTSTART:20180311T100000
END:DAYLIGHT
BEGIN:STANDARD
TZOFFSETFROM:-0700
TZOFFSETTO:-0800
TZNAME:PST
DTSTART:20181104T090000
END:STANDARD
BEGIN:DAYLIGHT
TZOFFSETFROM:-0800
TZOFFSETTO:-0700
TZNAME:PDT
DTSTART:20190310T100000
END:DAYLIGHT
BEGIN:STANDARD
TZOFFSETFROM:-0700
TZOFFSETTO:-0800
TZNAME:PST
DTSTART:20191103T090000
END:STANDARD
END:VTIMEZONE
BEGIN:VEVENT
DTSTART;TZID=America/Los_Angeles:20180125T100000
DTEND;TZID=America/Los_Angeles:20180125T120000
DTSTAMP:20260419T191351
CREATED:20171219T205923Z
LAST-MODIFIED:20171219T205923Z
UID:10002371-1516874400-1516881600@lafcc.org
SUMMARY:Career Center Orientation
DESCRIPTION:La Familia Career Center offers an Orientation designed to assist clients in \nCareer Development by providing: \n\nResume Writing Workshops\nBasic Computer Classes\nInterview Practices\nJob Placement Opportunities\n\nOur goal is to create new outcomes that will drive our community to greater heights. \n\n  \nLa Familia Centro de Carreras ofrece una Orientación diseñada para ayudar a los clientes en el desarrollo de su carrera proveyendo: \n\nTalleres para la preparación historial de empleo\nClases básicas de computación\nPrácticas para entrevistas\nOportunidades para colocación de empleo\n\nNuestro objetivo es crear nuevos caminos que dirijiran a nuestra comunidad hacia mejores oportunidades.
URL:https://lafcc.org/event/career-center-orientation-120/
LOCATION:La Familia Counseling Center Inc.\, 5523 34th Street\, Sacramento\, 95820
END:VEVENT
BEGIN:VEVENT
DTSTART;TZID=America/Los_Angeles:20180118T100000
DTEND;TZID=America/Los_Angeles:20180118T120000
DTSTAMP:20260419T191351
CREATED:20171219T205738Z
LAST-MODIFIED:20180117T194855Z
UID:10002370-1516269600-1516276800@lafcc.org
SUMMARY:Career Center Orientation
DESCRIPTION:La Familia Career Center offers an Orientation designed to assist clients in \nCareer Development by providing: \n\nResume Writing Workshops\nBasic Computer Classes\nInterview Practices\nJob Placement Opportunities\n\nOur goal is to create new outcomes that will drive our community to greater heights. \n  \n\n  \nLa Familia Centro de Carreras ofrece una Orientación diseñada para ayudar a los clientes en el desarrollo de su carrera proveyendo: \n\nTalleres para la preparación historial de empleo\nClases básicas de computación\nPrácticas para entrevistas\nOportunidades para colocación de empleo\n\nNuestro objetivo es crear nuevos caminos que dirijiran a nuestra comunidad hacia mejores oportunidades.
URL:https://lafcc.org/event/career-center-orientation-119/
LOCATION:La Familia Counseling Center Inc.\, 5523 34th Street\, Sacramento\, 95820
END:VEVENT
BEGIN:VEVENT
DTSTART;TZID=America/Los_Angeles:20180111T100000
DTEND;TZID=America/Los_Angeles:20180111T120000
DTSTAMP:20260419T191351
CREATED:20171219T205606Z
LAST-MODIFIED:20171219T205606Z
UID:10002369-1515664800-1515672000@lafcc.org
SUMMARY:Career Center Orientation
DESCRIPTION:La Familia Career Center offers an Orientation designed to assist clients in \nCareer Development by providing: \n\nResume Writing Workshops\nBasic Computer Classes\nInterview Practices\nJob Placement Opportunities\n\nOur goal is to create new outcomes that will drive our community to greater heights. \n  \n\n  \nLa Familia Centro de Carreras ofrece una Orientación diseñada para ayudar a los clientes en el desarrollo de su carrera proveyendo: \n\nTalleres para la preparación historial de empleo\nClases básicas de computación\nPrácticas para entrevistas\nOportunidades para colocación de empleo\n\nNuestro objetivo es crear nuevos caminos que dirijiran a nuestra comunidad hacia mejores oportunidades.
URL:https://lafcc.org/event/career-center-orientation-118/
LOCATION:La Familia Counseling Center Inc.\, 5523 34th Street\, Sacramento\, 95820
END:VEVENT
BEGIN:VEVENT
DTSTART;TZID=America/Los_Angeles:20180104T100000
DTEND;TZID=America/Los_Angeles:20180104T120000
DTSTAMP:20260419T191351
CREATED:20171219T205412Z
LAST-MODIFIED:20171219T205446Z
UID:10002368-1515060000-1515067200@lafcc.org
SUMMARY:Career Center Orientation
DESCRIPTION:La Familia Career Center offers an Orientation designed to assist clients in \nCareer Development by providing: \n\nResume Writing Workshops\nBasic Computer Classes\nInterview Practices\nJob Placement Opportunities\n\nOur goal is to create new outcomes that will drive our community to greater heights. \n  \n\n  \nLa Familia Centro de Carreras ofrece una Orientación diseñada para ayudar a los clientes en el desarrollo de su carrera proveyendo: \n\nTalleres para la preparación historial de empleo\nClases básicas de computación\nPrácticas para entrevistas\nOportunidades para colocación de empleo\n\nNuestro objetivo es crear nuevos caminos que dirijiran a nuestra comunidad hacia mejores oportunidades.
URL:https://lafcc.org/event/3697/
LOCATION:La Familia Counseling Center Inc.\, 5523 34th Street\, Sacramento\, 95820
END:VEVENT
END:VCALENDAR