BEGIN:VCALENDAR
VERSION:2.0
PRODID:-//La Familia Counseling Center - ECPv6.15.20//NONSGML v1.0//EN
CALSCALE:GREGORIAN
METHOD:PUBLISH
X-WR-CALNAME:La Familia Counseling Center
X-ORIGINAL-URL:https://lafcc.org
X-WR-CALDESC:Events for La Familia Counseling Center
REFRESH-INTERVAL;VALUE=DURATION:PT1H
X-Robots-Tag:noindex
X-PUBLISHED-TTL:PT1H
BEGIN:VTIMEZONE
TZID:America/Los_Angeles
BEGIN:DAYLIGHT
TZOFFSETFROM:-0800
TZOFFSETTO:-0700
TZNAME:PDT
DTSTART:20160313T100000
END:DAYLIGHT
BEGIN:STANDARD
TZOFFSETFROM:-0700
TZOFFSETTO:-0800
TZNAME:PST
DTSTART:20161106T090000
END:STANDARD
BEGIN:DAYLIGHT
TZOFFSETFROM:-0800
TZOFFSETTO:-0700
TZNAME:PDT
DTSTART:20170312T100000
END:DAYLIGHT
BEGIN:STANDARD
TZOFFSETFROM:-0700
TZOFFSETTO:-0800
TZNAME:PST
DTSTART:20171105T090000
END:STANDARD
BEGIN:DAYLIGHT
TZOFFSETFROM:-0800
TZOFFSETTO:-0700
TZNAME:PDT
DTSTART:20180311T100000
END:DAYLIGHT
BEGIN:STANDARD
TZOFFSETFROM:-0700
TZOFFSETTO:-0800
TZNAME:PST
DTSTART:20181104T090000
END:STANDARD
BEGIN:DAYLIGHT
TZOFFSETFROM:-0800
TZOFFSETTO:-0700
TZNAME:PDT
DTSTART:20190310T100000
END:DAYLIGHT
BEGIN:STANDARD
TZOFFSETFROM:-0700
TZOFFSETTO:-0800
TZNAME:PST
DTSTART:20191103T090000
END:STANDARD
END:VTIMEZONE
BEGIN:VEVENT
DTSTART;TZID=America/Los_Angeles:20180315T100000
DTEND;TZID=America/Los_Angeles:20180315T120000
DTSTAMP:20260419T162514
CREATED:20180217T010839Z
LAST-MODIFIED:20180217T010839Z
UID:10002421-1521108000-1521115200@lafcc.org
SUMMARY:Career Center Orientation
DESCRIPTION:La Familia Career Center offers an Orientation designed to assist clients in \nCareer Development by providing: \n\nResume Writing Workshops\nBasic Computer Classes\nInterview Practices\nJob Placement Opportunities\n\nOur goal is to create new outcomes that will drive our community to greater heights. \n  \n\n  \nLa Familia Centro de Carreras ofrece una Orientación diseñada para ayudar a los clientes en el desarrollo de su carrera proveyendo: \n\nTalleres para la preparación historial de empleo\nClases básicas de computación\nPrácticas para entrevistas\nOportunidades para colocación de empleo\n\nNuestro objetivo es crear nuevos caminos que dirijiran a nuestra comunidad hacia mejores oportunidades.
URL:https://lafcc.org/event/career-center-orientation-127/
LOCATION:La Familia Counseling Center Inc.\, 5523 34th Street\, Sacramento\, 95820
END:VEVENT
BEGIN:VEVENT
DTSTART;TZID=America/Los_Angeles:20170927T173000
DTEND;TZID=America/Los_Angeles:20170927T183000
DTSTAMP:20260419T162514
CREATED:20170817T174204Z
LAST-MODIFIED:20170817T174319Z
UID:10002277-1506533400-1506537000@lafcc.org
SUMMARY:Zumba
DESCRIPTION:FREE! Zumba Classes!! \nGET READY TO MOVE AND GROVE \nEvery Wednesday from 5:30pm-6:30pm \n*Bring 1) comfortable shoes 2) water and a 3) towel \nFor additional information/questions please contact Susie Alcala \n\nGRATIS! Clases de Zumba  \nPREPARESE PARA BAILAR Y DISFRUTAR \nCada Miercoles de 5:30pm-6:30pm \n*Traiga 1)zapatos comodos 2) agua y 3)una toalla \nPara informacion adicional/preguntas favor de contactarse con Susie Alcala
URL:https://lafcc.org/event/zumba-151/
LOCATION:La Familia Counseling Center Inc.\, 5523 34th Street\, Sacramento\, 95820
END:VEVENT
BEGIN:VEVENT
DTSTART;TZID=America/Los_Angeles:20170920T173000
DTEND;TZID=America/Los_Angeles:20170920T183000
DTSTAMP:20260419T162514
CREATED:20170817T174037Z
LAST-MODIFIED:20170817T174037Z
UID:10002278-1505928600-1505932200@lafcc.org
SUMMARY:Zumba
DESCRIPTION:FREE! Zumba Classes!! \nGET READY TO MOVE AND GROVE \nEvery Wednesday from 5:30pm-6:30pm \n*Bring 1) comfortable shoes 2) water and a 3) towel \nFor additional information/questions please contact Susie Alcala \n\n\n   \nGRATIS! Clases de Zumba  \nPREPARESE PARA BAILAR Y DISFRUTAR \nCada Miercoles de 5:30pm-6:30pm \n*Traiga 1)zapatos comodos 2) agua y 3)una toalla \nPara informacion adicional/preguntas favor de contactarse con Susie Alcala
URL:https://lafcc.org/event/zumba-150/
LOCATION:La Familia Counseling Center Inc.\, 5523 34th Street\, Sacramento\, 95820
END:VEVENT
BEGIN:VEVENT
DTSTART;TZID=America/Los_Angeles:20170913T173000
DTEND;TZID=America/Los_Angeles:20170913T183000
DTSTAMP:20260419T162514
CREATED:20170817T173800Z
LAST-MODIFIED:20170817T173800Z
UID:10002276-1505323800-1505327400@lafcc.org
SUMMARY:Zumba
DESCRIPTION:FREE! Zumba Classes!! \nGET READY TO MOVE AND GROVE \nEvery Wednesday from 5:30pm-6:30pm \n*Bring 1) comfortable shoes 2) water and a 3) towel \nFor additional information/questions please contact Susie Alcala \n\n\nGRATIS! Clases de Zumba  \nPREPARESE PARA BAILAR Y DISFRUTAR \nCada Miercoles de 5:30pm-6:30pm \n*Traiga 1)zapatos comodos 2) agua y 3)una toalla \nPara informacion adicional/preguntas favor de contactarse con Susie Alcala
URL:https://lafcc.org/event/zumba-149/
LOCATION:La Familia Counseling Center Inc.\, 5523 34th Street\, Sacramento\, 95820
END:VEVENT
BEGIN:VEVENT
DTSTART;TZID=America/Los_Angeles:20170906T173000
DTEND;TZID=America/Los_Angeles:20170906T183000
DTSTAMP:20260419T162514
CREATED:20170817T173649Z
LAST-MODIFIED:20170817T173649Z
UID:10002275-1504719000-1504722600@lafcc.org
SUMMARY:Zumba
DESCRIPTION:FREE! Zumba Classes!! \nGET READY TO MOVE AND GROVE \nEvery Wednesday from 5:30pm-6:30pm \n*Bring 1) comfortable shoes 2) water and a 3) towel \nFor additional information/questions please contact Susie Alcala \n  \n\n  \n  \nGRATIS! Clases de Zumba  \nPREPARESE PARA BAILAR Y DISFRUTAR \nCada Miercoles de 5:30pm-6:30pm \n*Traiga 1)zapatos comodos 2) agua y 3)una toalla \nPara informacion adicional/preguntas favor de contactarse con Susie Alcala
URL:https://lafcc.org/event/zumba-148/
LOCATION:La Familia Counseling Center Inc.\, 5523 34th Street\, Sacramento\, 95820
END:VEVENT
BEGIN:VEVENT
DTSTART;TZID=America/Los_Angeles:20170830T173000
DTEND;TZID=America/Los_Angeles:20170830T183000
DTSTAMP:20260419T162514
CREATED:20170718T214216Z
LAST-MODIFIED:20170718T214216Z
UID:10002265-1504114200-1504117800@lafcc.org
SUMMARY:Zumba
DESCRIPTION:FREE! Zumba Classes!! \nGET READY TO MOVE AND GROVE \nEvery Wednesday from 5:30pm-6:30pm \n*Bring 1) comfortable shoes 2) water and a 3) towel \nFor additional information/questions please contact Susie Alcala \n  \n\n  \nGRATIS! Clases de Zumba  \nPREPARESE PARA BAILAR Y DISFRUTAR \nCada Miercoles de 5:30pm-6:30pm \n*Traiga 1)zapatos comodos 2) agua y 3)una toalla \nPara informacion adicional/preguntas favor de contactarse con Susie Alcala
URL:https://lafcc.org/event/zumba-147/
LOCATION:La Familia Counseling Center Inc.\, 5523 34th Street\, Sacramento\, 95820
END:VEVENT
BEGIN:VEVENT
DTSTART;TZID=America/Los_Angeles:20170823T173000
DTEND;TZID=America/Los_Angeles:20170823T183000
DTSTAMP:20260419T162514
CREATED:20170718T214102Z
LAST-MODIFIED:20170718T214102Z
UID:10000948-1503509400-1503513000@lafcc.org
SUMMARY:Zumba
DESCRIPTION:FREE! Zumba Classes!! \nGET READY TO MOVE AND GROVE \nEvery Wednesday from 5:30pm-6:30pm \n*Bring 1) comfortable shoes 2) water and a 3) towel \nFor additional information/questions please contact Susie Alcala \n  \n\n  \nGRATIS! Clases de Zumba  \nPREPARESE PARA BAILAR Y DISFRUTAR \nCada Miercoles de 5:30pm-6:30pm \n*Traiga 1)zapatos comodos 2) agua y 3)una toalla \nPara informacion adicional/preguntas favor de contactarse con Susie Alcala
URL:https://lafcc.org/event/zumba-146/
LOCATION:La Familia Counseling Center Inc.\, 5523 34th Street\, Sacramento\, 95820
END:VEVENT
BEGIN:VEVENT
DTSTART;TZID=America/Los_Angeles:20170802T173000
DTEND;TZID=America/Los_Angeles:20170802T183000
DTSTAMP:20260419T162514
CREATED:20170718T213504Z
LAST-MODIFIED:20170718T213504Z
UID:10000945-1501695000-1501698600@lafcc.org
SUMMARY:Zumba
DESCRIPTION:FREE! Zumba Classes!! \nGET READY TO MOVE AND GROVE \nEvery Wednesday from 5:30pm-6:30pm \n*Bring 1) comfortable shoes 2) water and a 3) towel \nFor additional information/questions please contact Susie Alcala \n  \n\n  \nGRATIS! Clases de Zumba  \nPREPARESE PARA BAILAR Y DISFRUTAR \nCada Miercoles de 5:30pm-6:30pm \n*Traiga 1)zapatos comodos 2) agua y 3)una toalla \nPara informacion adicional/preguntas favor de contactarse con Susie Alcala
URL:https://lafcc.org/event/zumba-143/
LOCATION:La Familia Counseling Center Inc.\, 5523 34th Street\, Sacramento\, 95820
END:VEVENT
BEGIN:VEVENT
DTSTART;TZID=America/Los_Angeles:20170726T173000
DTEND;TZID=America/Los_Angeles:20170726T183000
DTSTAMP:20260419T162514
CREATED:20170614T180715Z
LAST-MODIFIED:20170614T180715Z
UID:10000922-1501090200-1501093800@lafcc.org
SUMMARY:Zumba
DESCRIPTION:FREE! Zumba Classes!! \nGET READY TO MOVE AND GROVE \nEvery Wednesday from 5:30pm-6:30pm \n*Bring 1) comfortable shoes 2) water and a 3) towel \nFor additional information/questions please contact Susie Alcala \n\n\n\n  \nGRATIS! Clases de Zumba  \nPREPARESE PARA BAILAR Y DISFRUTAR \nCada Miercoles de 5:30pm-6:30pm \n*Traiga 1)zapatos comodos 2) agua y 3)una toalla \nPara informacion adicional/preguntas favor de contactarse con Susie Alcala
URL:https://lafcc.org/event/zumba-142/
LOCATION:La Familia Counseling Center Inc.\, 5523 34th Street\, Sacramento\, 95820
END:VEVENT
BEGIN:VEVENT
DTSTART;TZID=America/Los_Angeles:20170719T173000
DTEND;TZID=America/Los_Angeles:20170719T183000
DTSTAMP:20260419T162514
CREATED:20170614T180450Z
LAST-MODIFIED:20170614T180450Z
UID:10000921-1500485400-1500489000@lafcc.org
SUMMARY:Zumba
DESCRIPTION:FREE! Zumba Classes!! \nGET READY TO MOVE AND GROVE \nEvery Wednesday from 5:30pm-6:30pm \n*Bring 1) comfortable shoes 2) water and a 3) towel \nFor additional information/questions please contact Susie Alcala \n\n\n\n  \nGRATIS! Clases de Zumba  \nPREPARESE PARA BAILAR Y DISFRUTAR \nCada Miercoles de 5:30pm-6:30pm \n*Traiga 1)zapatos comodos 2) agua y 3)una toalla \nPara informacion adicional/preguntas favor de contactarse con Susie Alcala
URL:https://lafcc.org/event/zumba-141/
LOCATION:La Familia Counseling Center Inc.\, 5523 34th Street\, Sacramento\, 95820
END:VEVENT
BEGIN:VEVENT
DTSTART;TZID=America/Los_Angeles:20170712T173000
DTEND;TZID=America/Los_Angeles:20170712T183000
DTSTAMP:20260419T162514
CREATED:20170614T180225Z
LAST-MODIFIED:20170614T180225Z
UID:10000920-1499880600-1499884200@lafcc.org
SUMMARY:Zumba
DESCRIPTION:FREE! Zumba Classes!! \nGET READY TO MOVE AND GROVE \nEvery Wednesday from 5:30pm-6:30pm \n*Bring 1) comfortable shoes 2) water and a 3) towel \nFor additional information/questions please contact Susie Alcala \n\n\n\n  \nGRATIS! Clases de Zumba  \nPREPARESE PARA BAILAR Y DISFRUTAR \nCada Miercoles de 5:30pm-6:30pm \n*Traiga 1)zapatos comodos 2) agua y 3)una toalla \nPara informacion adicional/preguntas favor de contactarse con Susie Alcala
URL:https://lafcc.org/event/zumba-140/
LOCATION:La Familia Counseling Center Inc.\, 5523 34th Street\, Sacramento\, 95820
END:VEVENT
BEGIN:VEVENT
DTSTART;TZID=America/Los_Angeles:20170705T173000
DTEND;TZID=America/Los_Angeles:20170705T183000
DTSTAMP:20260419T162514
CREATED:20170614T180113Z
LAST-MODIFIED:20170614T180113Z
UID:10000919-1499275800-1499279400@lafcc.org
SUMMARY:Zumba
DESCRIPTION:FREE! Zumba Classes!! \nGET READY TO MOVE AND GROVE \nEvery Wednesday from 5:30pm-6:30pm \n*Bring 1) comfortable shoes 2) water and a 3) towel \nFor additional information/questions please contact Susie Alcala \n\n\n\n  \nGRATIS! Clases de Zumba  \nPREPARESE PARA BAILAR Y DISFRUTAR \nCada Miercoles de 5:30pm-6:30pm \n*Traiga 1)zapatos comodos 2) agua y 3)una toalla \nPara informacion adicional/preguntas favor de contactarse con Susie Alcala
URL:https://lafcc.org/event/zumba-139/
LOCATION:La Familia Counseling Center Inc.\, 5523 34th Street\, Sacramento\, 95820
END:VEVENT
BEGIN:VEVENT
DTSTART;TZID=America/Los_Angeles:20170628T173000
DTEND;TZID=America/Los_Angeles:20170628T183000
DTSTAMP:20260419T162514
CREATED:20170519T164415Z
LAST-MODIFIED:20170519T164415Z
UID:10000896-1498671000-1498674600@lafcc.org
SUMMARY:Zumba
DESCRIPTION:FREE! Zumba Classes!! \nGET READY TO MOVE AND GROVE \nEvery Wednesday from 5:30pm-6:30pm \n*Bring 1) comfortable shoes 2) water and a 3) towel \nFor additional information/questions please contact Susie Alcala \n\n\n\n  \nGRATIS! Clases de Zumba  \nPREPARESE PARA BAILAR Y DISFRUTAR \nCada Miercoles de 5:30pm-6:30pm \n*Traiga 1)zapatos comodos 2) agua y 3)una toalla \nPara informacion adicional/preguntas favor de contactarse con Susie Alcala
URL:https://lafcc.org/event/zumba-138/
LOCATION:La Familia Counseling Center Inc.\, 5523 34th Street\, Sacramento\, 95820
END:VEVENT
BEGIN:VEVENT
DTSTART;TZID=America/Los_Angeles:20170621T173000
DTEND;TZID=America/Los_Angeles:20170621T183000
DTSTAMP:20260419T162514
CREATED:20170519T164312Z
LAST-MODIFIED:20170519T164312Z
UID:10000895-1498066200-1498069800@lafcc.org
SUMMARY:Zumba
DESCRIPTION:FREE! Zumba Classes!! \nGET READY TO MOVE AND GROVE \nEvery Wednesday from 5:30pm-6:30pm \n*Bring 1) comfortable shoes 2) water and a 3) towel \nFor additional information/questions please contact Susie Alcala \n\n\n\n  \nGRATIS! Clases de Zumba  \nPREPARESE PARA BAILAR Y DISFRUTAR \nCada Miercoles de 5:30pm-6:30pm \n*Traiga 1)zapatos comodos 2) agua y 3)una toalla \nPara informacion adicional/preguntas favor de contactarse con Susie Alcala
URL:https://lafcc.org/event/zumba-137/
LOCATION:La Familia Counseling Center Inc.\, 5523 34th Street\, Sacramento\, 95820
END:VEVENT
BEGIN:VEVENT
DTSTART;TZID=America/Los_Angeles:20170614T173000
DTEND;TZID=America/Los_Angeles:20170614T183000
DTSTAMP:20260419T162514
CREATED:20170519T164146Z
LAST-MODIFIED:20170519T164146Z
UID:10000894-1497461400-1497465000@lafcc.org
SUMMARY:Zumba
DESCRIPTION:FREE! Zumba Classes!! \nGET READY TO MOVE AND GROVE \nEvery Wednesday from 5:30pm-6:30pm \n*Bring 1) comfortable shoes 2) water and a 3) towel \nFor additional information/questions please contact Susie Alcala \n\n\n\n  \nGRATIS! Clases de Zumba  \nPREPARESE PARA BAILAR Y DISFRUTAR \nCada Miercoles de 5:30pm-6:30pm \n*Traiga 1)zapatos comodos 2) agua y 3)una toalla \nPara informacion adicional/preguntas favor de contactarse con Susie Alcala
URL:https://lafcc.org/event/zumba-136/
LOCATION:La Familia Counseling Center Inc.\, 5523 34th Street\, Sacramento\, 95820
END:VEVENT
BEGIN:VEVENT
DTSTART;TZID=America/Los_Angeles:20170607T173000
DTEND;TZID=America/Los_Angeles:20170607T183000
DTSTAMP:20260419T162514
CREATED:20170519T163955Z
LAST-MODIFIED:20170519T163955Z
UID:10000892-1496856600-1496860200@lafcc.org
SUMMARY:Zumba
DESCRIPTION:FREE! Zumba Classes!! \nGET READY TO MOVE AND GROVE \nEvery Wednesday from 5:30pm-6:30pm \n*Bring 1) comfortable shoes 2) water and a 3) towel \nFor additional information/questions please contact Susie Alcala \n\n\n\n  \nGRATIS! Clases de Zumba  \nPREPARESE PARA BAILAR Y DISFRUTAR \nCada Miercoles de 5:30pm-6:30pm \n*Traiga 1)zapatos comodos 2) agua y 3)una toalla \nPara informacion adicional/preguntas favor de contactarse con Susie Alcala
URL:https://lafcc.org/event/zumba-135/
LOCATION:La Familia Counseling Center Inc.\, 5523 34th Street\, Sacramento\, 95820
END:VEVENT
BEGIN:VEVENT
DTSTART;TZID=America/Los_Angeles:20170531T173000
DTEND;TZID=America/Los_Angeles:20170531T183000
DTSTAMP:20260419T162514
CREATED:20170411T000803Z
LAST-MODIFIED:20170411T000803Z
UID:10000856-1496251800-1496255400@lafcc.org
SUMMARY:Zumba
DESCRIPTION:FREE! Zumba Classes!! \nGET READY TO MOVE AND GROVE \nEvery Wednesday from 5:30pm-6:30pm \n*Bring 1) comfortable shoes 2) water and a 3) towel \nFor additional information/questions please contact Susie Alcala \n\n\n\n  \nGRATIS! Clases de Zumba  \nPREPARESE PARA BAILAR Y DISFRUTAR \nCada Miercoles de 5:30pm-6:30pm \n*Traiga 1)zapatos comodos 2) agua y 3)una toalla \nPara informacion adicional/preguntas favor de contactarse con Susie Alcala
URL:https://lafcc.org/event/zumba-134/
LOCATION:La Familia Counseling Center Inc.\, 5523 34th Street\, Sacramento\, 95820
END:VEVENT
BEGIN:VEVENT
DTSTART;TZID=America/Los_Angeles:20170524T173000
DTEND;TZID=America/Los_Angeles:20170524T183000
DTSTAMP:20260419T162514
CREATED:20170411T000701Z
LAST-MODIFIED:20170411T000701Z
UID:10000855-1495647000-1495650600@lafcc.org
SUMMARY:Zumba
DESCRIPTION:FREE! Zumba Classes!! \nGET READY TO MOVE AND GROVE \nEvery Wednesday from 5:30pm-6:30pm \n*Bring 1) comfortable shoes 2) water and a 3) towel \nFor additional information/questions please contact Susie Alcala \n\n\n  \nGRATIS! Clases de Zumba  \nPREPARESE PARA BAILAR Y DISFRUTAR \nCada Miercoles de 5:30pm-6:30pm \n*Traiga 1)zapatos comodos 2) agua y 3)una toalla \nPara informacion adicional/preguntas favor de contactarse con Susie Alcala
URL:https://lafcc.org/event/zumba-133/
LOCATION:La Familia Counseling Center Inc.\, 5523 34th Street\, Sacramento\, 95820
END:VEVENT
BEGIN:VEVENT
DTSTART;TZID=America/Los_Angeles:20170517T053000
DTEND;TZID=America/Los_Angeles:20170517T183000
DTSTAMP:20260419T162514
CREATED:20170411T000447Z
LAST-MODIFIED:20170411T000447Z
UID:10000853-1494999000-1495045800@lafcc.org
SUMMARY:Zumba
DESCRIPTION:FREE! Zumba Classes!! \nGET READY TO MOVE AND GROVE \nEvery Wednesday from 5:30pm-6:30pm \n*Bring 1) comfortable shoes 2) water and a 3) towel \nFor additional information/questions please contact Susie Alcala \n\n\n  \nGRATIS! Clases de Zumba  \nPREPARESE PARA BAILAR Y DISFRUTAR \nCada Miercoles de 5:30pm-6:30pm \n*Traiga 1)zapatos comodos 2) agua y 3)una toalla \nPara informacion adicional/preguntas favor de contactarse con Susie Alcala
URL:https://lafcc.org/event/zumba-131/
LOCATION:La Familia Counseling Center Inc.\, 5523 34th Street\, Sacramento\, 95820
END:VEVENT
BEGIN:VEVENT
DTSTART;TZID=America/Los_Angeles:20170510T173000
DTEND;TZID=America/Los_Angeles:20170510T183000
DTSTAMP:20260419T162514
CREATED:20170411T000559Z
LAST-MODIFIED:20170411T000559Z
UID:10000854-1494437400-1494441000@lafcc.org
SUMMARY:Zumba
DESCRIPTION:FREE! Zumba Classes!! \nGET READY TO MOVE AND GROVE \nEvery Wednesday from 5:30pm-6:30pm \n*Bring 1) comfortable shoes 2) water and a 3) towel \nFor additional information/questions please contact Susie Alcala \n\n\n\n  \nGRATIS! Clases de Zumba  \nPREPARESE PARA BAILAR Y DISFRUTAR \nCada Miercoles de 5:30pm-6:30pm \n*Traiga 1)zapatos comodos 2) agua y 3)una toalla \nPara informacion adicional/preguntas favor de contactarse con Susie Alcala
URL:https://lafcc.org/event/zumba-132/
LOCATION:La Familia Counseling Center Inc.\, 5523 34th Street\, Sacramento\, 95820
END:VEVENT
BEGIN:VEVENT
DTSTART;TZID=America/Los_Angeles:20170503T173000
DTEND;TZID=America/Los_Angeles:20170503T183000
DTSTAMP:20260419T162514
CREATED:20170411T000203Z
LAST-MODIFIED:20170411T000203Z
UID:10000852-1493832600-1493836200@lafcc.org
SUMMARY:Zumba
DESCRIPTION:FREE! Zumba Classes!! \nGET READY TO MOVE AND GROVE \nEvery Wednesday from 5:30pm-6:30pm \n*Bring 1) comfortable shoes 2) water and a 3) towel \nFor additional information/questions please contact Susie Alcala \n\n\n\n  \nGRATIS! Clases de Zumba  \nPREPARESE PARA BAILAR Y DISFRUTAR \nCada Miercoles de 5:30pm-6:30pm \n*Traiga 1)zapatos comodos 2) agua y 3)una toalla \nPara informacion adicional/preguntas favor de contactarse con Susie Alcala
URL:https://lafcc.org/event/zumba-130/
LOCATION:La Familia Counseling Center Inc.\, 5523 34th Street\, Sacramento\, 95820
END:VEVENT
BEGIN:VEVENT
DTSTART;TZID=America/Los_Angeles:20170426T173000
DTEND;TZID=America/Los_Angeles:20170426T183000
DTSTAMP:20260419T162514
CREATED:20170321T192129Z
LAST-MODIFIED:20170321T192129Z
UID:10002154-1493227800-1493231400@lafcc.org
SUMMARY:Zumba
DESCRIPTION:FREE! Zumba Classes!! \nGET READY TO MOVE AND GROVE \nEvery Wednesday from 5:30pm-6:30pm \n*Bring 1) comfortable shoes 2) water and a 3) towel \nFor additional information/questions please contact Susie Alcala \n\n\n\n  \nGRATIS! Clases de Zumba  \nPREPARESE PARA BAILAR Y DISFRUTAR \nCada Miercoles de 5:30pm-6:30pm \n*Traiga 1)zapatos comodos 2) agua y 3)una toalla \nPara informacion adicional/preguntas favor de contactarse con Susie Alcala
URL:https://lafcc.org/event/zumba-129/
LOCATION:La Familia Counseling Center Inc.\, 5523 34th Street\, Sacramento\, 95820
END:VEVENT
BEGIN:VEVENT
DTSTART;TZID=America/Los_Angeles:20170419T173000
DTEND;TZID=America/Los_Angeles:20170419T183000
DTSTAMP:20260419T162514
CREATED:20170321T191844Z
LAST-MODIFIED:20170321T191844Z
UID:10002153-1492623000-1492626600@lafcc.org
SUMMARY:Zumba
DESCRIPTION:FREE! Zumba Classes!! \nGET READY TO MOVE AND GROVE \nEvery Wednesday from 5:30pm-6:30pm \n*Bring 1) comfortable shoes 2) water and a 3) towel \nFor additional information/questions please contact Susie Alcala \n\n\n\n  \nGRATIS! Clases de Zumba  \nPREPARESE PARA BAILAR Y DISFRUTAR \nCada Miercoles de 5:30pm-6:30pm \n*Traiga 1)zapatos comodos 2) agua y 3)una toalla \nPara informacion adicional/preguntas favor de contactarse con Susie Alcala
URL:https://lafcc.org/event/zumba-128/
LOCATION:La Familia Counseling Center Inc.\, 5523 34th Street\, Sacramento\, 95820
END:VEVENT
BEGIN:VEVENT
DTSTART;TZID=America/Los_Angeles:20170412T173000
DTEND;TZID=America/Los_Angeles:20170412T183000
DTSTAMP:20260419T162514
CREATED:20170321T185612Z
LAST-MODIFIED:20170321T185612Z
UID:10002152-1492018200-1492021800@lafcc.org
SUMMARY:Zumba
DESCRIPTION:FREE! Zumba Classes!! \nGET READY TO MOVE AND GROVE \nEvery Wednesday from 5:30pm-6:30pm \n*Bring 1) comfortable shoes 2) water and a 3) towel \nFor additional information/questions please contact Susie Alcala \n\n\n\n  \nGRATIS! Clases de Zumba  \nPREPARESE PARA BAILAR Y DISFRUTAR \nCada Miercoles de 5:30pm-6:30pm \n*Traiga 1)zapatos comodos 2) agua y 3)una toalla \nPara informacion adicional/preguntas favor de contactarse con Susie Alcala
URL:https://lafcc.org/event/zumba-127/
LOCATION:La Familia Counseling Center Inc.\, 5523 34th Street\, Sacramento\, 95820
END:VEVENT
BEGIN:VEVENT
DTSTART;TZID=America/Los_Angeles:20170405T173000
DTEND;TZID=America/Los_Angeles:20170405T183000
DTSTAMP:20260419T162514
CREATED:20170321T184321Z
LAST-MODIFIED:20170321T184321Z
UID:10002151-1491413400-1491417000@lafcc.org
SUMMARY:Zumba
DESCRIPTION:FREE! Zumba Classes!! \nGET READY TO MOVE AND GROVE \nEvery Wednesday from 5:30pm-6:30pm \n*Bring 1) comfortable shoes 2) water and a 3) towel \nFor additional information/questions please contact Susie Alcala \n\n\n\nGRATIS! Clases de Zumba  \nPREPARESE PARA BAILAR Y DISFRUTAR \nCada Miercoles de 5:30pm-6:30pm \n*Traiga 1)zapatos comodos 2) agua y 3)una toalla \nPara informacion adicional/preguntas favor de contactarse con Susie Alcala
URL:https://lafcc.org/event/zumba-126/
LOCATION:La Familia Counseling Center Inc.\, 5523 34th Street\, Sacramento\, 95820
END:VEVENT
BEGIN:VEVENT
DTSTART;TZID=America/Los_Angeles:20170329T173000
DTEND;TZID=America/Los_Angeles:20170329T183000
DTSTAMP:20260419T162514
CREATED:20170208T202724Z
LAST-MODIFIED:20170208T202724Z
UID:10002121-1490808600-1490812200@lafcc.org
SUMMARY:Zumba
DESCRIPTION:FREE! Zumba Classes!! \nGET READY TO MOVE AND GROVE \nEvery Wednesday from 5:30pm-6:30pm \n*Bring 1) comfortable shoes 2) water and a 3) towel \nFor additional information/questions please contact Susie Alcala \n\n\n\n  \nGRATIS! Clases de Zumba  \nPREPARESE PARA BAILAR Y DISFRUTAR \nCada Miercoles de 5:30pm-6:30pm \n*Traiga 1)zapatos comodos 2) agua y 3)una toalla \nPara informacion adicional/preguntas favor de contactarse con Susie Alcala
URL:https://lafcc.org/event/zumba-124/
LOCATION:La Familia Counseling Center Inc.\, 5523 34th Street\, Sacramento\, 95820
END:VEVENT
BEGIN:VEVENT
DTSTART;TZID=America/Los_Angeles:20170322T173000
DTEND;TZID=America/Los_Angeles:20170322T183000
DTSTAMP:20260419T162514
CREATED:20170208T202849Z
LAST-MODIFIED:20170208T202849Z
UID:10002122-1490203800-1490207400@lafcc.org
SUMMARY:Zumba
DESCRIPTION:FREE! Zumba Classes!! \nGET READY TO MOVE AND GROVE \nEvery Wednesday from 5:30pm-6:30pm \n*Bring 1) comfortable shoes 2) water and a 3) towel \nFor additional information/questions please contact Susie Alcala \n\n\n\n  \nGRATIS! Clases de Zumba  \nPREPARESE PARA BAILAR Y DISFRUTAR \nCada Miercoles de 5:30pm-6:30pm \n*Traiga 1)zapatos comodos 2) agua y 3)una toalla \nPara informacion adicional/preguntas favor de contactarse con Susie Alcala
URL:https://lafcc.org/event/zumba-125/
LOCATION:La Familia Counseling Center Inc.\, 5523 34th Street\, Sacramento\, 95820
END:VEVENT
BEGIN:VEVENT
DTSTART;TZID=America/Los_Angeles:20170321T100000
DTEND;TZID=America/Los_Angeles:20170321T120000
DTSTAMP:20260419T162514
CREATED:20170208T203126Z
LAST-MODIFIED:20170208T203126Z
UID:10002124-1490090400-1490097600@lafcc.org
SUMMARY:Parent Support Group
DESCRIPTION:Families with children between the ages 0-5 years of age are invited to participate in our weekly Parent Stress Reducing Class.\nPlay care available for children 0-5 years of age!\nMake new friends!\nLearn to make:\nChapstick!\nPaper Mache!\nDesserts\, etc!\nLots of Art & Crafts!\n_____________________________________________________________________________\nFamilias con hijos de 0-5 años son invitados para participar en nuestro grupo semanal Reducimiento del Estres.\nCuidado de niños disponible para edades 0-5 años!\nHaga nuevos amigos!\nAprenda a hacer:\nAnimales de Papel!\nPostres\, etc!\nArte y Artesania!
URL:https://lafcc.org/event/parent-support-group-97/
LOCATION:La Familia Counseling Center Inc.\, 5523 34th Street\, Sacramento\, 95820
END:VEVENT
BEGIN:VEVENT
DTSTART;TZID=America/Los_Angeles:20170315T173000
DTEND;TZID=America/Los_Angeles:20170315T183000
DTSTAMP:20260419T162514
CREATED:20170208T202300Z
LAST-MODIFIED:20170208T202300Z
UID:10002120-1489599000-1489602600@lafcc.org
SUMMARY:Zumba
DESCRIPTION:FREE! Zumba Classes!! \nGET READY TO MOVE AND GROVE \nEvery Wednesday from 5:30pm-6:30pm \n*Bring 1) comfortable shoes 2) water and a 3) towel \nFor additional information/questions please contact Susie Alcala \n\n\n\n  \nGRATIS! Clases de Zumba  \nPREPARESE PARA BAILAR Y DISFRUTAR \nCada Miercoles de 5:30pm-6:30pm \n*Traiga 1)zapatos comodos 2) agua y 3)una toalla \nPara informacion adicional/preguntas favor de contactarse con Susie Alcala
URL:https://lafcc.org/event/zumba-123/
LOCATION:La Familia Counseling Center Inc.\, 5523 34th Street\, Sacramento\, 95820
END:VEVENT
BEGIN:VEVENT
DTSTART;TZID=America/Los_Angeles:20170308T173000
DTEND;TZID=America/Los_Angeles:20170308T183000
DTSTAMP:20260419T162514
CREATED:20170208T202054Z
LAST-MODIFIED:20170208T202054Z
UID:10002119-1488994200-1488997800@lafcc.org
SUMMARY:Zumba
DESCRIPTION:FREE! Zumba Classes!! \nGET READY TO MOVE AND GROVE \nEvery Wednesday from 5:30pm-6:30pm \n*Bring 1) comfortable shoes 2) water and a 3) towel \nFor additional information/questions please contact Susie Alcala \n\n\n\n  \nGRATIS! Clases de Zumba  \nPREPARESE PARA BAILAR Y DISFRUTAR \nCada Miercoles de 5:30pm-6:30pm \n*Traiga 1)zapatos comodos 2) agua y 3)una toalla \nPara informacion adicional/preguntas favor de contactarse con Susie Alcala
URL:https://lafcc.org/event/zumba-122/
LOCATION:La Familia Counseling Center Inc.\, 5523 34th Street\, Sacramento\, 95820
END:VEVENT
END:VCALENDAR