BEGIN:VCALENDAR
VERSION:2.0
PRODID:-//La Familia Counseling Center - ECPv6.15.20//NONSGML v1.0//EN
CALSCALE:GREGORIAN
METHOD:PUBLISH
X-ORIGINAL-URL:https://lafcc.org
X-WR-CALDESC:Events for La Familia Counseling Center
REFRESH-INTERVAL;VALUE=DURATION:PT1H
X-Robots-Tag:noindex
X-PUBLISHED-TTL:PT1H
BEGIN:VTIMEZONE
TZID:America/Los_Angeles
BEGIN:DAYLIGHT
TZOFFSETFROM:-0800
TZOFFSETTO:-0700
TZNAME:PDT
DTSTART:20130310T100000
END:DAYLIGHT
BEGIN:STANDARD
TZOFFSETFROM:-0700
TZOFFSETTO:-0800
TZNAME:PST
DTSTART:20131103T090000
END:STANDARD
BEGIN:DAYLIGHT
TZOFFSETFROM:-0800
TZOFFSETTO:-0700
TZNAME:PDT
DTSTART:20140309T100000
END:DAYLIGHT
BEGIN:STANDARD
TZOFFSETFROM:-0700
TZOFFSETTO:-0800
TZNAME:PST
DTSTART:20141102T090000
END:STANDARD
BEGIN:DAYLIGHT
TZOFFSETFROM:-0800
TZOFFSETTO:-0700
TZNAME:PDT
DTSTART:20150308T100000
END:DAYLIGHT
BEGIN:STANDARD
TZOFFSETFROM:-0700
TZOFFSETTO:-0800
TZNAME:PST
DTSTART:20151101T090000
END:STANDARD
BEGIN:DAYLIGHT
TZOFFSETFROM:-0800
TZOFFSETTO:-0700
TZNAME:PDT
DTSTART:20160313T100000
END:DAYLIGHT
BEGIN:STANDARD
TZOFFSETFROM:-0700
TZOFFSETTO:-0800
TZNAME:PST
DTSTART:20161106T090000
END:STANDARD
BEGIN:DAYLIGHT
TZOFFSETFROM:-0800
TZOFFSETTO:-0700
TZNAME:PDT
DTSTART:20170312T100000
END:DAYLIGHT
BEGIN:STANDARD
TZOFFSETFROM:-0700
TZOFFSETTO:-0800
TZNAME:PST
DTSTART:20171105T090000
END:STANDARD
END:VTIMEZONE
BEGIN:VEVENT
DTSTART;TZID=America/Los_Angeles:20161102T173000
DTEND;TZID=America/Los_Angeles:20161102T183000
DTSTAMP:20260419T232642
CREATED:20161021T170657Z
LAST-MODIFIED:20161021T170657Z
UID:10000697-1478107800-1478111400@lafcc.org
SUMMARY:Zumba
DESCRIPTION:FREE! Zumba Classes!! \nGET READY TO MOVE AND GROVE \nEvery Wednesday from 5:30pm-6:30pm \n*Bring 1) comfortable shoes 2) water and a 3) towel \nFor additional information/questions please contact Susie Alcala \n  \n\n  \n  \nGRATIS! Clases de Zumba  \nPREPARESE PARA BAILAR Y DISFRUTAR \nCada Miercoles de 5:30pm-6:30pm \n*Traiga 1)zapatos comodos 2) agua y 3)una toalla \nPara informacion adicional/preguntas favor de contactarse con Susie Alcala
URL:https://lafcc.org/event/zumba-102/
LOCATION:La Familia Counseling Center Inc.\, 5523 34th Street\, Sacramento\, 95820
END:VEVENT
BEGIN:VEVENT
DTSTART;TZID=America/Los_Angeles:20161026T173000
DTEND;TZID=America/Los_Angeles:20161026T183000
DTSTAMP:20260419T232642
CREATED:20160915T180820Z
LAST-MODIFIED:20160915T180820Z
UID:10001994-1477503000-1477506600@lafcc.org
SUMMARY:Zumba
DESCRIPTION:FREE! Zumba Classes!!\nGET READY TO MOVE AND GROVE\nEvery Wednesday from 5:30pm-6:30pm\n*Bring 1) comfortable shoes 2) water and a 3) towel\nFor additional information/questions please contact Susie Alcala \n\nGRATIS! Clases de Zumba\nPREPARESE PARA BAILAR Y DISFRUTAR\nCada Miercoles de 5:30pm-6:30pm\n*Traiga 1)zapatos comodos 2) agua y 3)una toalla\nPara informacion adicional/preguntas favor de contactarse con Susie Alcala
URL:https://lafcc.org/event/zumba-101/
END:VEVENT
BEGIN:VEVENT
DTSTART;TZID=America/Los_Angeles:20161019T173000
DTEND;TZID=America/Los_Angeles:20161019T183000
DTSTAMP:20260419T232642
CREATED:20160915T180654Z
LAST-MODIFIED:20160915T180654Z
UID:10001993-1476898200-1476901800@lafcc.org
SUMMARY:Zumba
DESCRIPTION:FREE! Zumba Classes!!\nGET READY TO MOVE AND GROVE\nEvery Wednesday from 5:30pm-6:30pm\n*Bring 1) comfortable shoes 2) water and a 3) towel\nFor additional information/questions please contact Susie Alcala \n\nGRATIS! Clases de Zumba\nPREPARESE PARA BAILAR Y DISFRUTAR\nCada Miercoles de 5:30pm-6:30pm\n*Traiga 1)zapatos comodos 2) agua y 3)una toalla\nPara informacion adicional/preguntas favor de contactarse con Susie Alcala
URL:https://lafcc.org/event/zumba-100/
END:VEVENT
BEGIN:VEVENT
DTSTART;TZID=America/Los_Angeles:20161012T173000
DTEND;TZID=America/Los_Angeles:20161012T183000
DTSTAMP:20260419T232642
CREATED:20160915T180551Z
LAST-MODIFIED:20160915T180551Z
UID:10001992-1476293400-1476297000@lafcc.org
SUMMARY:Zumba
DESCRIPTION:FREE! Zumba Classes!!\nGET READY TO MOVE AND GROVE\nEvery Wednesday from 5:30pm-6:30pm\n*Bring 1) comfortable shoes 2) water and a 3) towel\nFor additional information/questions please contact Susie Alcala \n\nGRATIS! Clases de Zumba\nPREPARESE PARA BAILAR Y DISFRUTAR\nCada Miercoles de 5:30pm-6:30pm\n*Traiga 1)zapatos comodos 2) agua y 3)una toalla\nPara informacion adicional/preguntas favor de contactarse con Susie Alcala
URL:https://lafcc.org/event/zumba-99/
END:VEVENT
BEGIN:VEVENT
DTSTART;TZID=America/Los_Angeles:20161005T173000
DTEND;TZID=America/Los_Angeles:20161005T183000
DTSTAMP:20260419T232642
CREATED:20160915T180450Z
LAST-MODIFIED:20160915T180450Z
UID:10001991-1475688600-1475692200@lafcc.org
SUMMARY:Zumba
DESCRIPTION:FREE! Zumba Classes!!\nGET READY TO MOVE AND GROVE\nEvery Wednesday from 5:30pm-6:30pm\n*Bring 1) comfortable shoes 2) water and a 3) towel\nFor additional information/questions please contact Susie Alcala \n\nGRATIS! Clases de Zumba\nPREPARESE PARA BAILAR Y DISFRUTAR\nCada Miercoles de 5:30pm-6:30pm\n*Traiga 1)zapatos comodos 2) agua y 3)una toalla\nPara informacion adicional/preguntas favor de contactarse con Susie Alcala
URL:https://lafcc.org/event/zumba-98/
END:VEVENT
BEGIN:VEVENT
DTSTART;TZID=America/Los_Angeles:20160928T173000
DTEND;TZID=America/Los_Angeles:20160928T183000
DTSTAMP:20260419T232642
CREATED:20160818T183401Z
LAST-MODIFIED:20160818T183401Z
UID:10001980-1475083800-1475087400@lafcc.org
SUMMARY:Zumba
DESCRIPTION:FREE! Zumba Classes!!\nGET READY TO MOVE AND GROVE\nEvery Wednesday from 5:30pm-6:30pm\n*Bring 1) comfortable shoes 2) water and a 3) towel\nFor additional information/questions please contact Susie Alcala \n\n\nGRATIS! Clases de Zumba\nPREPARESE PARA BAILAR Y DISFRUTAR\nCada Miercoles de 5:30pm-6:30pm\n*Traiga 1)zapatos comodos 2) agua y 3)una toalla\nPara informacion adicional/preguntas favor de contactarse con Susie Alcala
URL:https://lafcc.org/event/zumba-97/
LOCATION:La Familia Counseling Center Inc.\, 5523 34th Street\, Sacramento\, 95820
END:VEVENT
BEGIN:VEVENT
DTSTART;TZID=America/Los_Angeles:20160921T173000
DTEND;TZID=America/Los_Angeles:20160921T183000
DTSTAMP:20260419T232642
CREATED:20160818T182936Z
LAST-MODIFIED:20160818T182936Z
UID:10001979-1474479000-1474482600@lafcc.org
SUMMARY:Zumba
DESCRIPTION:FREE! Zumba Classes!!\nGET READY TO MOVE AND GROVE\nEvery Wednesday from 5:30pm-6:30pm\n*Bring 1) comfortable shoes 2) water and a 3) towel\nFor additional information/questions please contact Susie Alcala \n\n\nGRATIS! Clases de Zumba\nPREPARESE PARA BAILAR Y DISFRUTAR\nCada Miercoles de 5:30pm-6:30pm\n*Traiga 1)zapatos comodos 2) agua y 3)una toalla\nPara informacion adicional/preguntas favor de contactarse con Susie Alcala
URL:https://lafcc.org/event/zumba-96/
LOCATION:La Familia Counseling Center Inc.\, 5523 34th Street\, Sacramento\, 95820
END:VEVENT
BEGIN:VEVENT
DTSTART;TZID=America/Los_Angeles:20160914T173000
DTEND;TZID=America/Los_Angeles:20160914T183000
DTSTAMP:20260419T232642
CREATED:20160818T182818Z
LAST-MODIFIED:20160818T182818Z
UID:10001978-1473874200-1473877800@lafcc.org
SUMMARY:Zumba
DESCRIPTION:FREE! Zumba Classes!!\nGET READY TO MOVE AND GROVE\nEvery Wednesday from 5:30pm-6:30pm\n*Bring 1) comfortable shoes 2) water and a 3) towel\nFor additional information/questions please contact Susie Alcala \n\n\nGRATIS! Clases de Zumba\nPREPARESE PARA BAILAR Y DISFRUTAR\nCada Miercoles de 5:30pm-6:30pm\n*Traiga 1)zapatos comodos 2) agua y 3)una toalla\nPara informacion adicional/preguntas favor de contactarse con Susie Alcala
URL:https://lafcc.org/event/zumba-95/
LOCATION:La Familia Counseling Center Inc.\, 5523 34th Street\, Sacramento\, 95820
END:VEVENT
BEGIN:VEVENT
DTSTART;TZID=America/Los_Angeles:20160907T173000
DTEND;TZID=America/Los_Angeles:20160907T183000
DTSTAMP:20260419T232642
CREATED:20160818T182556Z
LAST-MODIFIED:20160818T182647Z
UID:10001977-1473269400-1473273000@lafcc.org
SUMMARY:Zumba
DESCRIPTION:FREE! Zumba Classes!!\nGET READY TO MOVE AND GROVE\nEvery Wednesday from 5:30pm-6:30pm\n*Bring 1) comfortable shoes 2) water and a 3) towel\nFor additional information/questions please contact Susie Alcala \n\nGRATIS! Clases de Zumba\nPREPARESE PARA BAILAR Y DISFRUTAR\nCada Miercoles de 5:30pm-6:30pm\n*Traiga 1)zapatos comodos 2) agua y 3)una toalla\nPara informacion adicional/preguntas favor de contactarse con Susie Alcala
URL:https://lafcc.org/event/zumba-94/
LOCATION:La Familia Counseling Center Inc.\, 5523 34th Street\, Sacramento\, 95820
END:VEVENT
BEGIN:VEVENT
DTSTART;TZID=America/Los_Angeles:20160831T173000
DTEND;TZID=America/Los_Angeles:20160831T183000
DTSTAMP:20260419T232642
CREATED:20160805T234445Z
LAST-MODIFIED:20160805T234509Z
UID:10000642-1472664600-1472668200@lafcc.org
SUMMARY:Zumba
DESCRIPTION:FREE! Zumba Classes!!\nGET READY TO MOVE AND GROVE\nEvery Wednesday from 5:30pm-6:30pm\n*Bring 1) comfortable shoes 2) water and a 3) towel\nFor additional information/questions please contact Susie Alcala \n\nGRATIS! Clases de Zumba\nPREPARESE PARA BAILAR Y DISFRUTAR\nCada Miercoles de 5:30pm-6:30pm\n*Traiga 1)zapatos comodos 2) agua y 3)una toalla\nPara informacion adicional/preguntas favor de contactarse con Susie Alcala
URL:https://lafcc.org/event/zumba-93/
END:VEVENT
BEGIN:VEVENT
DTSTART;TZID=America/Los_Angeles:20160824T173000
DTEND;TZID=America/Los_Angeles:20160824T183000
DTSTAMP:20260419T232642
CREATED:20160708T204019Z
LAST-MODIFIED:20160708T204019Z
UID:10000633-1472059800-1472063400@lafcc.org
SUMMARY:Zumba
DESCRIPTION:FREE! Zumba Classes!! \nGET READY TO MOVE AND GROVE \nEvery Wednesday from 5:30pm-6:30pm \n*Bring 1) comfortable shoes 2) water and a 3) towel \nFor additional information/questions please contact Susie Alcala \n  \n\n  \n  \nGRATIS! Clases de Zumba  \nPREPARESE PARA BAILAR Y DISFRUTAR \nCada Miercoles de 5:30pm-6:30pm \n*Traiga 1)zapatos comodos 2) agua y 3)una toalla \nPara informacion adicional/preguntas favor de contactarse con Susie Alcala
URL:https://lafcc.org/event/zumba-91/
END:VEVENT
BEGIN:VEVENT
DTSTART;TZID=America/Los_Angeles:20160817T173000
DTEND;TZID=America/Los_Angeles:20160817T183000
DTSTAMP:20260419T232642
CREATED:20160708T204205Z
LAST-MODIFIED:20160708T204205Z
UID:10000635-1471455000-1471458600@lafcc.org
SUMMARY:Zumba
DESCRIPTION:FREE! Zumba Classes!! \nGET READY TO MOVE AND GROVE \nEvery Wednesday from 5:30pm-6:30pm \n*Bring 1) comfortable shoes 2) water and a 3) towel \nFor additional information/questions please contact Susie Alcala \n  \n\n  \n GRATIS! Clases de Zumba \nPREPARESE PARA BAILAR Y DISFRUTAR \nCada Miercoles de 5:30pm-6:30pm \n*Traiga 1)zapatos comodos 2) agua y 3)una toalla \nPara informacion adicional/preguntas favor de contactarse con Susie Alcala
URL:https://lafcc.org/event/zumba-92/
END:VEVENT
BEGIN:VEVENT
DTSTART;TZID=America/Los_Angeles:20160810T173000
DTEND;TZID=America/Los_Angeles:20160810T183000
DTSTAMP:20260419T232642
CREATED:20160708T203850Z
LAST-MODIFIED:20160708T203850Z
UID:10000631-1470850200-1470853800@lafcc.org
SUMMARY:Zumba
DESCRIPTION:FREE! Zumba Classes!! \nGET READY TO MOVE AND GROVE \nEvery Wednesday from 5:30pm-6:30pm \n*Bring 1) comfortable shoes 2) water and a 3) towel \nFor additional information/questions please contact Susie Alcala \n  \n\n  \n  \nGRATIS! Clases de Zumba  \nPREPARESE PARA BAILAR Y DISFRUTAR \nCada Miercoles de 5:30pm-6:30pm \n*Traiga 1)zapatos comodos 2) agua y 3)una toalla \nPara informacion adicional/preguntas favor de contactarse con Susie Alcala
URL:https://lafcc.org/event/zumba-90/
END:VEVENT
BEGIN:VEVENT
DTSTART;TZID=America/Los_Angeles:20160803T173000
DTEND;TZID=America/Los_Angeles:20160803T183000
DTSTAMP:20260419T232642
CREATED:20160708T201415Z
LAST-MODIFIED:20160708T201500Z
UID:10000630-1470245400-1470249000@lafcc.org
SUMMARY:Zumba
DESCRIPTION:FREE! Zumba Classes!! \nGET READY TO MOVE AND GROVE \nEvery Wednesday from 5:30pm-6:30pm \n*Bring 1) comfortable shoes 2) water and a 3) towel \nFor additional information/questions please contact Susie Alcala \n  \n\n  \n  \nGRATIS! Clases de Zumba  \nPREPARESE PARA BAILAR Y DISFRUTAR \nCada Miercoles de 5:30pm-6:30pm \n*Traiga 1)zapatos comodos 2) agua y 3)una toalla \nPara informacion adicional/preguntas favor de contactarse con Susie Alcala
URL:https://lafcc.org/event/zumba-89/
END:VEVENT
BEGIN:VEVENT
DTSTART;TZID=America/Los_Angeles:20151104T173000
DTEND;TZID=America/Los_Angeles:20151104T183000
DTSTAMP:20260419T232642
CREATED:20151009T205055Z
LAST-MODIFIED:20151009T205541Z
UID:10000398-1446658200-1446661800@lafcc.org
SUMMARY:Zumba
DESCRIPTION:FREE! Zumba Classes!! \nGET READY TO MOVE AND GROVE \nEvery Wednesday from 5:30pm-6:30pm \n*Bring 1) comfortable shoes 2) water and a 3) towel \nFor additional information/questions please contact Susie Alcala \n  \n\n  \n GRATIS! Clases de Zumba  \nPREPARESE PARA BAILAR Y DISFRUTAR \nCada Miercoles de 5:30pm-6:30pm \n*Traiga 1)zapatos comodos 2) agua y 3)una toalla \nPara informacion adicional/preguntas favor de contactarse con Susie Alcala
URL:https://lafcc.org/event/zumba-51/
LOCATION:La Familia Counseling Center Inc.\, 5523 34th Street\, Sacramento\, 95820
END:VEVENT
BEGIN:VEVENT
DTSTART;TZID=America/Los_Angeles:20151028T173000
DTEND;TZID=America/Los_Angeles:20151028T183000
DTSTAMP:20260419T232642
CREATED:20151006T164609Z
LAST-MODIFIED:20151009T205857Z
UID:10001324-1446053400-1446057000@lafcc.org
SUMMARY:Zumba
DESCRIPTION:FREE! Zumba Classes!! \nGET READY TO MOVE AND GROVE \nEvery Wednesday from 5:30pm-6:30pm \n*Bring 1) comfortable shoes 2) water and a 3) towel \nFor additional information/questions please contact Susie Alcala \n\n  \n GRATIS! Clases de Zumba \nPREPARESE PARA BAILAR Y DISFRUTAR \nCada Miercoles de 5:30pm-6:30pm \n*Traiga 1)zapatos comodos 2) agua y 3)una toalla \nPara informacion adicional/preguntas favor de contactarse con Susie Alcala
URL:https://lafcc.org/event/zumba-50/
END:VEVENT
BEGIN:VEVENT
DTSTART;TZID=America/Los_Angeles:20150610T173000
DTEND;TZID=America/Los_Angeles:20150610T183000
DTSTAMP:20260419T232642
CREATED:20150610T212526Z
LAST-MODIFIED:20150610T212526Z
UID:10000875-1433957400-1433961000@lafcc.org
SUMMARY:ZUMBA
DESCRIPTION:FREE! Zumba Classes!!\nGET READY TO MOVE AND GROVE\nEvery Wednesday from 5:30pm-6:30pm\n*Bring 1)comfortable shoes 2)water and a 3)towel\nFor additional information/questions please contact Susie Alcala \nGRATIS! Clases de Zumba\nPREPARESE PARA BAILAR Y DISFRUTAR\nCada Miercoles de 5:30pm-6:30pm\n*Traiga 1)zapatos comodos 2) agua y 3)una toalla\nPara informacion adicional/preguntas favor de contactarse con Susie Alcala
URL:https://lafcc.org/event/zumba-34/
END:VEVENT
BEGIN:VEVENT
DTSTART;TZID=America/Los_Angeles:20140813T173000
DTEND;TZID=America/Los_Angeles:20140813T183000
DTSTAMP:20260419T232642
CREATED:20140801T171717Z
LAST-MODIFIED:20140801T172513Z
UID:10000250-1407951000-1407954600@lafcc.org
SUMMARY:ZUMBA
DESCRIPTION:FREE!!!                       FREE!!!                     FREE!!! \nGET READY TO MOVE AND GROVE ! \nWhen: EVERY WEDNESDAY \nTime: 5:30-6:30 \nWhere: La Familia Counseling Center\, Inc. \n  \nBRING COMFORTABLE SHOES\, WATER\, AND A TOWEL \n___________________________________________________ \nGRATIS!!!                GRATIS!!!             GRATIS!!! \nPREPARESE PARA BAILAR Y DISFRUTAR ! \nCuando: CADA MIERCOLES \nHora: 5:30-6:30 \nDonde: La Familia Counseling Center\, Inc. \n  \nTRAIGA ZAPATOS COMODOS\, AGUA Y UNA TOALLA
URL:https://lafcc.org/event/zumba-9/
END:VEVENT
END:VCALENDAR