BEGIN:VCALENDAR
VERSION:2.0
PRODID:-//La Familia Counseling Center - ECPv6.15.20//NONSGML v1.0//EN
CALSCALE:GREGORIAN
METHOD:PUBLISH
X-ORIGINAL-URL:https://lafcc.org
X-WR-CALDESC:Events for La Familia Counseling Center
REFRESH-INTERVAL;VALUE=DURATION:PT1H
X-Robots-Tag:noindex
X-PUBLISHED-TTL:PT1H
BEGIN:VTIMEZONE
TZID:America/Los_Angeles
BEGIN:DAYLIGHT
TZOFFSETFROM:-0800
TZOFFSETTO:-0700
TZNAME:PDT
DTSTART:20150308T100000
END:DAYLIGHT
BEGIN:STANDARD
TZOFFSETFROM:-0700
TZOFFSETTO:-0800
TZNAME:PST
DTSTART:20151101T090000
END:STANDARD
BEGIN:DAYLIGHT
TZOFFSETFROM:-0800
TZOFFSETTO:-0700
TZNAME:PDT
DTSTART:20160313T100000
END:DAYLIGHT
BEGIN:STANDARD
TZOFFSETFROM:-0700
TZOFFSETTO:-0800
TZNAME:PST
DTSTART:20161106T090000
END:STANDARD
BEGIN:DAYLIGHT
TZOFFSETFROM:-0800
TZOFFSETTO:-0700
TZNAME:PDT
DTSTART:20170312T100000
END:DAYLIGHT
BEGIN:STANDARD
TZOFFSETFROM:-0700
TZOFFSETTO:-0800
TZNAME:PST
DTSTART:20171105T090000
END:STANDARD
BEGIN:DAYLIGHT
TZOFFSETFROM:-0800
TZOFFSETTO:-0700
TZNAME:PDT
DTSTART:20180311T100000
END:DAYLIGHT
BEGIN:STANDARD
TZOFFSETFROM:-0700
TZOFFSETTO:-0800
TZNAME:PST
DTSTART:20181104T090000
END:STANDARD
END:VTIMEZONE
BEGIN:VEVENT
DTSTART;TZID=America/Los_Angeles:20170405T173000
DTEND;TZID=America/Los_Angeles:20170405T183000
DTSTAMP:20260419T194725
CREATED:20170321T184321Z
LAST-MODIFIED:20170321T184321Z
UID:10002151-1491413400-1491417000@lafcc.org
SUMMARY:Zumba
DESCRIPTION:FREE! Zumba Classes!! \nGET READY TO MOVE AND GROVE \nEvery Wednesday from 5:30pm-6:30pm \n*Bring 1) comfortable shoes 2) water and a 3) towel \nFor additional information/questions please contact Susie Alcala \n\n\n\nGRATIS! Clases de Zumba  \nPREPARESE PARA BAILAR Y DISFRUTAR \nCada Miercoles de 5:30pm-6:30pm \n*Traiga 1)zapatos comodos 2) agua y 3)una toalla \nPara informacion adicional/preguntas favor de contactarse con Susie Alcala
URL:https://lafcc.org/event/zumba-126/
LOCATION:La Familia Counseling Center Inc.\, 5523 34th Street\, Sacramento\, 95820
END:VEVENT
BEGIN:VEVENT
DTSTART;TZID=America/Los_Angeles:20170329T173000
DTEND;TZID=America/Los_Angeles:20170329T183000
DTSTAMP:20260419T194725
CREATED:20170208T202724Z
LAST-MODIFIED:20170208T202724Z
UID:10002121-1490808600-1490812200@lafcc.org
SUMMARY:Zumba
DESCRIPTION:FREE! Zumba Classes!! \nGET READY TO MOVE AND GROVE \nEvery Wednesday from 5:30pm-6:30pm \n*Bring 1) comfortable shoes 2) water and a 3) towel \nFor additional information/questions please contact Susie Alcala \n\n\n\n  \nGRATIS! Clases de Zumba  \nPREPARESE PARA BAILAR Y DISFRUTAR \nCada Miercoles de 5:30pm-6:30pm \n*Traiga 1)zapatos comodos 2) agua y 3)una toalla \nPara informacion adicional/preguntas favor de contactarse con Susie Alcala
URL:https://lafcc.org/event/zumba-124/
LOCATION:La Familia Counseling Center Inc.\, 5523 34th Street\, Sacramento\, 95820
END:VEVENT
BEGIN:VEVENT
DTSTART;TZID=America/Los_Angeles:20170322T173000
DTEND;TZID=America/Los_Angeles:20170322T183000
DTSTAMP:20260419T194725
CREATED:20170208T202849Z
LAST-MODIFIED:20170208T202849Z
UID:10002122-1490203800-1490207400@lafcc.org
SUMMARY:Zumba
DESCRIPTION:FREE! Zumba Classes!! \nGET READY TO MOVE AND GROVE \nEvery Wednesday from 5:30pm-6:30pm \n*Bring 1) comfortable shoes 2) water and a 3) towel \nFor additional information/questions please contact Susie Alcala \n\n\n\n  \nGRATIS! Clases de Zumba  \nPREPARESE PARA BAILAR Y DISFRUTAR \nCada Miercoles de 5:30pm-6:30pm \n*Traiga 1)zapatos comodos 2) agua y 3)una toalla \nPara informacion adicional/preguntas favor de contactarse con Susie Alcala
URL:https://lafcc.org/event/zumba-125/
LOCATION:La Familia Counseling Center Inc.\, 5523 34th Street\, Sacramento\, 95820
END:VEVENT
BEGIN:VEVENT
DTSTART;TZID=America/Los_Angeles:20170321T100000
DTEND;TZID=America/Los_Angeles:20170321T120000
DTSTAMP:20260419T194725
CREATED:20170208T203126Z
LAST-MODIFIED:20170208T203126Z
UID:10002124-1490090400-1490097600@lafcc.org
SUMMARY:Parent Support Group
DESCRIPTION:Families with children between the ages 0-5 years of age are invited to participate in our weekly Parent Stress Reducing Class.\nPlay care available for children 0-5 years of age!\nMake new friends!\nLearn to make:\nChapstick!\nPaper Mache!\nDesserts\, etc!\nLots of Art & Crafts!\n_____________________________________________________________________________\nFamilias con hijos de 0-5 años son invitados para participar en nuestro grupo semanal Reducimiento del Estres.\nCuidado de niños disponible para edades 0-5 años!\nHaga nuevos amigos!\nAprenda a hacer:\nAnimales de Papel!\nPostres\, etc!\nArte y Artesania!
URL:https://lafcc.org/event/parent-support-group-97/
LOCATION:La Familia Counseling Center Inc.\, 5523 34th Street\, Sacramento\, 95820
END:VEVENT
BEGIN:VEVENT
DTSTART;TZID=America/Los_Angeles:20170315T173000
DTEND;TZID=America/Los_Angeles:20170315T183000
DTSTAMP:20260419T194725
CREATED:20170208T202300Z
LAST-MODIFIED:20170208T202300Z
UID:10002120-1489599000-1489602600@lafcc.org
SUMMARY:Zumba
DESCRIPTION:FREE! Zumba Classes!! \nGET READY TO MOVE AND GROVE \nEvery Wednesday from 5:30pm-6:30pm \n*Bring 1) comfortable shoes 2) water and a 3) towel \nFor additional information/questions please contact Susie Alcala \n\n\n\n  \nGRATIS! Clases de Zumba  \nPREPARESE PARA BAILAR Y DISFRUTAR \nCada Miercoles de 5:30pm-6:30pm \n*Traiga 1)zapatos comodos 2) agua y 3)una toalla \nPara informacion adicional/preguntas favor de contactarse con Susie Alcala
URL:https://lafcc.org/event/zumba-123/
LOCATION:La Familia Counseling Center Inc.\, 5523 34th Street\, Sacramento\, 95820
END:VEVENT
BEGIN:VEVENT
DTSTART;TZID=America/Los_Angeles:20170308T173000
DTEND;TZID=America/Los_Angeles:20170308T183000
DTSTAMP:20260419T194725
CREATED:20170208T202054Z
LAST-MODIFIED:20170208T202054Z
UID:10002119-1488994200-1488997800@lafcc.org
SUMMARY:Zumba
DESCRIPTION:FREE! Zumba Classes!! \nGET READY TO MOVE AND GROVE \nEvery Wednesday from 5:30pm-6:30pm \n*Bring 1) comfortable shoes 2) water and a 3) towel \nFor additional information/questions please contact Susie Alcala \n\n\n\n  \nGRATIS! Clases de Zumba  \nPREPARESE PARA BAILAR Y DISFRUTAR \nCada Miercoles de 5:30pm-6:30pm \n*Traiga 1)zapatos comodos 2) agua y 3)una toalla \nPara informacion adicional/preguntas favor de contactarse con Susie Alcala
URL:https://lafcc.org/event/zumba-122/
LOCATION:La Familia Counseling Center Inc.\, 5523 34th Street\, Sacramento\, 95820
END:VEVENT
BEGIN:VEVENT
DTSTART;TZID=America/Los_Angeles:20170301T173000
DTEND;TZID=America/Los_Angeles:20170301T183000
DTSTAMP:20260419T194725
CREATED:20170208T201932Z
LAST-MODIFIED:20170208T201944Z
UID:10002118-1488389400-1488393000@lafcc.org
SUMMARY:Zumba
DESCRIPTION:FREE! Zumba Classes!! \nGET READY TO MOVE AND GROVE \nEvery Wednesday from 5:30pm-6:30pm \n*Bring 1) comfortable shoes 2) water and a 3) towel \nFor additional information/questions please contact Susie Alcala \n\n  \nGRATIS! Clases de Zumba  \nPREPARESE PARA BAILAR Y DISFRUTAR \nCada Miercoles de 5:30pm-6:30pm \n*Traiga 1)zapatos comodos 2) agua y 3)una toalla \nPara informacion adicional/preguntas favor de contactarse con Susie Alcala
URL:https://lafcc.org/event/zumba-114/
LOCATION:La Familia Counseling Center Inc.\, 5523 34th Street\, Sacramento\, 95820
END:VEVENT
BEGIN:VEVENT
DTSTART;TZID=America/Los_Angeles:20170222T173000
DTEND;TZID=America/Los_Angeles:20170222T183000
DTSTAMP:20260419T194725
CREATED:20170111T001611Z
LAST-MODIFIED:20170111T001611Z
UID:10002099-1487784600-1487788200@lafcc.org
SUMMARY:Zumba
DESCRIPTION:FREE! Zumba Classes!! \nGET READY TO MOVE AND GROVE \nEvery Wednesday from 5:30pm-6:30pm \n*Bring 1) comfortable shoes 2) water and a 3) towel \nFor additional information/questions please contact Susie Alcala \n\n  \nGRATIS! Clases de Zumba  \nPREPARESE PARA BAILAR Y DISFRUTAR \nCada Miercoles de 5:30pm-6:30pm \n*Traiga 1)zapatos comodos 2) agua y 3)una toalla \nPara informacion adicional/preguntas favor de contactarse con Susie Alcala
URL:https://lafcc.org/event/zumba-120/
LOCATION:La Familia Counseling Center Inc.\, 5523 34th Street\, Sacramento\, 95820
END:VEVENT
BEGIN:VEVENT
DTSTART;TZID=America/Los_Angeles:20170215T173000
DTEND;TZID=America/Los_Angeles:20170215T183000
DTSTAMP:20260419T194725
CREATED:20170111T001503Z
LAST-MODIFIED:20170111T001503Z
UID:10002098-1487179800-1487183400@lafcc.org
SUMMARY:Zumba
DESCRIPTION:FREE! Zumba Classes!! \nGET READY TO MOVE AND GROVE \nEvery Wednesday from 5:30pm-6:30pm \n*Bring 1) comfortable shoes 2) water and a 3) towel \nFor additional information/questions please contact Susie Alcala \n\n\n\n  \nGRATIS! Clases de Zumba  \nPREPARESE PARA BAILAR Y DISFRUTAR \nCada Miercoles de 5:30pm-6:30pm \n*Traiga 1)zapatos comodos 2) agua y 3)una toalla \nPara informacion adicional/preguntas favor de contactarse con Susie Alcala
URL:https://lafcc.org/event/zumba-119/
LOCATION:La Familia Counseling Center Inc.\, 5523 34th Street\, Sacramento\, 95820
END:VEVENT
BEGIN:VEVENT
DTSTART;TZID=America/Los_Angeles:20170211T110000
DTEND;TZID=America/Los_Angeles:20170211T140000
DTSTAMP:20260419T194725
CREATED:20170202T192143Z
LAST-MODIFIED:20170202T192308Z
UID:10002116-1486810800-1486821600@lafcc.org
SUMMARY:Love Your Heart Walk/Ama Tu Corazón
DESCRIPTION:
URL:https://lafcc.org/event/love-your-heart-walkama-tu-corazon/
LOCATION:Maple Neighborhood Center\, 3301 37th Avenue\, Sacramento\, 95824
END:VEVENT
BEGIN:VEVENT
DTSTART;TZID=America/Los_Angeles:20170208T173000
DTEND;TZID=America/Los_Angeles:20170208T183000
DTSTAMP:20260419T194725
CREATED:20170111T001403Z
LAST-MODIFIED:20170111T001403Z
UID:10002097-1486575000-1486578600@lafcc.org
SUMMARY:Zumba
DESCRIPTION:FREE! Zumba Classes!! \nGET READY TO MOVE AND GROVE \nEvery Wednesday from 5:30pm-6:30pm \n*Bring 1) comfortable shoes 2) water and a 3) towel \nFor additional information/questions please contact Susie Alcala \n\n\n\n  \nGRATIS! Clases de Zumba  \nPREPARESE PARA BAILAR Y DISFRUTAR \nCada Miercoles de 5:30pm-6:30pm \n*Traiga 1)zapatos comodos 2) agua y 3)una toalla \nPara informacion adicional/preguntas favor de contactarse con Susie Alcala
URL:https://lafcc.org/event/zumba-118/
LOCATION:La Familia Counseling Center Inc.\, 5523 34th Street\, Sacramento\, 95820
END:VEVENT
BEGIN:VEVENT
DTSTART;TZID=America/Los_Angeles:20170201T173000
DTEND;TZID=America/Los_Angeles:20170201T183000
DTSTAMP:20260419T194725
CREATED:20170111T001304Z
LAST-MODIFIED:20170111T001304Z
UID:10002096-1485970200-1485973800@lafcc.org
SUMMARY:Zumba
DESCRIPTION:FREE! Zumba Classes!! \nGET READY TO MOVE AND GROVE \nEvery Wednesday from 5:30pm-6:30pm \n*Bring 1) comfortable shoes 2) water and a 3) towel \nFor additional information/questions please contact Susie Alcala \n\n\n\n  \nGRATIS! Clases de Zumba  \nPREPARESE PARA BAILAR Y DISFRUTAR \nCada Miercoles de 5:30pm-6:30pm \n*Traiga 1)zapatos comodos 2) agua y 3)una toalla \nPara informacion adicional/preguntas favor de contactarse con Susie Alcala
URL:https://lafcc.org/event/zumba-117/
LOCATION:La Familia Counseling Center Inc.\, 5523 34th Street\, Sacramento\, 95820
END:VEVENT
BEGIN:VEVENT
DTSTART;TZID=America/Los_Angeles:20170125T173000
DTEND;TZID=America/Los_Angeles:20170125T183000
DTSTAMP:20260419T194725
CREATED:20161209T194955Z
LAST-MODIFIED:20161209T194955Z
UID:10000753-1485365400-1485369000@lafcc.org
SUMMARY:Zumba
DESCRIPTION:FREE! Zumba Classes!!\nGET READY TO MOVE AND GROVE\nEvery Wednesday from 5:30pm-6:30pm\n*Bring 1) comfortable shoes 2) water and a 3) towel\nFor additional information/questions please contact Susie Alcala \n\n\nGRATIS! Clases de Zumba\nPREPARESE PARA BAILAR Y DISFRUTAR\nCada Miercoles de 5:30pm-6:30pm\n*Traiga 1)zapatos comodos 2) agua y 3)una toalla\nPara informacion adicional/preguntas favor de contactarse con Susie Alcala
URL:https://lafcc.org/event/zumba-115/
LOCATION:La Familia Counseling Center Inc.\, 5523 34th Street\, Sacramento\, 95820
END:VEVENT
BEGIN:VEVENT
DTSTART;TZID=America/Los_Angeles:20170118T173000
DTEND;TZID=America/Los_Angeles:20170118T183000
DTSTAMP:20260419T194725
CREATED:20161209T195139Z
LAST-MODIFIED:20161209T195203Z
UID:10000754-1484760600-1484764200@lafcc.org
SUMMARY:Zumba
DESCRIPTION:FREE! Zumba Classes!!\nGET READY TO MOVE AND GROVE\nEvery Wednesday from 5:30pm-6:30pm\n*Bring 1) comfortable shoes 2) water and a 3) towel\nFor additional information/questions please contact Susie Alcala \n\nGRATIS! Clases de Zumba\nPREPARESE PARA BAILAR Y DISFRUTAR\nCada Miercoles de 5:30pm-6:30pm\n*Traiga 1)zapatos comodos 2) agua y 3)una toalla\nPara informacion adicional/preguntas favor de contactarse con Susie Alcala
URL:https://lafcc.org/event/zumba-116/
LOCATION:La Familia Counseling Center Inc.\, 5523 34th Street\, Sacramento\, 95820
END:VEVENT
BEGIN:VEVENT
DTSTART;TZID=America/Los_Angeles:20170111T173000
DTEND;TZID=America/Los_Angeles:20170111T183000
DTSTAMP:20260419T194725
CREATED:20161209T194712Z
LAST-MODIFIED:20161209T194712Z
UID:10000752-1484155800-1484159400@lafcc.org
SUMMARY:Zumba
DESCRIPTION:FREE! Zumba Classes!!\nGET READY TO MOVE AND GROVE\nEvery Wednesday from 5:30pm-6:30pm\n*Bring 1) comfortable shoes 2) water and a 3) towel\nFor additional information/questions please contact Susie Alcala \n\n\nGRATIS! Clases de Zumba\nPREPARESE PARA BAILAR Y DISFRUTAR\nCada Miercoles de 5:30pm-6:30pm\n*Traiga 1)zapatos comodos 2) agua y 3)una toalla\nPara informacion adicional/preguntas favor de contactarse con Susie Alcala
URL:https://lafcc.org/event/zumba-113/
LOCATION:La Familia Counseling Center Inc.\, 5523 34th Street\, Sacramento\, 95820
END:VEVENT
BEGIN:VEVENT
DTSTART;TZID=America/Los_Angeles:20170104T173000
DTEND;TZID=America/Los_Angeles:20170104T183000
DTSTAMP:20260419T194725
CREATED:20161209T194550Z
LAST-MODIFIED:20161209T194550Z
UID:10000751-1483551000-1483554600@lafcc.org
SUMMARY:Zumba
DESCRIPTION:FREE! Zumba Classes!!\nGET READY TO MOVE AND GROVE\nEvery Wednesday from 5:30pm-6:30pm\n*Bring 1) comfortable shoes 2) water and a 3) towel\nFor additional information/questions please contact Susie Alcala \n\n\nGRATIS! Clases de Zumba\nPREPARESE PARA BAILAR Y DISFRUTAR\nCada Miercoles de 5:30pm-6:30pm\n*Traiga 1)zapatos comodos 2) agua y 3)una toalla\nPara informacion adicional/preguntas favor de contactarse con Susie Alcala
URL:https://lafcc.org/event/zumba-112/
LOCATION:La Familia Counseling Center Inc.\, 5523 34th Street\, Sacramento\, 95820
END:VEVENT
BEGIN:VEVENT
DTSTART;TZID=America/Los_Angeles:20161228T173000
DTEND;TZID=America/Los_Angeles:20161228T183000
DTSTAMP:20260419T194725
CREATED:20161122T181945Z
LAST-MODIFIED:20161122T181945Z
UID:10002047-1482946200-1482949800@lafcc.org
SUMMARY:Zumba
DESCRIPTION:FREE! Zumba Classes!! \nGET READY TO MOVE AND GROVE \nEvery Wednesday from 5:30pm-6:30pm \n*Bring 1) comfortable shoes 2) water and a 3) towel \nFor additional information/questions please contact Susie Alcala \n\n  \n GRATIS! Clases de Zumba \nPREPARESE PARA BAILAR Y DISFRUTAR \nCada Miercoles de 5:30pm-6:30pm \n*Traiga 1)zapatos comodos 2) agua y 3)una toalla \nPara informacion adicional/preguntas favor de contactarse con Susie Alcala
URL:https://lafcc.org/event/zumba-111/
LOCATION:La Familia Counseling Center Inc.\, 5523 34th Street\, Sacramento\, 95820
END:VEVENT
BEGIN:VEVENT
DTSTART;TZID=America/Los_Angeles:20161221T173000
DTEND;TZID=America/Los_Angeles:20161221T183000
DTSTAMP:20260419T194725
CREATED:20161122T181834Z
LAST-MODIFIED:20161122T181834Z
UID:10002046-1482341400-1482345000@lafcc.org
SUMMARY:Zumba
DESCRIPTION:FREE! Zumba Classes!! \nGET READY TO MOVE AND GROVE \nEvery Wednesday from 5:30pm-6:30pm \n*Bring 1) comfortable shoes 2) water and a 3) towel \nFor additional information/questions please contact Susie Alcala \n\n  \nGRATIS! Clases de Zumba  \nPREPARESE PARA BAILAR Y DISFRUTAR \nCada Miercoles de 5:30pm-6:30pm \n*Traiga 1)zapatos comodos 2) agua y 3)una toalla \nPara informacion adicional/preguntas favor de contactarse con Susie Alcala
URL:https://lafcc.org/event/zumba-110/
LOCATION:La Familia Counseling Center Inc.\, 5523 34th Street\, Sacramento\, 95820
END:VEVENT
BEGIN:VEVENT
DTSTART;TZID=America/Los_Angeles:20161214T173000
DTEND;TZID=America/Los_Angeles:20161214T183000
DTSTAMP:20260419T194725
CREATED:20161122T181537Z
LAST-MODIFIED:20161122T181537Z
UID:10002045-1481736600-1481740200@lafcc.org
SUMMARY:Zumba
DESCRIPTION:FREE! Zumba Classes!! \nGET READY TO MOVE AND GROVE \nEvery Wednesday from 5:30pm-6:30pm \n*Bring 1) comfortable shoes 2) water and a 3) towel \nFor additional information/questions please contact Susie Alcala \n\n  \nGRATIS! Clases de Zumba  \nPREPARESE PARA BAILAR Y DISFRUTAR \nCada Miercoles de 5:30pm-6:30pm \n*Traiga 1)zapatos comodos 2) agua y 3)una toalla \nPara informacion adicional/preguntas favor de contactarse con Susie Alcala
URL:https://lafcc.org/event/zumba-109/
END:VEVENT
BEGIN:VEVENT
DTSTART;TZID=America/Los_Angeles:20161207T173000
DTEND;TZID=America/Los_Angeles:20161207T183000
DTSTAMP:20260419T194725
CREATED:20161122T181401Z
LAST-MODIFIED:20161122T181401Z
UID:10000732-1481131800-1481135400@lafcc.org
SUMMARY:Zumba
DESCRIPTION:FREE! Zumba Classes!! \nGET READY TO MOVE AND GROVE \nEvery Wednesday from 5:30pm-6:30pm \n*Bring 1) comfortable shoes 2) water and a 3) towel \nFor additional information/questions please contact Susie Alcala \n  \n\n  \n  \nGRATIS! Clases de Zumba  \nPREPARESE PARA BAILAR Y DISFRUTAR \nCada Miercoles de 5:30pm-6:30pm \n*Traiga 1)zapatos comodos 2) agua y 3)una toalla \nPara informacion adicional/preguntas favor de contactarse con Susie Alcala
URL:https://lafcc.org/event/zumba-108/
END:VEVENT
BEGIN:VEVENT
DTSTART;TZID=America/Los_Angeles:20161130T173000
DTEND;TZID=America/Los_Angeles:20161130T183000
DTSTAMP:20260419T194725
CREATED:20161021T171704Z
LAST-MODIFIED:20161021T171704Z
UID:10002018-1480527000-1480530600@lafcc.org
SUMMARY:Zumba
DESCRIPTION:FREE! Zumba Classes!! \nGET READY TO MOVE AND GROVE \nEvery Wednesday from 5:30pm-6:30pm \n*Bring 1) comfortable shoes 2) water and a 3) towel \nFor additional information/questions please contact Susie Alcala \n\n  \nGRATIS! Clases de Zumba  \nPREPARESE PARA BAILAR Y DISFRUTAR \nCada Miercoles de 5:30pm-6:30pm \n*Traiga 1)zapatos comodos 2) agua y 3)una toalla \nPara informacion adicional/preguntas favor de contactarse con Susie Alcala
URL:https://lafcc.org/event/zumba-107/
LOCATION:La Familia Counseling Center Inc.\, 5523 34th Street\, Sacramento\, 95820
END:VEVENT
BEGIN:VEVENT
DTSTART;TZID=America/Los_Angeles:20161123T173000
DTEND;TZID=America/Los_Angeles:20161123T183000
DTSTAMP:20260419T194725
CREATED:20161021T171553Z
LAST-MODIFIED:20161021T171553Z
UID:10002017-1479922200-1479925800@lafcc.org
SUMMARY:Zumba
DESCRIPTION:FREE! Zumba Classes!! \nGET READY TO MOVE AND GROVE \nEvery Wednesday from 5:30pm-6:30pm \n*Bring 1) comfortable shoes 2) water and a 3) towel \nFor additional information/questions please contact Susie Alcala \n\n  \nGRATIS! Clases de Zumba  \nPREPARESE PARA BAILAR Y DISFRUTAR \nCada Miercoles de 5:30pm-6:30pm \n*Traiga 1)zapatos comodos 2) agua y 3)una toalla \nPara informacion adicional/preguntas favor de contactarse con Susie Alcala
URL:https://lafcc.org/event/zumba-106/
LOCATION:La Familia Counseling Center Inc.\, 5523 34th Street\, Sacramento\, 95820
END:VEVENT
BEGIN:VEVENT
DTSTART;TZID=America/Los_Angeles:20161116T173000
DTEND;TZID=America/Los_Angeles:20161116T183000
DTSTAMP:20260419T194725
CREATED:20161021T170816Z
LAST-MODIFIED:20161021T171110Z
UID:10000698-1479317400-1479321000@lafcc.org
SUMMARY:Zumba
DESCRIPTION:FREE! Zumba Classes!! \nGET READY TO MOVE AND GROVE \nEvery Wednesday from 5:30pm-6:30pm \n*Bring 1) comfortable shoes 2) water and a 3) towel \nFor additional information/questions please contact Susie Alcala \n  \n\n  \nGRATIS! Clases de Zumba  \nPREPARESE PARA BAILAR Y DISFRUTAR \nCada Miercoles de 5:30pm-6:30pm \n*Traiga 1)zapatos comodos 2) agua y 3)una toalla \nPara informacion adicional/preguntas favor de contactarse con Susie Alcala
URL:https://lafcc.org/event/zumba-103/
LOCATION:La Familia Counseling Center Inc.\, 5523 34th Street\, Sacramento\, 95820
END:VEVENT
BEGIN:VEVENT
DTSTART;TZID=America/Los_Angeles:20161109T173000
DTEND;TZID=America/Los_Angeles:20161109T183000
DTSTAMP:20260419T194725
CREATED:20161021T171408Z
LAST-MODIFIED:20161021T171408Z
UID:10000700-1478712600-1478716200@lafcc.org
SUMMARY:Zumba
DESCRIPTION:FREE! Zumba Classes!! \nGET READY TO MOVE AND GROVE \nEvery Wednesday from 5:30pm-6:30pm \n*Bring 1) comfortable shoes 2) water and a 3) towel \nFor additional information/questions please contact Susie Alcala \n\n  \n GRATIS! Clases de Zumba \nPREPARESE PARA BAILAR Y DISFRUTAR \nCada Miercoles de 5:30pm-6:30pm \n*Traiga 1)zapatos comodos 2) agua y 3)una toalla \nPara informacion adicional/preguntas favor de contactarse con Susie Alcala
URL:https://lafcc.org/event/zumba-105/
LOCATION:La Familia Counseling Center Inc.\, 5523 34th Street\, Sacramento\, 95820
END:VEVENT
BEGIN:VEVENT
DTSTART;TZID=America/Los_Angeles:20161102T173000
DTEND;TZID=America/Los_Angeles:20161102T183000
DTSTAMP:20260419T194725
CREATED:20161021T170657Z
LAST-MODIFIED:20161021T170657Z
UID:10000697-1478107800-1478111400@lafcc.org
SUMMARY:Zumba
DESCRIPTION:FREE! Zumba Classes!! \nGET READY TO MOVE AND GROVE \nEvery Wednesday from 5:30pm-6:30pm \n*Bring 1) comfortable shoes 2) water and a 3) towel \nFor additional information/questions please contact Susie Alcala \n  \n\n  \n  \nGRATIS! Clases de Zumba  \nPREPARESE PARA BAILAR Y DISFRUTAR \nCada Miercoles de 5:30pm-6:30pm \n*Traiga 1)zapatos comodos 2) agua y 3)una toalla \nPara informacion adicional/preguntas favor de contactarse con Susie Alcala
URL:https://lafcc.org/event/zumba-102/
LOCATION:La Familia Counseling Center Inc.\, 5523 34th Street\, Sacramento\, 95820
END:VEVENT
BEGIN:VEVENT
DTSTART;TZID=America/Los_Angeles:20161026T173000
DTEND;TZID=America/Los_Angeles:20161026T183000
DTSTAMP:20260419T194725
CREATED:20160915T180820Z
LAST-MODIFIED:20160915T180820Z
UID:10001994-1477503000-1477506600@lafcc.org
SUMMARY:Zumba
DESCRIPTION:FREE! Zumba Classes!!\nGET READY TO MOVE AND GROVE\nEvery Wednesday from 5:30pm-6:30pm\n*Bring 1) comfortable shoes 2) water and a 3) towel\nFor additional information/questions please contact Susie Alcala \n\nGRATIS! Clases de Zumba\nPREPARESE PARA BAILAR Y DISFRUTAR\nCada Miercoles de 5:30pm-6:30pm\n*Traiga 1)zapatos comodos 2) agua y 3)una toalla\nPara informacion adicional/preguntas favor de contactarse con Susie Alcala
URL:https://lafcc.org/event/zumba-101/
END:VEVENT
BEGIN:VEVENT
DTSTART;TZID=America/Los_Angeles:20161019T173000
DTEND;TZID=America/Los_Angeles:20161019T183000
DTSTAMP:20260419T194725
CREATED:20160915T180654Z
LAST-MODIFIED:20160915T180654Z
UID:10001993-1476898200-1476901800@lafcc.org
SUMMARY:Zumba
DESCRIPTION:FREE! Zumba Classes!!\nGET READY TO MOVE AND GROVE\nEvery Wednesday from 5:30pm-6:30pm\n*Bring 1) comfortable shoes 2) water and a 3) towel\nFor additional information/questions please contact Susie Alcala \n\nGRATIS! Clases de Zumba\nPREPARESE PARA BAILAR Y DISFRUTAR\nCada Miercoles de 5:30pm-6:30pm\n*Traiga 1)zapatos comodos 2) agua y 3)una toalla\nPara informacion adicional/preguntas favor de contactarse con Susie Alcala
URL:https://lafcc.org/event/zumba-100/
END:VEVENT
BEGIN:VEVENT
DTSTART;TZID=America/Los_Angeles:20161012T173000
DTEND;TZID=America/Los_Angeles:20161012T183000
DTSTAMP:20260419T194725
CREATED:20160915T180551Z
LAST-MODIFIED:20160915T180551Z
UID:10001992-1476293400-1476297000@lafcc.org
SUMMARY:Zumba
DESCRIPTION:FREE! Zumba Classes!!\nGET READY TO MOVE AND GROVE\nEvery Wednesday from 5:30pm-6:30pm\n*Bring 1) comfortable shoes 2) water and a 3) towel\nFor additional information/questions please contact Susie Alcala \n\nGRATIS! Clases de Zumba\nPREPARESE PARA BAILAR Y DISFRUTAR\nCada Miercoles de 5:30pm-6:30pm\n*Traiga 1)zapatos comodos 2) agua y 3)una toalla\nPara informacion adicional/preguntas favor de contactarse con Susie Alcala
URL:https://lafcc.org/event/zumba-99/
END:VEVENT
BEGIN:VEVENT
DTSTART;TZID=America/Los_Angeles:20161005T173000
DTEND;TZID=America/Los_Angeles:20161005T183000
DTSTAMP:20260419T194725
CREATED:20160915T180450Z
LAST-MODIFIED:20160915T180450Z
UID:10001991-1475688600-1475692200@lafcc.org
SUMMARY:Zumba
DESCRIPTION:FREE! Zumba Classes!!\nGET READY TO MOVE AND GROVE\nEvery Wednesday from 5:30pm-6:30pm\n*Bring 1) comfortable shoes 2) water and a 3) towel\nFor additional information/questions please contact Susie Alcala \n\nGRATIS! Clases de Zumba\nPREPARESE PARA BAILAR Y DISFRUTAR\nCada Miercoles de 5:30pm-6:30pm\n*Traiga 1)zapatos comodos 2) agua y 3)una toalla\nPara informacion adicional/preguntas favor de contactarse con Susie Alcala
URL:https://lafcc.org/event/zumba-98/
END:VEVENT
BEGIN:VEVENT
DTSTART;TZID=America/Los_Angeles:20160928T173000
DTEND;TZID=America/Los_Angeles:20160928T183000
DTSTAMP:20260419T194725
CREATED:20160818T183401Z
LAST-MODIFIED:20160818T183401Z
UID:10001980-1475083800-1475087400@lafcc.org
SUMMARY:Zumba
DESCRIPTION:FREE! Zumba Classes!!\nGET READY TO MOVE AND GROVE\nEvery Wednesday from 5:30pm-6:30pm\n*Bring 1) comfortable shoes 2) water and a 3) towel\nFor additional information/questions please contact Susie Alcala \n\n\nGRATIS! Clases de Zumba\nPREPARESE PARA BAILAR Y DISFRUTAR\nCada Miercoles de 5:30pm-6:30pm\n*Traiga 1)zapatos comodos 2) agua y 3)una toalla\nPara informacion adicional/preguntas favor de contactarse con Susie Alcala
URL:https://lafcc.org/event/zumba-97/
LOCATION:La Familia Counseling Center Inc.\, 5523 34th Street\, Sacramento\, 95820
END:VEVENT
END:VCALENDAR