BEGIN:VCALENDAR
VERSION:2.0
PRODID:-//La Familia Counseling Center - ECPv6.15.20//NONSGML v1.0//EN
CALSCALE:GREGORIAN
METHOD:PUBLISH
X-WR-CALNAME:La Familia Counseling Center
X-ORIGINAL-URL:https://lafcc.org
X-WR-CALDESC:Events for La Familia Counseling Center
REFRESH-INTERVAL;VALUE=DURATION:PT1H
X-Robots-Tag:noindex
X-PUBLISHED-TTL:PT1H
BEGIN:VTIMEZONE
TZID:America/Los_Angeles
BEGIN:DAYLIGHT
TZOFFSETFROM:-0800
TZOFFSETTO:-0700
TZNAME:PDT
DTSTART:20160313T100000
END:DAYLIGHT
BEGIN:STANDARD
TZOFFSETFROM:-0700
TZOFFSETTO:-0800
TZNAME:PST
DTSTART:20161106T090000
END:STANDARD
BEGIN:DAYLIGHT
TZOFFSETFROM:-0800
TZOFFSETTO:-0700
TZNAME:PDT
DTSTART:20170312T100000
END:DAYLIGHT
BEGIN:STANDARD
TZOFFSETFROM:-0700
TZOFFSETTO:-0800
TZNAME:PST
DTSTART:20171105T090000
END:STANDARD
BEGIN:DAYLIGHT
TZOFFSETFROM:-0800
TZOFFSETTO:-0700
TZNAME:PDT
DTSTART:20180311T100000
END:DAYLIGHT
BEGIN:STANDARD
TZOFFSETFROM:-0700
TZOFFSETTO:-0800
TZNAME:PST
DTSTART:20181104T090000
END:STANDARD
END:VTIMEZONE
BEGIN:VEVENT
DTSTART;TZID=America/Los_Angeles:20170801T220000
DTEND;TZID=America/Los_Angeles:20170801T220000
DTSTAMP:20260423T122951
CREATED:20170718T212016Z
LAST-MODIFIED:20170801T161902Z
UID:10000940-1501624800-1501624800@lafcc.org
SUMMARY:Youth Employment Orientation
DESCRIPTION:Out of School Youth Employment (OSY)  The Out of School Youth Program offers youth ages 17-24 the opportunity to gain paid work experience (WEX) and pursue advanced training. Throughout participants work experience they have the support of an Employment Training Specialist to help them achieve their education and employment goals. Assessment and tutoring are provided to enable them to overcome deficiencies in Math and/or Language Arts. \n  \n*Participants must meet eligibility requirements please contact Susana Alvarez for more information @ 916-452-3601
URL:https://lafcc.org/event/youth-employment-orientation-131/
LOCATION:La Familia Counseling Center Inc.\, 5523 34th Street \, Sacramento\, CA\, 95820\, United States
END:VEVENT
BEGIN:VEVENT
DTSTART;TZID=America/Los_Angeles:20170725T110000
DTEND;TZID=America/Los_Angeles:20170725T120000
DTSTAMP:20260423T122951
CREATED:20170614T185633Z
LAST-MODIFIED:20170614T185633Z
UID:10002247-1500980400-1500984000@lafcc.org
SUMMARY:Youth Employment Orientation
DESCRIPTION:Out of School Youth Employment (OSY) \nThe Out of School Youth Program offers youth ages 17-24 the opportunity to gain paid work experience (WEX) and pursue advanced training. Throughout participants work experience they have the support of an Employment Training Specialist to help them achieve their education and employment goals. Assessment and tutoring are provided to enable them to overcome deficiencies in Math and/or Language Arts. \n  \n*Participants must meet eligibility requirements please contact Susana or Boon for more information@ 916-452-3601
URL:https://lafcc.org/event/youth-employment-orientation-130/
LOCATION:La Familia Counseling Center Inc.\, 5523 34th Street\, Sacramento\, 95820
END:VEVENT
BEGIN:VEVENT
DTSTART;TZID=America/Los_Angeles:20170718T110000
DTEND;TZID=America/Los_Angeles:20170718T120000
DTSTAMP:20260423T122951
CREATED:20170614T185259Z
LAST-MODIFIED:20170614T185259Z
UID:10002246-1500375600-1500379200@lafcc.org
SUMMARY:Youth Employment Orientation
DESCRIPTION:Out of School Youth Employment (OSY) \nThe Out of School Youth Program offers youth ages 17-24 the opportunity to gain paid work experience (WEX) and pursue advanced training. Throughout participants work experience they have the support of an Employment Training Specialist to help them achieve their education and employment goals. Assessment and tutoring are provided to enable them to overcome deficiencies in Math and/or Language Arts. \n  \n*Participants must meet eligibility requirements please contact Susana or Boon for more information @ 916-452-3601
URL:https://lafcc.org/event/youth-employment-orientation-129/
LOCATION:La Familia Counseling Center Inc.\, 5523 34th Street\, Sacramento\, 95820
END:VEVENT
BEGIN:VEVENT
DTSTART;TZID=America/Los_Angeles:20170711T110000
DTEND;TZID=America/Los_Angeles:20170711T120000
DTSTAMP:20260423T122951
CREATED:20170614T184826Z
LAST-MODIFIED:20170614T184826Z
UID:10002245-1499770800-1499774400@lafcc.org
SUMMARY:Youth Employment Orientation
DESCRIPTION:Out of School Youth Employment (OSY) \nThe Out of School Youth Program offers youth ages 17-24 the opportunity to gain paid work experience (WEX) and pursue advanced training. Throughout participants work experience they have the support of an Employment Training Specialist to help them achieve their education and employment goals. Assessment and tutoring are provided to enable them to overcome deficiencies in Math and/or Language Arts. \n  \n*Participants must meet eligibility requirements please contact Susana or Boon for more information @ 916-452-3601
URL:https://lafcc.org/event/youth-employment-orientation-128/
LOCATION:La Familia Counseling Center Inc.\, 5523 34th Street\, Sacramento\, 95820
END:VEVENT
BEGIN:VEVENT
DTSTART;TZID=America/Los_Angeles:20170706T110000
DTEND;TZID=America/Los_Angeles:20170706T120000
DTSTAMP:20260423T122951
CREATED:20170614T184708Z
LAST-MODIFIED:20170614T184708Z
UID:10002244-1499338800-1499342400@lafcc.org
SUMMARY:Youth Employment Orientation
DESCRIPTION:Out of School Youth Employment (OSY) \nThe Out of School Youth Program offers youth ages 17-24 the opportunity to gain paid work experience (WEX) and pursue advanced training. Throughout participants work experience they have the support of an Employment Training Specialist to help them achieve their education and employment goals. Assessment and tutoring are provided to enable them to overcome deficiencies in Math and/or Language Arts. \n*Participants must meet eligibility requirements please contact Susana or Boon for more information @ 916-452-3601
URL:https://lafcc.org/event/youth-employment-orientation-127/
LOCATION:La Familia Counseling Center Inc.\, 5523 34th Street\, Sacramento\, 95820
END:VEVENT
END:VCALENDAR