BEGIN:VCALENDAR
VERSION:2.0
PRODID:-//La Familia Counseling Center - ECPv6.15.20//NONSGML v1.0//EN
CALSCALE:GREGORIAN
METHOD:PUBLISH
X-ORIGINAL-URL:https://lafcc.org
X-WR-CALDESC:Events for La Familia Counseling Center
REFRESH-INTERVAL;VALUE=DURATION:PT1H
X-Robots-Tag:noindex
X-PUBLISHED-TTL:PT1H
BEGIN:VTIMEZONE
TZID:America/Los_Angeles
BEGIN:DAYLIGHT
TZOFFSETFROM:-0800
TZOFFSETTO:-0700
TZNAME:PDT
DTSTART:20150308T100000
END:DAYLIGHT
BEGIN:STANDARD
TZOFFSETFROM:-0700
TZOFFSETTO:-0800
TZNAME:PST
DTSTART:20151101T090000
END:STANDARD
BEGIN:DAYLIGHT
TZOFFSETFROM:-0800
TZOFFSETTO:-0700
TZNAME:PDT
DTSTART:20160313T100000
END:DAYLIGHT
BEGIN:STANDARD
TZOFFSETFROM:-0700
TZOFFSETTO:-0800
TZNAME:PST
DTSTART:20161106T090000
END:STANDARD
BEGIN:DAYLIGHT
TZOFFSETFROM:-0800
TZOFFSETTO:-0700
TZNAME:PDT
DTSTART:20170312T100000
END:DAYLIGHT
BEGIN:STANDARD
TZOFFSETFROM:-0700
TZOFFSETTO:-0800
TZNAME:PST
DTSTART:20171105T090000
END:STANDARD
END:VTIMEZONE
BEGIN:VEVENT
DTSTART;TZID=America/Los_Angeles:20160429T160000
DTEND;TZID=America/Los_Angeles:20160429T180000
DTSTAMP:20260423T124922
CREATED:20160309T215047Z
LAST-MODIFIED:20160309T215047Z
UID:10000518-1461945600-1461952800@lafcc.org
SUMMARY:Youth Voice
DESCRIPTION:Youth Voice provides youth ages 14-21 with the opportunity to develop leadership skills through community service project\, system change\, educational and career opportunities through peer mentoring to become engaged with issues that impact youth violence and other health related issues in order to become stakeholders in their community. 
URL:https://lafcc.org/event/youth-voice-58/
LOCATION:Maple Neighborhood Center\, 3301 37th Avenue\, Sacramento\, 95824
END:VEVENT
BEGIN:VEVENT
DTSTART;TZID=America/Los_Angeles:20160311T160000
DTEND;TZID=America/Los_Angeles:20160311T180000
DTSTAMP:20260423T124922
CREATED:20160229T183919Z
LAST-MODIFIED:20160229T183919Z
UID:10000507-1457712000-1457719200@lafcc.org
SUMMARY:Youth Voice
DESCRIPTION:Youth Voice provides youth ages 14-21 with the opportunity to develop leadership skills through community service project\, system change\, educational and career opportunities through peer mentoring to become engaged with issues that impact youth violence and other health related issues in order to become stakeholders in their community.
URL:https://lafcc.org/event/youth-voice-52/
LOCATION:Maple Neighborhood Center\, 3301 37th Avenue\, Sacramento\, 95824
END:VEVENT
END:VCALENDAR