BEGIN:VCALENDAR
VERSION:2.0
PRODID:-//La Familia Counseling Center - ECPv6.15.20//NONSGML v1.0//EN
CALSCALE:GREGORIAN
METHOD:PUBLISH
X-ORIGINAL-URL:https://lafcc.org
X-WR-CALDESC:Events for La Familia Counseling Center
REFRESH-INTERVAL;VALUE=DURATION:PT1H
X-Robots-Tag:noindex
X-PUBLISHED-TTL:PT1H
BEGIN:VTIMEZONE
TZID:America/Los_Angeles
BEGIN:DAYLIGHT
TZOFFSETFROM:-0800
TZOFFSETTO:-0700
TZNAME:PDT
DTSTART:20130310T100000
END:DAYLIGHT
BEGIN:STANDARD
TZOFFSETFROM:-0700
TZOFFSETTO:-0800
TZNAME:PST
DTSTART:20131103T090000
END:STANDARD
BEGIN:DAYLIGHT
TZOFFSETFROM:-0800
TZOFFSETTO:-0700
TZNAME:PDT
DTSTART:20140309T100000
END:DAYLIGHT
BEGIN:STANDARD
TZOFFSETFROM:-0700
TZOFFSETTO:-0800
TZNAME:PST
DTSTART:20141102T090000
END:STANDARD
BEGIN:DAYLIGHT
TZOFFSETFROM:-0800
TZOFFSETTO:-0700
TZNAME:PDT
DTSTART:20150308T100000
END:DAYLIGHT
BEGIN:STANDARD
TZOFFSETFROM:-0700
TZOFFSETTO:-0800
TZNAME:PST
DTSTART:20151101T090000
END:STANDARD
BEGIN:DAYLIGHT
TZOFFSETFROM:-0800
TZOFFSETTO:-0700
TZNAME:PDT
DTSTART:20160313T100000
END:DAYLIGHT
BEGIN:STANDARD
TZOFFSETFROM:-0700
TZOFFSETTO:-0800
TZNAME:PST
DTSTART:20161106T090000
END:STANDARD
BEGIN:DAYLIGHT
TZOFFSETFROM:-0800
TZOFFSETTO:-0700
TZNAME:PDT
DTSTART:20170312T100000
END:DAYLIGHT
BEGIN:STANDARD
TZOFFSETFROM:-0700
TZOFFSETTO:-0800
TZNAME:PST
DTSTART:20171105T090000
END:STANDARD
END:VTIMEZONE
BEGIN:VEVENT
DTSTART;TZID=America/Los_Angeles:20160719T110000
DTEND;TZID=America/Los_Angeles:20160719T120000
DTSTAMP:20260423T185938
CREATED:20160628T172826Z
LAST-MODIFIED:20160628T172826Z
UID:10001934-1468926000-1468929600@lafcc.org
SUMMARY:Youth Employment Orientation
DESCRIPTION:Out of School Youth Employment (OSY) \nThe Out of School Youth Program offers youth ages 17-21 the opportunity to gain paid work experience (WEX) and pursue advanced training. Throughout participants work experience they have the support of an Employment Training Specialist to help them achieve their education and employment goals. Assessment and tutoring are provided to enable them to overcome deficiencies in Math and/or Language Arts.
URL:https://lafcc.org/event/youth-employment-orientation-60/
END:VEVENT
BEGIN:VEVENT
DTSTART;TZID=America/Los_Angeles:20160712T110000
DTEND;TZID=America/Los_Angeles:20160712T120000
DTSTAMP:20260423T185938
CREATED:20160628T171536Z
LAST-MODIFIED:20160628T172613Z
UID:10001932-1468321200-1468324800@lafcc.org
SUMMARY:Youth Employment Orientation
DESCRIPTION:Out of School Youth Employment (OSY) \nThe Out of School Youth Program offers youth ages 17-21 the opportunity to gain paid work experience (WEX) and pursue advanced training. Throughout participants work experience they have the support of an Employment Training Specialist to help them achieve their education and employment goals. Assessment and tutoring are provided to enable them to overcome deficiencies in Math and/or Language Arts.
URL:https://lafcc.org/event/youth-employment-orientation-58/
END:VEVENT
BEGIN:VEVENT
DTSTART;TZID=America/Los_Angeles:20160705T110000
DTEND;TZID=America/Los_Angeles:20160705T120000
DTSTAMP:20260423T185938
CREATED:20160628T161133Z
LAST-MODIFIED:20160628T161259Z
UID:10001930-1467716400-1467720000@lafcc.org
SUMMARY:Youth Employment Orientation
DESCRIPTION:Out of School Youth Employment (OSY) \nThe Out of School Youth Program offers youth ages 17-21 the opportunity to gain paid work experience (WEX) and pursue advanced training. Throughout participants work experience they have the support of an Employment Training Specialist to help them achieve their education and employment goals. Assessment and tutoring are provided to enable them to overcome deficiencies in Math and/or Language Arts.
URL:https://lafcc.org/event/youth-employment-orientation-56/
END:VEVENT
BEGIN:VEVENT
DTSTART;TZID=America/Los_Angeles:20140808T140000
DTEND;TZID=America/Los_Angeles:20140808T160000
DTSTAMP:20260423T185938
CREATED:20140801T230205Z
LAST-MODIFIED:20140801T230205Z
UID:10000321-1407506400-1407513600@lafcc.org
SUMMARY:Club Excel
DESCRIPTION:youth ages 13-19 years old \n__________________________ \nPara Jovenes edades 13-19 años de edad
URL:https://lafcc.org/event/club-excel-4/
END:VEVENT
END:VCALENDAR