BEGIN:VCALENDAR
VERSION:2.0
PRODID:-//La Familia Counseling Center - ECPv6.15.20//NONSGML v1.0//EN
CALSCALE:GREGORIAN
METHOD:PUBLISH
X-ORIGINAL-URL:https://lafcc.org
X-WR-CALDESC:Events for La Familia Counseling Center
REFRESH-INTERVAL;VALUE=DURATION:PT1H
X-Robots-Tag:noindex
X-PUBLISHED-TTL:PT1H
BEGIN:VTIMEZONE
TZID:America/Los_Angeles
BEGIN:DAYLIGHT
TZOFFSETFROM:-0800
TZOFFSETTO:-0700
TZNAME:PDT
DTSTART:20130310T100000
END:DAYLIGHT
BEGIN:STANDARD
TZOFFSETFROM:-0700
TZOFFSETTO:-0800
TZNAME:PST
DTSTART:20131103T090000
END:STANDARD
BEGIN:DAYLIGHT
TZOFFSETFROM:-0800
TZOFFSETTO:-0700
TZNAME:PDT
DTSTART:20140309T100000
END:DAYLIGHT
BEGIN:STANDARD
TZOFFSETFROM:-0700
TZOFFSETTO:-0800
TZNAME:PST
DTSTART:20141102T090000
END:STANDARD
BEGIN:DAYLIGHT
TZOFFSETFROM:-0800
TZOFFSETTO:-0700
TZNAME:PDT
DTSTART:20150308T100000
END:DAYLIGHT
BEGIN:STANDARD
TZOFFSETFROM:-0700
TZOFFSETTO:-0800
TZNAME:PST
DTSTART:20151101T090000
END:STANDARD
END:VTIMEZONE
BEGIN:VEVENT
DTSTART;TZID=America/Los_Angeles:20140916T160000
DTEND;TZID=America/Los_Angeles:20140916T190000
DTSTAMP:20260420T053321
CREATED:20140911T210729Z
LAST-MODIFIED:20140911T210729Z
UID:10000391-1410883200-1410894000@lafcc.org
SUMMARY:Latino Behavioral Health Week/Semana Latina de Salud Conductual
DESCRIPTION:Latino Behavioral Health Week / Semana Latina de Salud Conductual \nIn Recognition of Latino Behavioral Health Week (Sept. 15th-19th) and National Hispanic Heritage Month/ En Reconosimiento a la Semana Latina de Salud Conductual (Sept.15-19) y al Mes Nacional de la Herencia Hispana \n\nPresents a Community Event / Presena un Evento Comunitario \n\nSTRENGHT IN CONNECTIONS/ EL PODER DE LAS CONEXIONES \n \nPresenters: / Ponentes: \nCarmela Castellano-Garcia\, President and CEO California Primary Care Association \nand / y \nLina Mendez\, Ph.D.\,Postdoctoral Scholar of Intern Medicine UC Davis Health System-Center for Reducing Health Disparities \n\n\n\nThe Public is Welcome. No registration required. / El public es bienvenido. No necesita registrarse. \n 
URL:https://lafcc.org/event/latino-behavioral-health-weeksemana-latina-de-salud-conductual/
LOCATION:La Familia Counseling Center Inc.\, 5523 34th Street\, Sacramento\, CA\, 95820\, United States
ORGANIZER;CN="Phoung Le":MAILTO:lep@saccounty.net
END:VEVENT
END:VCALENDAR