BEGIN:VCALENDAR
VERSION:2.0
PRODID:-//La Familia Counseling Center - ECPv6.15.20//NONSGML v1.0//EN
CALSCALE:GREGORIAN
METHOD:PUBLISH
X-WR-CALNAME:La Familia Counseling Center
X-ORIGINAL-URL:https://lafcc.org
X-WR-CALDESC:Events for La Familia Counseling Center
REFRESH-INTERVAL;VALUE=DURATION:PT1H
X-Robots-Tag:noindex
X-PUBLISHED-TTL:PT1H
BEGIN:VTIMEZONE
TZID:America/Los_Angeles
BEGIN:DAYLIGHT
TZOFFSETFROM:-0800
TZOFFSETTO:-0700
TZNAME:PDT
DTSTART:20130310T100000
END:DAYLIGHT
BEGIN:STANDARD
TZOFFSETFROM:-0700
TZOFFSETTO:-0800
TZNAME:PST
DTSTART:20131103T090000
END:STANDARD
BEGIN:DAYLIGHT
TZOFFSETFROM:-0800
TZOFFSETTO:-0700
TZNAME:PDT
DTSTART:20140309T100000
END:DAYLIGHT
BEGIN:STANDARD
TZOFFSETFROM:-0700
TZOFFSETTO:-0800
TZNAME:PST
DTSTART:20141102T090000
END:STANDARD
BEGIN:DAYLIGHT
TZOFFSETFROM:-0800
TZOFFSETTO:-0700
TZNAME:PDT
DTSTART:20150308T100000
END:DAYLIGHT
BEGIN:STANDARD
TZOFFSETFROM:-0700
TZOFFSETTO:-0800
TZNAME:PST
DTSTART:20151101T090000
END:STANDARD
BEGIN:DAYLIGHT
TZOFFSETFROM:-0800
TZOFFSETTO:-0700
TZNAME:PDT
DTSTART:20160313T100000
END:DAYLIGHT
BEGIN:STANDARD
TZOFFSETFROM:-0700
TZOFFSETTO:-0800
TZNAME:PST
DTSTART:20161106T090000
END:STANDARD
BEGIN:DAYLIGHT
TZOFFSETFROM:-0800
TZOFFSETTO:-0700
TZNAME:PDT
DTSTART:20170312T100000
END:DAYLIGHT
BEGIN:STANDARD
TZOFFSETFROM:-0700
TZOFFSETTO:-0800
TZNAME:PST
DTSTART:20171105T090000
END:STANDARD
END:VTIMEZONE
BEGIN:VEVENT
DTSTART;TZID=America/Los_Angeles:20160728T110000
DTEND;TZID=America/Los_Angeles:20160728T120000
DTSTAMP:20260423T064107
CREATED:20160628T174039Z
LAST-MODIFIED:20160628T174039Z
UID:10001937-1469703600-1469707200@lafcc.org
SUMMARY:Youth Employment Orientation
DESCRIPTION:Out of School Youth Employment (OSY) \nThe Out of School Youth Program offers youth ages 17-21 the opportunity to gain paid work experience (WEX) and pursue advanced training. Throughout participants work experience they have the support of an Employment Training Specialist to help them achieve their education and employment goals. Assessment and tutoring are provided to enable them to overcome deficiencies in Math and/or Language Arts.
URL:https://lafcc.org/event/youth-employment-orientation-63/
END:VEVENT
BEGIN:VEVENT
DTSTART;TZID=America/Los_Angeles:20160721T110000
DTEND;TZID=America/Los_Angeles:20160721T120000
DTSTAMP:20260423T064107
CREATED:20160628T172932Z
LAST-MODIFIED:20160628T173624Z
UID:10001935-1469098800-1469102400@lafcc.org
SUMMARY:Youth Employment Orientation
DESCRIPTION:Out of School Youth Employment (OSY) \nThe Out of School Youth Program offers youth ages 17-21 the opportunity to gain paid work experience (WEX) and pursue advanced training. Throughout participants work experience they have the support of an Employment Training Specialist to help them achieve their education and employment goals. Assessment and tutoring are provided to enable them to overcome deficiencies in Math and/or Language Arts.
URL:https://lafcc.org/event/youth-employment-orientation-61/
END:VEVENT
BEGIN:VEVENT
DTSTART;TZID=America/Los_Angeles:20160630T110000
DTEND;TZID=America/Los_Angeles:20160630T120000
DTSTAMP:20260423T064107
CREATED:20160525T172335Z
LAST-MODIFIED:20160525T173106Z
UID:10001894-1467284400-1467288000@lafcc.org
SUMMARY:Youth Employment Orientation
DESCRIPTION:Out of School Youth Employment (OSY) \nThe Out of School Youth Program offers youth ages 17-21 the opportunity to gain paid work experience (WEX) and pursue advanced training. Throughout participants work experience they have the support of an Employment Training Specialist to help them achieve their education and employment goals. Assessment and tutoring are provided to enable them to overcome deficiencies in Math and/or Language Arts.
URL:https://lafcc.org/event/ged-orientation-36/
END:VEVENT
BEGIN:VEVENT
DTSTART;TZID=America/Los_Angeles:20160623T110000
DTEND;TZID=America/Los_Angeles:20160623T120000
DTSTAMP:20260423T064107
CREATED:20160525T172111Z
LAST-MODIFIED:20160525T172111Z
UID:10001893-1466679600-1466683200@lafcc.org
SUMMARY:Youth Employment Orientation
DESCRIPTION:Out of School Youth Employment (OSY) \nThe Out of School Youth Program offers youth ages 17-21 the opportunity to gain paid work experience (WEX) and pursue advanced training. Throughout participants work experience they have the support of an Employment Training Specialist to help them achieve their education and employment goals. Assessment and tutoring are provided to enable them to overcome deficiencies in Math and/or Language Arts.
URL:https://lafcc.org/event/youth-employment-orientation-54/
END:VEVENT
BEGIN:VEVENT
DTSTART;TZID=America/Los_Angeles:20160621T110000
DTEND;TZID=America/Los_Angeles:20160621T120000
DTSTAMP:20260423T064107
CREATED:20160525T172022Z
LAST-MODIFIED:20160525T172022Z
UID:10001892-1466506800-1466510400@lafcc.org
SUMMARY:Youth Employment Orientation
DESCRIPTION:Out of School Youth Employment (OSY) \nThe Out of School Youth Program offers youth ages 17-21 the opportunity to gain paid work experience (WEX) and pursue advanced training. Throughout participants work experience they have the support of an Employment Training Specialist to help them achieve their education and employment goals. Assessment and tutoring are provided to enable them to overcome deficiencies in Math and/or Language Arts.
URL:https://lafcc.org/event/youth-employment-orientation-53/
END:VEVENT
BEGIN:VEVENT
DTSTART;TZID=America/Los_Angeles:20160616T110000
DTEND;TZID=America/Los_Angeles:20160616T120000
DTSTAMP:20260423T064107
CREATED:20160525T171732Z
LAST-MODIFIED:20160525T171732Z
UID:10000578-1466074800-1466078400@lafcc.org
SUMMARY:Youth Employment Orientation
DESCRIPTION:Out of School Youth Employment (OSY) \nThe Out of School Youth Program offers youth ages 17-21 the opportunity to gain paid work experience (WEX) and pursue advanced training. Throughout participants work experience they have the support of an Employment Training Specialist to help them achieve their education and employment goals. Assessment and tutoring are provided to enable them to overcome deficiencies in Math and/or Language Arts.
URL:https://lafcc.org/event/youth-employment-orientation-51/
END:VEVENT
BEGIN:VEVENT
DTSTART;TZID=America/Los_Angeles:20160614T110000
DTEND;TZID=America/Los_Angeles:20160614T120000
DTSTAMP:20260423T064107
CREATED:20160525T171834Z
LAST-MODIFIED:20160525T171834Z
UID:10000579-1465902000-1465905600@lafcc.org
SUMMARY:Youth Employment Orientation
DESCRIPTION:Out of School Youth Employment (OSY) \nThe Out of School Youth Program offers youth ages 17-21 the opportunity to gain paid work experience (WEX) and pursue advanced training. Throughout participants work experience they have the support of an Employment Training Specialist to help them achieve their education and employment goals. Assessment and tutoring are provided to enable them to overcome deficiencies in Math and/or Language Arts.
URL:https://lafcc.org/event/youth-employment-orientation-52/
END:VEVENT
BEGIN:VEVENT
DTSTART;TZID=America/Los_Angeles:20160609T110000
DTEND;TZID=America/Los_Angeles:20160609T120000
DTSTAMP:20260423T064107
CREATED:20160525T171620Z
LAST-MODIFIED:20160525T171620Z
UID:10000577-1465470000-1465473600@lafcc.org
SUMMARY:Youth Employment Orientation
DESCRIPTION:Out of School Youth Employment (OSY) \nThe Out of School Youth Program offers youth ages 17-21 the opportunity to gain paid work experience (WEX) and pursue advanced training. Throughout participants work experience they have the support of an Employment Training Specialist to help them achieve their education and employment goals. Assessment and tutoring are provided to enable them to overcome deficiencies in Math and/or Language Arts.
URL:https://lafcc.org/event/youth-employment-orientation-50/
END:VEVENT
BEGIN:VEVENT
DTSTART;TZID=America/Los_Angeles:20160607T110000
DTEND;TZID=America/Los_Angeles:20160607T120000
DTSTAMP:20260423T064107
CREATED:20160525T171451Z
LAST-MODIFIED:20160525T171451Z
UID:10000576-1465297200-1465300800@lafcc.org
SUMMARY:Youth Employment Orientation
DESCRIPTION:Out of School Youth Employment (OSY) \nThe Out of School Youth Program offers youth ages 17-21 the opportunity to gain paid work experience (WEX) and pursue advanced training. Throughout participants work experience they have the support of an Employment Training Specialist to help them achieve their education and employment goals. Assessment and tutoring are provided to enable them to overcome deficiencies in Math and/or Language Arts.
URL:https://lafcc.org/event/youth-employment-orientation-49/
END:VEVENT
BEGIN:VEVENT
DTSTART;TZID=America/Los_Angeles:20141230T120000
DTEND;TZID=America/Los_Angeles:20141230T130000
DTSTAMP:20260423T064107
CREATED:20141202T181740Z
LAST-MODIFIED:20141202T181740Z
UID:10000190-1419940800-1419944400@lafcc.org
SUMMARY:O-S-Youth Orientation
DESCRIPTION:Out of School Youth Employment (OSY) \nThe Out of School Youth Program offers youth ages 17-21 the opportunity to gain paid work experience (WEX) and pursue advanced training. Throughout participants work experience they have the support of an Employment Training Specialist to help them achieve their education and employment goals. Assessment and tutoring are provided to enable them to overcome deficiencies in Math and/or Language Arts.
URL:https://lafcc.org/event/o-s-youth-orientation-25/
END:VEVENT
BEGIN:VEVENT
DTSTART;TZID=America/Los_Angeles:20141223T120000
DTEND;TZID=America/Los_Angeles:20141223T130000
DTSTAMP:20260423T064107
CREATED:20141202T181642Z
LAST-MODIFIED:20141202T181642Z
UID:10000189-1419336000-1419339600@lafcc.org
SUMMARY:O-S-Youth Orientation
DESCRIPTION:Out of School Youth Employment (OSY) \nThe Out of School Youth Program offers youth ages 17-21 the opportunity to gain paid work experience (WEX) and pursue advanced training. Throughout participants work experience they have the support of an Employment Training Specialist to help them achieve their education and employment goals. Assessment and tutoring are provided to enable them to overcome deficiencies in Math and/or Language Arts.
URL:https://lafcc.org/event/o-s-youth-orientation-24/
END:VEVENT
BEGIN:VEVENT
DTSTART;TZID=America/Los_Angeles:20141218T120000
DTEND;TZID=America/Los_Angeles:20141218T130000
DTSTAMP:20260423T064107
CREATED:20141202T181525Z
LAST-MODIFIED:20141202T181525Z
UID:10000181-1418904000-1418907600@lafcc.org
SUMMARY:O-S-Youth Orientation
DESCRIPTION:Out of School Youth Employment (OSY) \nThe Out of School Youth Program offers youth ages 17-21 the opportunity to gain paid work experience (WEX) and pursue advanced training. Throughout participants work experience they have the support of an Employment Training Specialist to help them achieve their education and employment goals. Assessment and tutoring are provided to enable them to overcome deficiencies in Math and/or Language Arts.
URL:https://lafcc.org/event/o-s-youth-orientation-23/
END:VEVENT
BEGIN:VEVENT
DTSTART;TZID=America/Los_Angeles:20141216T120000
DTEND;TZID=America/Los_Angeles:20141216T130000
DTSTAMP:20260423T064107
CREATED:20141202T181401Z
LAST-MODIFIED:20141202T181401Z
UID:10000187-1418731200-1418734800@lafcc.org
SUMMARY:O-S-Youth Orientation
DESCRIPTION:Out of School Youth Employment (OSY) \nThe Out of School Youth Program offers youth ages 17-21 the opportunity to gain paid work experience (WEX) and pursue advanced training. Throughout participants work experience they have the support of an Employment Training Specialist to help them achieve their education and employment goals. Assessment and tutoring are provided to enable them to overcome deficiencies in Math and/or Language Arts.
URL:https://lafcc.org/event/o-s-youth-orientation-22/
END:VEVENT
BEGIN:VEVENT
DTSTART;TZID=America/Los_Angeles:20141211T120000
DTEND;TZID=America/Los_Angeles:20141211T130000
DTSTAMP:20260423T064107
CREATED:20141202T181259Z
LAST-MODIFIED:20141202T181259Z
UID:10000619-1418299200-1418302800@lafcc.org
SUMMARY:O-S-Youth Orientation
DESCRIPTION:Out of School Youth Employment (OSY) \nThe Out of School Youth Program offers youth ages 17-21 the opportunity to gain paid work experience (WEX) and pursue advanced training. Throughout participants work experience they have the support of an Employment Training Specialist to help them achieve their education and employment goals. Assessment and tutoring are provided to enable them to overcome deficiencies in Math and/or Language Arts.
URL:https://lafcc.org/event/o-s-youth-orientation-21/
END:VEVENT
BEGIN:VEVENT
DTSTART;TZID=America/Los_Angeles:20140923T120000
DTEND;TZID=America/Los_Angeles:20140923T130000
DTSTAMP:20260423T064107
CREATED:20140911T203232Z
LAST-MODIFIED:20140911T203232Z
UID:10000097-1411473600-1411477200@lafcc.org
SUMMARY:OSY Orientation
DESCRIPTION:Out of School Youth Employment (OSY) \nThe Out of School Youth Program offers youth ages 17-21 the opportunity to gain paid work experience (WEX) and pursue advanced training. Throughout participants work experience they have the support of an Employment Training Specialist to help them achieve their education and employment goals. Assessment and tutoring are provided to enable them to overcome deficiencies in Math and/or Language Arts.
URL:https://lafcc.org/event/osy-orientation-3/
END:VEVENT
END:VCALENDAR