BEGIN:VCALENDAR
VERSION:2.0
PRODID:-//La Familia Counseling Center - ECPv6.15.20//NONSGML v1.0//EN
CALSCALE:GREGORIAN
METHOD:PUBLISH
X-ORIGINAL-URL:https://lafcc.org
X-WR-CALDESC:Events for La Familia Counseling Center
REFRESH-INTERVAL;VALUE=DURATION:PT1H
X-Robots-Tag:noindex
X-PUBLISHED-TTL:PT1H
BEGIN:VTIMEZONE
TZID:America/Los_Angeles
BEGIN:DAYLIGHT
TZOFFSETFROM:-0800
TZOFFSETTO:-0700
TZNAME:PDT
DTSTART:20130310T100000
END:DAYLIGHT
BEGIN:STANDARD
TZOFFSETFROM:-0700
TZOFFSETTO:-0800
TZNAME:PST
DTSTART:20131103T090000
END:STANDARD
BEGIN:DAYLIGHT
TZOFFSETFROM:-0800
TZOFFSETTO:-0700
TZNAME:PDT
DTSTART:20140309T100000
END:DAYLIGHT
BEGIN:STANDARD
TZOFFSETFROM:-0700
TZOFFSETTO:-0800
TZNAME:PST
DTSTART:20141102T090000
END:STANDARD
BEGIN:DAYLIGHT
TZOFFSETFROM:-0800
TZOFFSETTO:-0700
TZNAME:PDT
DTSTART:20150308T100000
END:DAYLIGHT
BEGIN:STANDARD
TZOFFSETFROM:-0700
TZOFFSETTO:-0800
TZNAME:PST
DTSTART:20151101T090000
END:STANDARD
END:VTIMEZONE
BEGIN:VEVENT
DTSTART;TZID=America/Los_Angeles:20141118T120000
DTEND;TZID=America/Los_Angeles:20141118T130000
DTSTAMP:20260420T100428
CREATED:20141104T172913Z
LAST-MODIFIED:20141104T172913Z
UID:10000529-1416312000-1416315600@lafcc.org
SUMMARY:O-S-Youth Orientation
DESCRIPTION:Out of School Youth Employment (OSY) \nThe Out of School Youth Program offers youth ages 17-21 the opportunity to gain paid work experience (WEX) and pursue advanced training. Throughout participants work experience they have the support of an Employment Training Specialist to help them achieve their education and employment goals. Assessment and tutoring are provided to enable them to overcome deficiencies in Math and/or Language Arts.
URL:https://lafcc.org/event/o-s-youth-orientation-14/
END:VEVENT
END:VCALENDAR