BEGIN:VCALENDAR
VERSION:2.0
PRODID:-//La Familia Counseling Center - ECPv6.15.20//NONSGML v1.0//EN
CALSCALE:GREGORIAN
METHOD:PUBLISH
X-ORIGINAL-URL:https://lafcc.org
X-WR-CALDESC:Events for La Familia Counseling Center
REFRESH-INTERVAL;VALUE=DURATION:PT1H
X-Robots-Tag:noindex
X-PUBLISHED-TTL:PT1H
BEGIN:VTIMEZONE
TZID:America/Los_Angeles
BEGIN:DAYLIGHT
TZOFFSETFROM:-0800
TZOFFSETTO:-0700
TZNAME:PDT
DTSTART:20160313T100000
END:DAYLIGHT
BEGIN:STANDARD
TZOFFSETFROM:-0700
TZOFFSETTO:-0800
TZNAME:PST
DTSTART:20161106T090000
END:STANDARD
BEGIN:DAYLIGHT
TZOFFSETFROM:-0800
TZOFFSETTO:-0700
TZNAME:PDT
DTSTART:20170312T100000
END:DAYLIGHT
BEGIN:STANDARD
TZOFFSETFROM:-0700
TZOFFSETTO:-0800
TZNAME:PST
DTSTART:20171105T090000
END:STANDARD
BEGIN:DAYLIGHT
TZOFFSETFROM:-0800
TZOFFSETTO:-0700
TZNAME:PDT
DTSTART:20180311T100000
END:DAYLIGHT
BEGIN:STANDARD
TZOFFSETFROM:-0700
TZOFFSETTO:-0800
TZNAME:PST
DTSTART:20181104T090000
END:STANDARD
END:VTIMEZONE
BEGIN:VEVENT
DTSTART;TZID=America/Los_Angeles:20170605T153000
DTEND;TZID=America/Los_Angeles:20170605T173000
DTSTAMP:20260423T121101
CREATED:20170519T170451Z
LAST-MODIFIED:20170523T221635Z
UID:10002221-1496676600-1496683800@lafcc.org
SUMMARY:Homework Club Last Day
DESCRIPTION:
URL:https://lafcc.org/event/homework-club-10/
LOCATION:Maple Neighborhood Center\, 3301 37th Avenue\, Sacramento\, 95824
END:VEVENT
BEGIN:VEVENT
DTSTART;TZID=America/Los_Angeles:20170522T153000
DTEND;TZID=America/Los_Angeles:20170522T173000
DTSTAMP:20260423T121101
CREATED:20170411T160815Z
LAST-MODIFIED:20170411T160815Z
UID:10000864-1495467000-1495474200@lafcc.org
SUMMARY:Homework Club
DESCRIPTION:
URL:https://lafcc.org/event/homework-club-9/
LOCATION:Maple Neighborhood Center\, 3301 37th Avenue\, Sacramento\, 95824
END:VEVENT
BEGIN:VEVENT
DTSTART;TZID=America/Los_Angeles:20170515T153000
DTEND;TZID=America/Los_Angeles:20170515T173000
DTSTAMP:20260423T121101
CREATED:20170411T160508Z
LAST-MODIFIED:20170411T160508Z
UID:10000863-1494862200-1494869400@lafcc.org
SUMMARY:Homework Club
DESCRIPTION:
URL:https://lafcc.org/event/homework-club-8/
LOCATION:Maple Neighborhood Center\, 3301 37th Avenue\, Sacramento\, 95824
END:VEVENT
BEGIN:VEVENT
DTSTART;TZID=America/Los_Angeles:20170508T153000
DTEND;TZID=America/Los_Angeles:20170508T173000
DTSTAMP:20260423T121101
CREATED:20170411T154945Z
LAST-MODIFIED:20170411T155055Z
UID:10000862-1494257400-1494264600@lafcc.org
SUMMARY:Homework Club
DESCRIPTION:
URL:https://lafcc.org/event/homework-club-7/
LOCATION:Maple Neighborhood Center\, 3301 37th Avenue\, Sacramento\, 95824
END:VEVENT
BEGIN:VEVENT
DTSTART;TZID=America/Los_Angeles:20170501T153000
DTEND;TZID=America/Los_Angeles:20170501T173000
DTSTAMP:20260423T121101
CREATED:20170411T154747Z
LAST-MODIFIED:20170411T154747Z
UID:10000861-1493652600-1493659800@lafcc.org
SUMMARY:Homework Club
DESCRIPTION:
URL:https://lafcc.org/event/homework-club-6/
LOCATION:Maple Neighborhood Center\, 3301 37th Avenue\, Sacramento\, 95824
END:VEVENT
BEGIN:VEVENT
DTSTART;TZID=America/Los_Angeles:20170424T153000
DTEND;TZID=America/Los_Angeles:20170424T173000
DTSTAMP:20260423T121101
CREATED:20170321T183808Z
LAST-MODIFIED:20170321T183808Z
UID:10002150-1493047800-1493055000@lafcc.org
SUMMARY:Homework Club
DESCRIPTION:
URL:https://lafcc.org/event/homework-club-5/
LOCATION:Maple Neighborhood Center\, 3301 37th Avenue\, Sacramento\, 95824
END:VEVENT
BEGIN:VEVENT
DTSTART;TZID=America/Los_Angeles:20170417T153000
DTEND;TZID=America/Los_Angeles:20170417T173000
DTSTAMP:20260423T121101
CREATED:20170321T183520Z
LAST-MODIFIED:20170321T183520Z
UID:10002149-1492443000-1492450200@lafcc.org
SUMMARY:Homework Club
DESCRIPTION:
URL:https://lafcc.org/event/homework-club-4/
LOCATION:Maple Neighborhood Center\, 3301 37th Avenue\, Sacramento\, 95824
END:VEVENT
BEGIN:VEVENT
DTSTART;TZID=America/Los_Angeles:20170410T153000
DTEND;TZID=America/Los_Angeles:20170410T173000
DTSTAMP:20260423T121101
CREATED:20170321T183043Z
LAST-MODIFIED:20170321T183126Z
UID:10002148-1491838200-1491845400@lafcc.org
SUMMARY:Homework Club
DESCRIPTION:
URL:https://lafcc.org/event/homework-club-3/
LOCATION:Maple Neighborhood Center\, 3301 37th Avenue\, Sacramento\, 95824
END:VEVENT
BEGIN:VEVENT
DTSTART;TZID=America/Los_Angeles:20170403T153000
DTEND;TZID=America/Los_Angeles:20170403T173000
DTSTAMP:20260423T121101
CREATED:20170321T182234Z
LAST-MODIFIED:20170321T182725Z
UID:10002147-1491233400-1491240600@lafcc.org
SUMMARY:Homework Club
DESCRIPTION:
URL:https://lafcc.org/event/homework-club-2/
LOCATION:Maple Neighborhood Center\, 3301 37th Avenue\, Sacramento\, 95824
END:VEVENT
BEGIN:VEVENT
DTSTART;TZID=America/Los_Angeles:20170320T153000
DTEND;TZID=America/Los_Angeles:20170320T173000
DTSTAMP:20260423T121101
CREATED:20170316T192911Z
LAST-MODIFIED:20170316T192911Z
UID:10000836-1490023800-1490031000@lafcc.org
SUMMARY:Homework Club
DESCRIPTION:
URL:https://lafcc.org/event/homework-club/
LOCATION:Maple Neighborhood Center\, 3301 37th Avenue\, Sacramento\, 95824
END:VEVENT
END:VCALENDAR