BEGIN:VCALENDAR
VERSION:2.0
PRODID:-//La Familia Counseling Center - ECPv6.15.20//NONSGML v1.0//EN
CALSCALE:GREGORIAN
METHOD:PUBLISH
X-WR-CALNAME:La Familia Counseling Center
X-ORIGINAL-URL:https://lafcc.org
X-WR-CALDESC:Events for La Familia Counseling Center
REFRESH-INTERVAL;VALUE=DURATION:PT1H
X-Robots-Tag:noindex
X-PUBLISHED-TTL:PT1H
BEGIN:VTIMEZONE
TZID:America/Los_Angeles
BEGIN:DAYLIGHT
TZOFFSETFROM:-0800
TZOFFSETTO:-0700
TZNAME:PDT
DTSTART:20170312T100000
END:DAYLIGHT
BEGIN:STANDARD
TZOFFSETFROM:-0700
TZOFFSETTO:-0800
TZNAME:PST
DTSTART:20171105T090000
END:STANDARD
BEGIN:DAYLIGHT
TZOFFSETFROM:-0800
TZOFFSETTO:-0700
TZNAME:PDT
DTSTART:20180311T100000
END:DAYLIGHT
BEGIN:STANDARD
TZOFFSETFROM:-0700
TZOFFSETTO:-0800
TZNAME:PST
DTSTART:20181104T090000
END:STANDARD
BEGIN:DAYLIGHT
TZOFFSETFROM:-0800
TZOFFSETTO:-0700
TZNAME:PDT
DTSTART:20190310T100000
END:DAYLIGHT
BEGIN:STANDARD
TZOFFSETFROM:-0700
TZOFFSETTO:-0800
TZNAME:PST
DTSTART:20191103T090000
END:STANDARD
BEGIN:DAYLIGHT
TZOFFSETFROM:-0800
TZOFFSETTO:-0700
TZNAME:PDT
DTSTART:20200308T100000
END:DAYLIGHT
BEGIN:STANDARD
TZOFFSETFROM:-0700
TZOFFSETTO:-0800
TZNAME:PST
DTSTART:20201101T090000
END:STANDARD
BEGIN:DAYLIGHT
TZOFFSETFROM:-0800
TZOFFSETTO:-0700
TZNAME:PDT
DTSTART:20210314T100000
END:DAYLIGHT
BEGIN:STANDARD
TZOFFSETFROM:-0700
TZOFFSETTO:-0800
TZNAME:PST
DTSTART:20211107T090000
END:STANDARD
END:VTIMEZONE
BEGIN:VEVENT
DTSTART;TZID=America/Los_Angeles:20200214T160000
DTEND;TZID=America/Los_Angeles:20200214T180000
DTSTAMP:20260420T072938
CREATED:20200211T172836Z
LAST-MODIFIED:20200211T172836Z
UID:10002805-1581696000-1581703200@lafcc.org
SUMMARY:Youth Voice
DESCRIPTION:Youth Voice provides youth ages 13-21 with the opportunity to develop leadership skills through community service project\, system change\, educational and career opportunities through peer mentoring to become engaged with issues that impact youth violence and other health related issues in order to become stakeholders in their community.
URL:https://lafcc.org/event/youth-voice-155/
LOCATION:Maple Neighborhood Center\, 3301 37th Avenue\, Sacramento\, 95824
END:VEVENT
BEGIN:VEVENT
DTSTART;TZID=America/Los_Angeles:20200207T160000
DTEND;TZID=America/Los_Angeles:20200207T180000
DTSTAMP:20260420T072938
CREATED:20200211T172931Z
LAST-MODIFIED:20200211T172931Z
UID:10002806-1581091200-1581098400@lafcc.org
SUMMARY:Youth Voice
DESCRIPTION:Youth Voice provides youth ages 13-21 with the opportunity to develop leadership skills through community service project\, system change\, educational and career opportunities through peer mentoring to become engaged with issues that impact youth violence and other health related issues in order to become stakeholders in their community.
URL:https://lafcc.org/event/youth-voice-156/
LOCATION:Maple Neighborhood Center\, 3301 37th Avenue\, Sacramento\, 95824
END:VEVENT
BEGIN:VEVENT
DTSTART;TZID=America/Los_Angeles:20191206T160000
DTEND;TZID=America/Los_Angeles:20191206T180000
DTSTAMP:20260420T072938
CREATED:20191203T174625Z
LAST-MODIFIED:20191203T174625Z
UID:10001451-1575648000-1575655200@lafcc.org
SUMMARY:Youth Voice
DESCRIPTION:Youth Voice provides youth ages 13-21 with the opportunity to develop leadership skills through community service project\, system change\, educational and career opportunities through peer mentoring to become engaged with issues that impact youth violence and other health related issues in order to become stakeholders in their community.
URL:https://lafcc.org/event/youth-voice-154/
LOCATION:Maple Neighborhood Center\, 3301 37th Avenue\, Sacramento\, 95824
END:VEVENT
BEGIN:VEVENT
DTSTART;TZID=America/Los_Angeles:20191122T160000
DTEND;TZID=America/Los_Angeles:20191122T200000
DTSTAMP:20260420T072938
CREATED:20191121T174827Z
LAST-MODIFIED:20191121T174850Z
UID:10002763-1574438400-1574452800@lafcc.org
SUMMARY:Youth Pop Up
DESCRIPTION:
URL:https://lafcc.org/event/youth-pop-up/
END:VEVENT
BEGIN:VEVENT
DTSTART;TZID=America/Los_Angeles:20191115T160000
DTEND;TZID=America/Los_Angeles:20191115T180000
DTSTAMP:20260420T072938
CREATED:20191105T230910Z
LAST-MODIFIED:20191105T230910Z
UID:10001448-1573833600-1573840800@lafcc.org
SUMMARY:Youth Voice
DESCRIPTION:Youth Voice provides youth ages 13-21 with the opportunity to develop leadership skills through community service project\, system change\, educational and career opportunities through peer mentoring to become engaged with issues that impact youth violence and other health related issues in order to become stakeholders in their community.
URL:https://lafcc.org/event/youth-voice-153/
LOCATION:Maple Neighborhood Center\, 3301 37th Avenue\, Sacramento\, 95824
END:VEVENT
BEGIN:VEVENT
DTSTART;TZID=America/Los_Angeles:20191108T160000
DTEND;TZID=America/Los_Angeles:20191108T180000
DTSTAMP:20260420T072938
CREATED:20191105T230806Z
LAST-MODIFIED:20191105T230806Z
UID:10001447-1573228800-1573236000@lafcc.org
SUMMARY:Youth Voice
DESCRIPTION:Youth Voice provides youth ages 13-21 with the opportunity to develop leadership skills through community service project\, system change\, educational and career opportunities through peer mentoring to become engaged with issues that impact youth violence and other health related issues in order to become stakeholders in their community.
URL:https://lafcc.org/event/youth-voice-152/
LOCATION:Maple Neighborhood Center\, 3301 37th Avenue\, Sacramento\, 95824
END:VEVENT
BEGIN:VEVENT
DTSTART;TZID=America/Los_Angeles:20190816T130000
DTEND;TZID=America/Los_Angeles:20190816T170000
DTSTAMP:20260420T072938
CREATED:20190804T190113Z
LAST-MODIFIED:20190804T190113Z
UID:10001392-1565960400-1565974800@lafcc.org
SUMMARY:Club Excel
DESCRIPTION:Club Excel offers a fun\, free summer program focused to engage youth ages 12-21. This program consists of arts and crafts\, physical activities and other educational clinics. Club Excel seeks to make all activities safe\, fun and healthy\, while promoting the value and importance of the development of youth both mentally and physically.
URL:https://lafcc.org/event/club-excel-29/
LOCATION:Maple Neighborhood Center\, 3301 37th Avenue\, Sacramento\, 95824
END:VEVENT
BEGIN:VEVENT
DTSTART;TZID=America/Los_Angeles:20190802T130000
DTEND;TZID=America/Los_Angeles:20190802T170000
DTSTAMP:20260420T072938
CREATED:20190804T185920Z
LAST-MODIFIED:20190804T185920Z
UID:10001391-1564750800-1564765200@lafcc.org
SUMMARY:Club Excel
DESCRIPTION:Club Excel offers a fun\, free summer program focused to engage youth ages 12-21. This program consists of arts and crafts\, physical activities and other educational clinics. Club Excel seeks to make all activities safe\, fun and healthy\, while promoting the value and importance of the development of youth both mentally and physically.
URL:https://lafcc.org/event/club-excel-28/
LOCATION:Maple Neighborhood Center\, 3301 37th Avenue\, Sacramento\, 95824
END:VEVENT
BEGIN:VEVENT
DTSTART;TZID=America/Los_Angeles:20190621T180000
DTEND;TZID=America/Los_Angeles:20190621T200000
DTSTAMP:20260420T072938
CREATED:20190611T190831Z
LAST-MODIFIED:20190611T190848Z
UID:10001377-1561140000-1561147200@lafcc.org
SUMMARY:Youth Voice
DESCRIPTION:Youth Voice provides youth ages 14-21 with the opportunity to develop leadership skills through community service project\, system change\, educational and career opportunities through peer mentoring to become engaged with issues that impact youth violence and other health related issues in order to become stakeholders in their community.
URL:https://lafcc.org/event/youth-voice-144/
LOCATION:Maple Neighborhood Center\, 3301 37th Avenue\, Sacramento\, 95824
END:VEVENT
BEGIN:VEVENT
DTSTART;TZID=America/Los_Angeles:20190607T180000
DTEND;TZID=America/Los_Angeles:20190607T200000
DTSTAMP:20260420T072938
CREATED:20190611T190743Z
LAST-MODIFIED:20190611T190743Z
UID:10001376-1559930400-1559937600@lafcc.org
SUMMARY:Youth Voice
DESCRIPTION:Youth Voice provides youth ages 14-21 with the opportunity to develop leadership skills through community service project\, system change\, educational and career opportunities through peer mentoring to become engaged with issues that impact youth violence and other health related issues in order to become stakeholders in their community.
URL:https://lafcc.org/event/youth-voice-143/
LOCATION:Maple Neighborhood Center\, 3301 37th Avenue\, Sacramento\, 95824
END:VEVENT
BEGIN:VEVENT
DTSTART;TZID=America/Los_Angeles:20190531T160000
DTEND;TZID=America/Los_Angeles:20190531T180000
DTSTAMP:20260420T072938
CREATED:20190506T203519Z
LAST-MODIFIED:20190506T203519Z
UID:10002680-1559318400-1559325600@lafcc.org
SUMMARY:Youth Voice
DESCRIPTION:Youth Voice provides youth ages 14-21 with the opportunity to develop leadership skills through community service project\, system change\, educational and career opportunities through peer mentoring to become engaged with issues that impact youth violence and other health related issues in order to become stakeholders in their community.
URL:https://lafcc.org/event/youth-voice-142/
LOCATION:Maple Neighborhood Center\, 3301 37th Avenue\, Sacramento\, 95824
END:VEVENT
BEGIN:VEVENT
DTSTART;TZID=America/Los_Angeles:20190517T160000
DTEND;TZID=America/Los_Angeles:20190517T180000
DTSTAMP:20260420T072938
CREATED:20190506T203405Z
LAST-MODIFIED:20190506T203405Z
UID:10002679-1558108800-1558116000@lafcc.org
SUMMARY:Youth Voice
DESCRIPTION:Youth Voice provides youth ages 14-21 with the opportunity to develop leadership skills through community service project\, system change\, educational and career opportunities through peer mentoring to become engaged with issues that impact youth violence and other health related issues in order to become stakeholders in their community.
URL:https://lafcc.org/event/youth-voice-141/
LOCATION:Maple Neighborhood Center\, 3301 37th Avenue\, Sacramento\, 95824
END:VEVENT
BEGIN:VEVENT
DTSTART;TZID=America/Los_Angeles:20190510T160000
DTEND;TZID=America/Los_Angeles:20190510T180000
DTSTAMP:20260420T072938
CREATED:20190506T203311Z
LAST-MODIFIED:20190506T203311Z
UID:10002678-1557504000-1557511200@lafcc.org
SUMMARY:Youth Voice
DESCRIPTION:Youth Voice provides youth ages 14-21 with the opportunity to develop leadership skills through community service project\, system change\, educational and career opportunities through peer mentoring to become engaged with issues that impact youth violence and other health related issues in order to become stakeholders in their community.
URL:https://lafcc.org/event/youth-voice-140/
LOCATION:Maple Neighborhood Center\, 3301 37th Avenue\, Sacramento\, 95824
END:VEVENT
BEGIN:VEVENT
DTSTART;TZID=America/Los_Angeles:20190222T160000
DTEND;TZID=America/Los_Angeles:20190222T180000
DTSTAMP:20260420T072938
CREATED:20190131T232438Z
LAST-MODIFIED:20190131T232438Z
UID:10002654-1550851200-1550858400@lafcc.org
SUMMARY:Youth Voice
DESCRIPTION:Youth Voice provides youth ages 14-21 with the opportunity to develop leadership skills through community service project\, system change\, educational and career opportunities through peer mentoring to become engaged with issues that impact youth violence and other health related issues in order to become stakeholders in their community.
URL:https://lafcc.org/event/youth-voice-139/
LOCATION:Maple Neighborhood Center\, 3301 37th Avenue\, Sacramento\, 95824
END:VEVENT
BEGIN:VEVENT
DTSTART;TZID=America/Los_Angeles:20190215T160000
DTEND;TZID=America/Los_Angeles:20190215T180000
DTSTAMP:20260420T072938
CREATED:20190131T232331Z
LAST-MODIFIED:20190131T232331Z
UID:10002653-1550246400-1550253600@lafcc.org
SUMMARY:Youth Voice
DESCRIPTION:Youth Voice provides youth ages 14-21 with the opportunity to develop leadership skills through community service project\, system change\, educational and career opportunities through peer mentoring to become engaged with issues that impact youth violence and other health related issues in order to become stakeholders in their community.
URL:https://lafcc.org/event/youth-voice-138/
LOCATION:Maple Neighborhood Center\, 3301 37th Avenue\, Sacramento\, 95824
END:VEVENT
BEGIN:VEVENT
DTSTART;TZID=America/Los_Angeles:20190208T160000
DTEND;TZID=America/Los_Angeles:20190208T180000
DTSTAMP:20260420T072938
CREATED:20190131T232142Z
LAST-MODIFIED:20190131T232142Z
UID:10002652-1549641600-1549648800@lafcc.org
SUMMARY:Youth Voice
DESCRIPTION:Youth Voice provides youth ages 14-21 with the opportunity to develop leadership skills through community service project\, system change\, educational and career opportunities through peer mentoring to become engaged with issues that impact youth violence and other health related issues in order to become stakeholders in their community. \n 
URL:https://lafcc.org/event/youth-voice-137/
LOCATION:Maple Neighborhood Center\, 3301 37th Avenue\, Sacramento\, 95824
END:VEVENT
BEGIN:VEVENT
DTSTART;TZID=America/Los_Angeles:20190201T160000
DTEND;TZID=America/Los_Angeles:20190201T180000
DTSTAMP:20260420T072938
CREATED:20190131T232025Z
LAST-MODIFIED:20190131T232025Z
UID:10002651-1549036800-1549044000@lafcc.org
SUMMARY:Youth Voice
DESCRIPTION:Youth Voice provides youth ages 14-21 with the opportunity to develop leadership skills through community service project\, system change\, educational and career opportunities through peer mentoring to become engaged with issues that impact youth violence and other health related issues in order to become stakeholders in their community. \n 
URL:https://lafcc.org/event/youth-voice-136/
LOCATION:Maple Neighborhood Center\, 3301 37th Avenue\, Sacramento\, 95824
END:VEVENT
BEGIN:VEVENT
DTSTART;TZID=America/Los_Angeles:20181207T160000
DTEND;TZID=America/Los_Angeles:20181207T180000
DTSTAMP:20260420T072938
CREATED:20181203T183622Z
LAST-MODIFIED:20181203T183622Z
UID:10002618-1544198400-1544205600@lafcc.org
SUMMARY:Youth Voice
DESCRIPTION:Youth Voice provides youth ages 14-21 with the opportunity to develop leadership skills through community service project\, system change\, educational and career opportunities through peer mentoring to become engaged with issues that impact youth violence and other health related issues in order to become stakeholders in their community.
URL:https://lafcc.org/event/youth-voice-135/
LOCATION:Maple Neighborhood Center\, 3301 37th Avenue\, Sacramento\, 95824
END:VEVENT
BEGIN:VEVENT
DTSTART;TZID=America/Los_Angeles:20181116T160000
DTEND;TZID=America/Los_Angeles:20181116T180000
DTSTAMP:20260420T072938
CREATED:20181114T162152Z
LAST-MODIFIED:20181114T162152Z
UID:10002600-1542384000-1542391200@lafcc.org
SUMMARY:Youth Voice
DESCRIPTION:Youth Voice provides youth ages 14-21 with the opportunity to develop leadership skills through community service project\, system change\, educational and career opportunities through peer mentoring to become engaged with issues that impact youth violence and other health related issues in order to become stakeholders in their community.
URL:https://lafcc.org/event/youth-voice-134/
LOCATION:La Familia Counseling Center Inc.\, 5523 34th Street\, Sacramento\, 95820
END:VEVENT
BEGIN:VEVENT
DTSTART;TZID=America/Los_Angeles:20180928T180000
DTEND;TZID=America/Los_Angeles:20180928T200000
DTSTAMP:20260420T072938
CREATED:20180902T214144Z
LAST-MODIFIED:20180902T214144Z
UID:10002562-1538157600-1538164800@lafcc.org
SUMMARY:Youth Voice
DESCRIPTION:Youth Voice provides youth ages 14-21 with the opportunity to develop leadership skills through community service project\, system change\, educational and career opportunities through peer mentoring to become engaged with issues that impact youth violence and other health related issues in order to become stakeholders in their community.
URL:https://lafcc.org/event/youth-voice-129/
LOCATION:Maple Neighborhood Center\, 3301 37th Avenue\, Sacramento\, 95824
END:VEVENT
BEGIN:VEVENT
DTSTART;TZID=America/Los_Angeles:20180921T160000
DTEND;TZID=America/Los_Angeles:20180921T180000
DTSTAMP:20260420T072938
CREATED:20180902T213923Z
LAST-MODIFIED:20180902T213923Z
UID:10002561-1537545600-1537552800@lafcc.org
SUMMARY:Youth Voice
DESCRIPTION:Youth Voice provides youth ages 14-21 with the opportunity to develop leadership skills through community service project\, system change\, educational and career opportunities through peer mentoring to become engaged with issues that impact youth violence and other health related issues in order to become stakeholders in their community.
URL:https://lafcc.org/event/youth-voice-128/
LOCATION:Maple Neighborhood Center\, 3301 37th Avenue\, Sacramento\, 95824
END:VEVENT
BEGIN:VEVENT
DTSTART;TZID=America/Los_Angeles:20180914T160000
DTEND;TZID=America/Los_Angeles:20180914T180000
DTSTAMP:20260420T072938
CREATED:20180902T213651Z
LAST-MODIFIED:20180902T213651Z
UID:10002560-1536940800-1536948000@lafcc.org
SUMMARY:Youth Voice
DESCRIPTION:Youth Voice provides youth ages 14-21 with the opportunity to develop leadership skills through community service project\, system change\, educational and career opportunities through peer mentoring to become engaged with issues that impact youth violence and other health related issues in order to become stakeholders in their community.
URL:https://lafcc.org/event/youth-voice-127/
LOCATION:Maple Neighborhood Center\, 3301 37th Avenue\, Sacramento\, 95824
END:VEVENT
BEGIN:VEVENT
DTSTART;TZID=America/Los_Angeles:20180817T130000
DTEND;TZID=America/Los_Angeles:20180817T160000
DTSTAMP:20260420T072938
CREATED:20180713T171026Z
LAST-MODIFIED:20180713T171049Z
UID:10002525-1534510800-1534521600@lafcc.org
SUMMARY:CLUB EXCEL
DESCRIPTION:Club Excel offers a fun\, free summer program focused to engage youth ages 12-20. This program consists of arts and crafts\, physical activities and other educational clinics. Club Excel seeks to make all activities safe\, fun and healthy\, while promoting the value and importance of the development of youth both mentally and physically.
URL:https://lafcc.org/event/club-excel-27/
LOCATION:Maple Neighborhood Center\, 3301 37th Avenue\, Sacramento\, 95824
END:VEVENT
BEGIN:VEVENT
DTSTART;TZID=America/Los_Angeles:20180810T130000
DTEND;TZID=America/Los_Angeles:20180810T160000
DTSTAMP:20260420T072938
CREATED:20180713T170829Z
LAST-MODIFIED:20180713T170829Z
UID:10002524-1533906000-1533916800@lafcc.org
SUMMARY:CLUB EXCEL
DESCRIPTION:Club Excel offers a fun\, free summer program focused to engage youth ages 12-20. This program consists of arts and crafts\, physical activities and other educational clinics. Club Excel seeks to make all activities safe\, fun and healthy\, while promoting the value and importance of the development of youth both mentally and physically.
URL:https://lafcc.org/event/club-excel-26/
LOCATION:Maple Neighborhood Center\, 3301 37th Avenue\, Sacramento\, 95824
END:VEVENT
BEGIN:VEVENT
DTSTART;TZID=America/Los_Angeles:20180803T130000
DTEND;TZID=America/Los_Angeles:20180803T160000
DTSTAMP:20260420T072938
CREATED:20180713T170608Z
LAST-MODIFIED:20180713T170659Z
UID:10002523-1533301200-1533312000@lafcc.org
SUMMARY:CLUB EXCEL
DESCRIPTION:Club Excel offers a fun\, free summer program focused to engage youth ages 12-20. This program consists of arts and crafts\, physical activities and other educational clinics. Club Excel seeks to make all activities safe\, fun and healthy\, while promoting the value and importance of the development of youth both mentally and physically.
URL:https://lafcc.org/event/club-excel-25/
LOCATION:Maple Neighborhood Center\, 3301 37th Avenue\, Sacramento\, 95824
END:VEVENT
BEGIN:VEVENT
DTSTART;TZID=America/Los_Angeles:20180727T130000
DTEND;TZID=America/Los_Angeles:20180727T160000
DTSTAMP:20260420T072938
CREATED:20180709T163544Z
LAST-MODIFIED:20180713T170217Z
UID:10002521-1532696400-1532707200@lafcc.org
SUMMARY:Club Excel
DESCRIPTION:Club Excel offers a fun\, free summer program focused to engage youth ages 12-20. This program consists of arts and crafts\, physical activities and other educational clinics. Club Excel seeks to make all activities safe\, fun and healthy\, while promoting the value and importance of the development of youth both mentally and physically.
URL:https://lafcc.org/event/club-excel-24/
LOCATION:Maple Neighborhood Center\, 3301 37th Avenue\, Sacramento\, 95824
END:VEVENT
BEGIN:VEVENT
DTSTART;TZID=America/Los_Angeles:20180720T130000
DTEND;TZID=America/Los_Angeles:20180720T160000
DTSTAMP:20260420T072938
CREATED:20180709T163325Z
LAST-MODIFIED:20180709T163336Z
UID:10002520-1532091600-1532102400@lafcc.org
SUMMARY:Club Excel
DESCRIPTION:Club Excel offers a fun\, free summer program focused to engage youth ages 12-20. This program consists of arts and crafts\, physical activities and other educational clinics. Club Excel seeks to make all activities safe\, fun and healthy\, while promoting the value and importance of the development of youth both mentally and physically.
URL:https://lafcc.org/event/club-excel-23/
LOCATION:Maple Neighborhood Center\, 3301 37th Avenue\, Sacramento\, 95824
END:VEVENT
BEGIN:VEVENT
DTSTART;TZID=America/Los_Angeles:20180713T130000
DTEND;TZID=America/Los_Angeles:20180713T160000
DTSTAMP:20260420T072938
CREATED:20180709T162858Z
LAST-MODIFIED:20180709T163042Z
UID:10002519-1531486800-1531497600@lafcc.org
SUMMARY:Club Excel
DESCRIPTION:Club Excel offers a fun\, free summer program focused to engage youth ages 12-20. This program consists of arts and crafts\, physical activities and other educational clinics. Club Excel seeks to make all activities safe\, fun and healthy\, while promoting the value and importance of the development of youth both mentally and physically.
URL:https://lafcc.org/event/4357/
LOCATION:Maple Neighborhood Center\, 3301 37th Avenue\, Sacramento\, 95824
END:VEVENT
END:VCALENDAR