BEGIN:VCALENDAR
VERSION:2.0
PRODID:-//La Familia Counseling Center - ECPv6.15.20//NONSGML v1.0//EN
CALSCALE:GREGORIAN
METHOD:PUBLISH
X-WR-CALNAME:La Familia Counseling Center
X-ORIGINAL-URL:https://lafcc.org
X-WR-CALDESC:Events for La Familia Counseling Center
REFRESH-INTERVAL;VALUE=DURATION:PT1H
X-Robots-Tag:noindex
X-PUBLISHED-TTL:PT1H
BEGIN:VTIMEZONE
TZID:America/Los_Angeles
BEGIN:DAYLIGHT
TZOFFSETFROM:-0800
TZOFFSETTO:-0700
TZNAME:PDT
DTSTART:20130310T100000
END:DAYLIGHT
BEGIN:STANDARD
TZOFFSETFROM:-0700
TZOFFSETTO:-0800
TZNAME:PST
DTSTART:20131103T090000
END:STANDARD
BEGIN:DAYLIGHT
TZOFFSETFROM:-0800
TZOFFSETTO:-0700
TZNAME:PDT
DTSTART:20140309T100000
END:DAYLIGHT
BEGIN:STANDARD
TZOFFSETFROM:-0700
TZOFFSETTO:-0800
TZNAME:PST
DTSTART:20141102T090000
END:STANDARD
BEGIN:DAYLIGHT
TZOFFSETFROM:-0800
TZOFFSETTO:-0700
TZNAME:PDT
DTSTART:20150308T100000
END:DAYLIGHT
BEGIN:STANDARD
TZOFFSETFROM:-0700
TZOFFSETTO:-0800
TZNAME:PST
DTSTART:20151101T090000
END:STANDARD
END:VTIMEZONE
BEGIN:VEVENT
DTSTART;TZID=America/Los_Angeles:20140828T110000
DTEND;TZID=America/Los_Angeles:20140828T160000
DTSTAMP:20260420T041346
CREATED:20140728T173917Z
LAST-MODIFIED:20140728T204128Z
UID:10000217-1409223600-1409241600@lafcc.org
SUMMARY:Youth Empowerment Summit
DESCRIPTION:
URL:https://lafcc.org/event/youth-empowerment-summit/
LOCATION:La Familia Counseling Center Inc.\, 5523 34th Street\, Sacramento\, 95820
ORGANIZER;CN="Francisco Arreola":MAILTO:AFrancisco@lafcc.org
END:VEVENT
END:VCALENDAR