BEGIN:VCALENDAR
VERSION:2.0
PRODID:-//La Familia Counseling Center - ECPv6.15.20//NONSGML v1.0//EN
CALSCALE:GREGORIAN
METHOD:PUBLISH
X-WR-CALNAME:La Familia Counseling Center
X-ORIGINAL-URL:https://lafcc.org
X-WR-CALDESC:Events for La Familia Counseling Center
REFRESH-INTERVAL;VALUE=DURATION:PT1H
X-Robots-Tag:noindex
X-PUBLISHED-TTL:PT1H
BEGIN:VTIMEZONE
TZID:America/Los_Angeles
BEGIN:DAYLIGHT
TZOFFSETFROM:-0800
TZOFFSETTO:-0700
TZNAME:PDT
DTSTART:20150308T100000
END:DAYLIGHT
BEGIN:STANDARD
TZOFFSETFROM:-0700
TZOFFSETTO:-0800
TZNAME:PST
DTSTART:20151101T090000
END:STANDARD
BEGIN:DAYLIGHT
TZOFFSETFROM:-0800
TZOFFSETTO:-0700
TZNAME:PDT
DTSTART:20160313T100000
END:DAYLIGHT
BEGIN:STANDARD
TZOFFSETFROM:-0700
TZOFFSETTO:-0800
TZNAME:PST
DTSTART:20161106T090000
END:STANDARD
BEGIN:DAYLIGHT
TZOFFSETFROM:-0800
TZOFFSETTO:-0700
TZNAME:PDT
DTSTART:20170312T100000
END:DAYLIGHT
BEGIN:STANDARD
TZOFFSETFROM:-0700
TZOFFSETTO:-0800
TZNAME:PST
DTSTART:20171105T090000
END:STANDARD
BEGIN:DAYLIGHT
TZOFFSETFROM:-0800
TZOFFSETTO:-0700
TZNAME:PDT
DTSTART:20180311T100000
END:DAYLIGHT
BEGIN:STANDARD
TZOFFSETFROM:-0700
TZOFFSETTO:-0800
TZNAME:PST
DTSTART:20181104T090000
END:STANDARD
BEGIN:DAYLIGHT
TZOFFSETFROM:-0800
TZOFFSETTO:-0700
TZNAME:PDT
DTSTART:20190310T100000
END:DAYLIGHT
BEGIN:STANDARD
TZOFFSETFROM:-0700
TZOFFSETTO:-0800
TZNAME:PST
DTSTART:20191103T090000
END:STANDARD
END:VTIMEZONE
BEGIN:VEVENT
DTSTART;TZID=America/Los_Angeles:20180208T100000
DTEND;TZID=America/Los_Angeles:20180208T120000
DTSTAMP:20260419T082035
CREATED:20180125T222115Z
LAST-MODIFIED:20180125T222115Z
UID:10001070-1518084000-1518091200@lafcc.org
SUMMARY:Career Center Orientation
DESCRIPTION:La Familia Career Center offers an Orientation designed to assist clients in \nCareer Development by providing: \n\nResume Writing Workshops\nBasic Computer Classes\nInterview Practices\nJob Placement Opportunities\n\nOur goal is to create new outcomes that will drive our community to greater heights. \n\n  \nLa Familia Centro de Carreras ofrece una Orientación diseñada para ayudar a los clientes en el desarrollo de su carrera proveyendo: \n\nTalleres para la preparación historial de empleo\nClases básicas de computación\nPrácticas para entrevistas\nOportunidades para colocación de empleo\n\nNuestro objetivo es crear nuevos caminos que dirijiran a nuestra comunidad hacia mejores oportunidades.
URL:https://lafcc.org/event/career-center-orientation-122/
LOCATION:La Familia Counseling Center Inc.\, 5523 34th Street\, Sacramento\, 95820
END:VEVENT
BEGIN:VEVENT
DTSTART;TZID=America/Los_Angeles:20180201T100000
DTEND;TZID=America/Los_Angeles:20180201T120000
DTSTAMP:20260419T082035
CREATED:20180125T221922Z
LAST-MODIFIED:20180125T221922Z
UID:10001068-1517479200-1517486400@lafcc.org
SUMMARY:Career Center Orientation
DESCRIPTION:La Familia Career Center offers an Orientation designed to assist clients in \nCareer Development by providing: \n\nResume Writing Workshops\nBasic Computer Classes\nInterview Practices\nJob Placement Opportunities\n\nOur goal is to create new outcomes that will drive our community to greater heights. \n  \n\n  \nLa Familia Centro de Carreras ofrece una Orientación diseñada para ayudar a los clientes en el desarrollo de su carrera proveyendo: \n\nTalleres para la preparación historial de empleo\nClases básicas de computación\nPrácticas para entrevistas\nOportunidades para colocación de empleo\n\nNuestro objetivo es crear nuevos caminos que dirijiran a nuestra comunidad hacia mejores oportunidades.
URL:https://lafcc.org/event/career-center-orientation-121/
LOCATION:La Familia Counseling Center Inc.\, 5523 34th Street\, Sacramento\, 95820
END:VEVENT
BEGIN:VEVENT
DTSTART;TZID=America/Los_Angeles:20180123T120000
DTEND;TZID=America/Los_Angeles:20180123T140000
DTSTAMP:20260419T082035
CREATED:20180119T204143Z
LAST-MODIFIED:20180119T204143Z
UID:10001061-1516708800-1516716000@lafcc.org
SUMMARY:Job Fair
DESCRIPTION: 
URL:https://lafcc.org/event/job-fair/
LOCATION:Maple Neighborhood Center\, 3301 37th Avenue\, Sacramento\, 95824
END:VEVENT
BEGIN:VEVENT
DTSTART;TZID=America/Los_Angeles:20160823T100000
DTEND;TZID=America/Los_Angeles:20160823T110000
DTSTAMP:20260419T082035
CREATED:20160819T221038Z
LAST-MODIFIED:20160819T225350Z
UID:10001987-1471946400-1471950000@lafcc.org
SUMMARY:Career Center Orientation
DESCRIPTION:La Familia Career Center offers an Orientation designed to assist clients in\nCareer Development by providing:\n• Resume Writing Workshops\n• Basic Computer Classes\n• Interview Practices\n• Job Placement Opportunities\nOur goal is to create new outcomes that will drive our community to greater heights. \n\n\nLa Familia Centro de Carreras ofrece una Orientación diseñada para ayudar a los clientes en el desarrollo de su carrera proveyendo:\n• Talleres para la preparación historial de empleo\n• Clases básicas de computación\n• Prácticas para entrevistas\n• Oportunidades para colocación de empleo\nNuestro objetivo es crear nuevos caminos que dirijiran a nuestra comunidad hacia mejores oportunidades. \n 
URL:https://lafcc.org/event/career-center-orientation/
LOCATION:La Familia Counseling Center Inc.\, 5523 34th Street\, Sacramento\, 95820
END:VEVENT
END:VCALENDAR