BEGIN:VCALENDAR
VERSION:2.0
PRODID:-//La Familia Counseling Center - ECPv6.15.20//NONSGML v1.0//EN
CALSCALE:GREGORIAN
METHOD:PUBLISH
X-WR-CALNAME:La Familia Counseling Center
X-ORIGINAL-URL:https://lafcc.org
X-WR-CALDESC:Events for La Familia Counseling Center
REFRESH-INTERVAL;VALUE=DURATION:PT1H
X-Robots-Tag:noindex
X-PUBLISHED-TTL:PT1H
BEGIN:VTIMEZONE
TZID:America/Los_Angeles
BEGIN:DAYLIGHT
TZOFFSETFROM:-0800
TZOFFSETTO:-0700
TZNAME:PDT
DTSTART:20160313T100000
END:DAYLIGHT
BEGIN:STANDARD
TZOFFSETFROM:-0700
TZOFFSETTO:-0800
TZNAME:PST
DTSTART:20161106T090000
END:STANDARD
BEGIN:DAYLIGHT
TZOFFSETFROM:-0800
TZOFFSETTO:-0700
TZNAME:PDT
DTSTART:20170312T100000
END:DAYLIGHT
BEGIN:STANDARD
TZOFFSETFROM:-0700
TZOFFSETTO:-0800
TZNAME:PST
DTSTART:20171105T090000
END:STANDARD
BEGIN:DAYLIGHT
TZOFFSETFROM:-0800
TZOFFSETTO:-0700
TZNAME:PDT
DTSTART:20180311T100000
END:DAYLIGHT
BEGIN:STANDARD
TZOFFSETFROM:-0700
TZOFFSETTO:-0800
TZNAME:PST
DTSTART:20181104T090000
END:STANDARD
END:VTIMEZONE
BEGIN:VEVENT
DTSTART;TZID=America/Los_Angeles:20170609T180000
DTEND;TZID=America/Los_Angeles:20170609T200000
DTSTAMP:20260423T062453
CREATED:20170519T170012Z
LAST-MODIFIED:20170519T170012Z
UID:10002218-1497031200-1497038400@lafcc.org
SUMMARY:Youth Voice
DESCRIPTION:Youth Voice provides youth ages 14-21 with the opportunity to develop leadership skills through community service project\, system change\, educational and career opportunities through peer mentoring to become engaged with issues that impact youth violence and other health related issues in order to become stakeholders in their community.
URL:https://lafcc.org/event/youth-voice-91/
LOCATION:Maple Neighborhood Center\, 3301 37th Avenue\, Sacramento\, 95824
END:VEVENT
BEGIN:VEVENT
DTSTART;TZID=America/Los_Angeles:20170602T160000
DTEND;TZID=America/Los_Angeles:20170602T180000
DTSTAMP:20260423T062453
CREATED:20170519T165906Z
LAST-MODIFIED:20170519T165906Z
UID:10002217-1496419200-1496426400@lafcc.org
SUMMARY:Youth Voice
DESCRIPTION:Youth Voice provides youth ages 14-21 with the opportunity to develop leadership skills through community service project\, system change\, educational and career opportunities through peer mentoring to become engaged with issues that impact youth violence and other health related issues in order to become stakeholders in their community.
URL:https://lafcc.org/event/youth-voice-90/
LOCATION:Maple Neighborhood Center\, 3301 37th Avenue\, Sacramento\, 95824
END:VEVENT
BEGIN:VEVENT
DTSTART;TZID=America/Los_Angeles:20170526T160000
DTEND;TZID=America/Los_Angeles:20170526T180000
DTSTAMP:20260423T062453
CREATED:20170411T003004Z
LAST-MODIFIED:20170411T003004Z
UID:10002181-1495814400-1495821600@lafcc.org
SUMMARY:Youth Voice
DESCRIPTION:Youth Voice provides youth ages 14-21 with the opportunity to develop leadership skills through community service project\, system change\, educational and career opportunities through peer mentoring to become engaged with issues that impact youth violence and other health related issues in order to become stakeholders in their community.
URL:https://lafcc.org/event/youth-voice-89/
LOCATION:Maple Neighborhood Center\, 3301 37th Avenue\, Sacramento\, 95824
END:VEVENT
BEGIN:VEVENT
DTSTART;TZID=America/Los_Angeles:20170519T200000
DTEND;TZID=America/Los_Angeles:20170519T220000
DTSTAMP:20260423T062453
CREATED:20170508T194444Z
LAST-MODIFIED:20170508T194624Z
UID:10000870-1495224000-1495231200@lafcc.org
SUMMARY:Outdoor Movie Night/ Cine al Aire Libre
DESCRIPTION:
URL:https://lafcc.org/event/outdoor-movie-night-cine-al-aire-libre/
LOCATION:Maple Neighborhood Center\, 3301 37th Avenue\, Sacramento\, 95824
END:VEVENT
BEGIN:VEVENT
DTSTART;TZID=America/Los_Angeles:20170519T160000
DTEND;TZID=America/Los_Angeles:20170519T180000
DTSTAMP:20260423T062453
CREATED:20170411T002823Z
LAST-MODIFIED:20170411T002823Z
UID:10002180-1495209600-1495216800@lafcc.org
SUMMARY:Youth Voice
DESCRIPTION:Youth Voice provides youth ages 14-21 with the opportunity to develop leadership skills through community service project\, system change\, educational and career opportunities through peer mentoring to become engaged with issues that impact youth violence and other health related issues in order to become stakeholders in their community.
URL:https://lafcc.org/event/youth-voice-88/
LOCATION:Maple Neighborhood Center\, 3301 37th Avenue\, Sacramento\, 95824
END:VEVENT
BEGIN:VEVENT
DTSTART;TZID=America/Los_Angeles:20170512T160000
DTEND;TZID=America/Los_Angeles:20170512T180000
DTSTAMP:20260423T062453
CREATED:20170411T002707Z
LAST-MODIFIED:20170411T002707Z
UID:10002179-1494604800-1494612000@lafcc.org
SUMMARY:Youth Voice
DESCRIPTION:Youth Voice provides youth ages 14-21 with the opportunity to develop leadership skills through community service project\, system change\, educational and career opportunities through peer mentoring to become engaged with issues that impact youth violence and other health related issues in order to become stakeholders in their community.
URL:https://lafcc.org/event/youth-voice-87/
LOCATION:Maple Neighborhood Center\, 3301 37th Avenue\, Sacramento\, 95824
END:VEVENT
BEGIN:VEVENT
DTSTART;TZID=America/Los_Angeles:20170505T160000
DTEND;TZID=America/Los_Angeles:20170505T180000
DTSTAMP:20260423T062453
CREATED:20170411T002537Z
LAST-MODIFIED:20170411T002537Z
UID:10002177-1494000000-1494007200@lafcc.org
SUMMARY:Youth Voice
DESCRIPTION:Youth Voice provides youth ages 14-21 with the opportunity to develop leadership skills through community service project\, system change\, educational and career opportunities through peer mentoring to become engaged with issues that impact youth violence and other health related issues in order to become stakeholders in their community.
URL:https://lafcc.org/event/youth-voice-86/
LOCATION:Maple Neighborhood Center\, 3301 37th Avenue\, Sacramento\, 95824
END:VEVENT
BEGIN:VEVENT
DTSTART;TZID=America/Los_Angeles:20170428T160000
DTEND;TZID=America/Los_Angeles:20170428T180000
DTSTAMP:20260423T062453
CREATED:20170321T201748Z
LAST-MODIFIED:20170321T201748Z
UID:10000838-1493395200-1493402400@lafcc.org
SUMMARY:Youth Voice
DESCRIPTION:Youth Voice provides youth ages 14-21 with the opportunity to develop leadership skills through community service project\, system change\, educational and career opportunities through peer mentoring to become engaged with issues that impact youth violence and other health related issues in order to become stakeholders in their community.
URL:https://lafcc.org/event/youth-voice-85/
LOCATION:Maple Neighborhood Center\, 3301 37th Avenue\, Sacramento\, 95824
END:VEVENT
BEGIN:VEVENT
DTSTART;TZID=America/Los_Angeles:20170421T160000
DTEND;TZID=America/Los_Angeles:20170421T180000
DTSTAMP:20260423T062453
CREATED:20170321T201433Z
LAST-MODIFIED:20170321T201433Z
UID:10002163-1492790400-1492797600@lafcc.org
SUMMARY:Youth Voice
DESCRIPTION:Youth Voice provides youth ages 14-21 with the opportunity to develop leadership skills through community service project\, system change\, educational and career opportunities through peer mentoring to become engaged with issues that impact youth violence and other health related issues in order to become stakeholders in their community.
URL:https://lafcc.org/event/youth-voice-84/
LOCATION:Maple Neighborhood Center\, 3301 37th Avenue\, Sacramento\, 95824
END:VEVENT
BEGIN:VEVENT
DTSTART;TZID=America/Los_Angeles:20170414T160000
DTEND;TZID=America/Los_Angeles:20170414T180000
DTSTAMP:20260423T062453
CREATED:20170321T200817Z
LAST-MODIFIED:20170321T200817Z
UID:10002162-1492185600-1492192800@lafcc.org
SUMMARY:Youth Voice
DESCRIPTION:Youth Voice provides youth ages 14-21 with the opportunity to develop leadership skills through community service project\, system change\, educational and career opportunities through peer mentoring to become engaged with issues that impact youth violence and other health related issues in order to become stakeholders in their community.
URL:https://lafcc.org/event/youth-voice-83/
LOCATION:Maple Neighborhood Center\, 3301 37th Avenue\, Sacramento\, 95824
END:VEVENT
BEGIN:VEVENT
DTSTART;TZID=America/Los_Angeles:20170407T160000
DTEND;TZID=America/Los_Angeles:20170407T180000
DTSTAMP:20260423T062453
CREATED:20170321T200439Z
LAST-MODIFIED:20170321T200439Z
UID:10002161-1491580800-1491588000@lafcc.org
SUMMARY:Youth Voice
DESCRIPTION:Youth Voice provides youth ages 14-21 with the opportunity to develop leadership skills through community service project\, system change\, educational and career opportunities through peer mentoring to become engaged with issues that impact youth violence and other health related issues in order to become stakeholders in their community.
URL:https://lafcc.org/event/youth-voice-82/
LOCATION:Maple Neighborhood Center\, 3301 37th Avenue\, Sacramento\, 95824
END:VEVENT
END:VCALENDAR