BEGIN:VCALENDAR
VERSION:2.0
PRODID:-//La Familia Counseling Center - ECPv6.15.20//NONSGML v1.0//EN
CALSCALE:GREGORIAN
METHOD:PUBLISH
X-ORIGINAL-URL:https://lafcc.org
X-WR-CALDESC:Events for La Familia Counseling Center
REFRESH-INTERVAL;VALUE=DURATION:PT1H
X-Robots-Tag:noindex
X-PUBLISHED-TTL:PT1H
BEGIN:VTIMEZONE
TZID:America/Los_Angeles
BEGIN:DAYLIGHT
TZOFFSETFROM:-0800
TZOFFSETTO:-0700
TZNAME:PDT
DTSTART:20170312T100000
END:DAYLIGHT
BEGIN:STANDARD
TZOFFSETFROM:-0700
TZOFFSETTO:-0800
TZNAME:PST
DTSTART:20171105T090000
END:STANDARD
BEGIN:DAYLIGHT
TZOFFSETFROM:-0800
TZOFFSETTO:-0700
TZNAME:PDT
DTSTART:20180311T100000
END:DAYLIGHT
BEGIN:STANDARD
TZOFFSETFROM:-0700
TZOFFSETTO:-0800
TZNAME:PST
DTSTART:20181104T090000
END:STANDARD
BEGIN:DAYLIGHT
TZOFFSETFROM:-0800
TZOFFSETTO:-0700
TZNAME:PDT
DTSTART:20190310T100000
END:DAYLIGHT
BEGIN:STANDARD
TZOFFSETFROM:-0700
TZOFFSETTO:-0800
TZNAME:PST
DTSTART:20191103T090000
END:STANDARD
END:VTIMEZONE
BEGIN:VEVENT
DTSTART;TZID=America/Los_Angeles:20180926T130000
DTEND;TZID=America/Los_Angeles:20180926T140000
DTSTAMP:20260420T035225
CREATED:20180902T192141Z
LAST-MODIFIED:20180902T192141Z
UID:10001233-1537966800-1537970400@lafcc.org
SUMMARY:Youth Employment Orientation
DESCRIPTION:Out of School Youth Employment (OSY) \nThe Out of School Youth Program offers youth ages 17-24 the opportunity to gain paid work experience (WEX) and pursue advanced training. Throughout participants work experience they have the support of an Employment Training Specialist to help them achieve their education and employment goals. Assessment and tutoring are provided to enable them to overcome deficiencies in Math and/or Language Arts. \n  \n*Participants must meet eligibility requirements please contact Ericka for more information @ 916-452-3601
URL:https://lafcc.org/event/youth-employment-orientation-182/
LOCATION:La Familia Counseling Center Inc.\, 5523 34th Street\, Sacramento\, 95820
END:VEVENT
BEGIN:VEVENT
DTSTART;TZID=America/Los_Angeles:20180919T130000
DTEND;TZID=America/Los_Angeles:20180919T140000
DTSTAMP:20260420T035225
CREATED:20180902T191834Z
LAST-MODIFIED:20180902T191834Z
UID:10001232-1537362000-1537365600@lafcc.org
SUMMARY:Youth Employment Orientation
DESCRIPTION:Out of School Youth Employment (OSY) \nThe Out of School Youth Program offers youth ages 17-24 the opportunity to gain paid work experience (WEX) and pursue advanced training. Throughout participants work experience they have the support of an Employment Training Specialist to help them achieve their education and employment goals. Assessment and tutoring are provided to enable them to overcome deficiencies in Math and/or Language Arts. \n  \n*Participants must meet eligibility requirements please contact Ericka for more information @ 916-452-3601
URL:https://lafcc.org/event/youth-employment-orientation-181/
LOCATION:La Familia Counseling Center Inc.\, 5523 34th Street\, Sacramento\, 95820
END:VEVENT
BEGIN:VEVENT
DTSTART;TZID=America/Los_Angeles:20180912T130000
DTEND;TZID=America/Los_Angeles:20180912T140000
DTSTAMP:20260420T035225
CREATED:20180902T191453Z
LAST-MODIFIED:20180902T191453Z
UID:10002556-1536757200-1536760800@lafcc.org
SUMMARY:Youth Employment Orientation
DESCRIPTION:Out of School Youth Employment (OSY) \nThe Out of School Youth Program offers youth ages 17-24 the opportunity to gain paid work experience (WEX) and pursue advanced training. Throughout participants work experience they have the support of an Employment Training Specialist to help them achieve their education and employment goals. Assessment and tutoring are provided to enable them to overcome deficiencies in Math and/or Language Arts. \n  \n*Participants must meet eligibility requirements please contact Ericka for more information @ 916-452-3601
URL:https://lafcc.org/event/youth-employment-orientation-179/
LOCATION:La Familia Counseling Center Inc.\, 5523 34th Street\, Sacramento\, 95820
END:VEVENT
BEGIN:VEVENT
DTSTART;TZID=America/Los_Angeles:20180905T130000
DTEND;TZID=America/Los_Angeles:20180905T140000
DTSTAMP:20260420T035225
CREATED:20180902T191628Z
LAST-MODIFIED:20180902T191628Z
UID:10002557-1536152400-1536156000@lafcc.org
SUMMARY:Youth Employment Orientation
DESCRIPTION:Out of School Youth Employment (OSY) \nThe Out of School Youth Program offers youth ages 17-24 the opportunity to gain paid work experience (WEX) and pursue advanced training. Throughout participants work experience they have the support of an Employment Training Specialist to help them achieve their education and employment goals. Assessment and tutoring are provided to enable them to overcome deficiencies in Math and/or Language Arts. \n  \n*Participants must meet eligibility requirements please contact Ericka for more information @ 916-452-3601
URL:https://lafcc.org/event/youth-employment-orientation-180/
LOCATION:La Familia Counseling Center Inc.\, 5523 34th Street\, Sacramento\, 95820
END:VEVENT
BEGIN:VEVENT
DTSTART;TZID=America/Los_Angeles:20180829T130000
DTEND;TZID=America/Los_Angeles:20180829T140000
DTSTAMP:20260420T035225
CREATED:20180809T171428Z
LAST-MODIFIED:20180809T171428Z
UID:10001223-1535547600-1535551200@lafcc.org
SUMMARY:Youth Employment Orientation
DESCRIPTION:Out of School Youth Employment (OSY) \nThe Out of School Youth Program offers youth ages 17-24 the opportunity to gain paid work experience (WEX) and pursue advanced training. Throughout participants work experience they have the support of an Employment Training Specialist to help them achieve their education and employment goals. Assessment and tutoring are provided to enable them to overcome deficiencies in Math and/or Language Arts. \n  \n*Participants must meet eligibility requirements please contact Abraham for more information  @ 916-452-3601
URL:https://lafcc.org/event/youth-employment-orientation-178/
LOCATION:La Familia Counseling Center Inc.\, 5523 34th Street\, Sacramento\, 95820
END:VEVENT
BEGIN:VEVENT
DTSTART;TZID=America/Los_Angeles:20180822T130000
DTEND;TZID=America/Los_Angeles:20180822T140000
DTSTAMP:20260420T035225
CREATED:20180809T171112Z
LAST-MODIFIED:20180809T171112Z
UID:10001222-1534942800-1534946400@lafcc.org
SUMMARY:Youth Employment Orientation
DESCRIPTION:Out of School Youth Employment (OSY) \nThe Out of School Youth Program offers youth ages 17-24 the opportunity to gain paid work experience (WEX) and pursue advanced training. Throughout participants work experience they have the support of an Employment Training Specialist to help them achieve their education and employment goals. Assessment and tutoring are provided to enable them to overcome deficiencies in Math and/or Language Arts. \n  \n*Participants must meet eligibility requirements please contact Abraham for more information @ 916-452-3601
URL:https://lafcc.org/event/youth-employment-orientation-177/
LOCATION:La Familia Counseling Center Inc.\, 5523 34th Street\, Sacramento\, 95820
END:VEVENT
BEGIN:VEVENT
DTSTART;TZID=America/Los_Angeles:20180815T130000
DTEND;TZID=America/Los_Angeles:20180815T140000
DTSTAMP:20260420T035225
CREATED:20180809T164454Z
LAST-MODIFIED:20180809T164454Z
UID:10001221-1534338000-1534341600@lafcc.org
SUMMARY:Youth Employment Orientation
DESCRIPTION:Out of School Youth Employment (OSY) \nThe Out of School Youth Program offers youth ages 17-24 the opportunity to gain paid work experience (WEX) and pursue advanced training. Throughout participants work experience they have the support of an Employment Training Specialist to help them achieve their education and employment goals. Assessment and tutoring are provided to enable them to overcome deficiencies in Math and/or Language Arts. \n  \n*Participants must meet eligibility requirements please contact Abraham for more information @ 916-452-3601
URL:https://lafcc.org/event/youth-employment-orientation-176/
LOCATION:La Familia Counseling Center Inc.\, 5523 34th Street\, Sacramento\, 95820
END:VEVENT
BEGIN:VEVENT
DTSTART;TZID=America/Los_Angeles:20180725T130000
DTEND;TZID=America/Los_Angeles:20180725T140000
DTSTAMP:20260420T035225
CREATED:20180620T165143Z
LAST-MODIFIED:20180620T165143Z
UID:10001197-1532523600-1532527200@lafcc.org
SUMMARY:Youth Employment Orientation
DESCRIPTION:Out of School Youth Employment (OSY) \nThe Out of School Youth Program offers youth ages 17-24 the opportunity to gain paid work experience (WEX) and pursue advanced training. Throughout participants work experience they have the support of an Employment Training Specialist to help them achieve their education and employment goals. Assessment and tutoring are provided to enable them to overcome deficiencies in Math and/or Language Arts. \n\n*Participants must meet eligibility requirements please contact Abraham for more information     @ 916-452-3601
URL:https://lafcc.org/event/youth-employment-orientation-175/
LOCATION:La Familia Counseling Center Inc.\, 5523 34th Street\, Sacramento\, 95820
END:VEVENT
BEGIN:VEVENT
DTSTART;TZID=America/Los_Angeles:20180718T130000
DTEND;TZID=America/Los_Angeles:20180718T140000
DTSTAMP:20260420T035225
CREATED:20180620T165035Z
LAST-MODIFIED:20180620T165035Z
UID:10001196-1531918800-1531922400@lafcc.org
SUMMARY:Youth Employment Orientation
DESCRIPTION:Out of School Youth Employment (OSY) \nThe Out of School Youth Program offers youth ages 17-24 the opportunity to gain paid work experience (WEX) and pursue advanced training. Throughout participants work experience they have the support of an Employment Training Specialist to help them achieve their education and employment goals. Assessment and tutoring are provided to enable them to overcome deficiencies in Math and/or Language Arts. \n\n*Participants must meet eligibility requirements please contact Abraham for more information    @ 916-452-3601
URL:https://lafcc.org/event/youth-employment-orientation-174/
LOCATION:La Familia Counseling Center Inc.\, 5523 34th Street\, Sacramento\, 95820
END:VEVENT
BEGIN:VEVENT
DTSTART;TZID=America/Los_Angeles:20180711T130000
DTEND;TZID=America/Los_Angeles:20180711T140000
DTSTAMP:20260420T035225
CREATED:20180620T161422Z
LAST-MODIFIED:20180620T161422Z
UID:10001194-1531314000-1531317600@lafcc.org
SUMMARY:Youth Employment Orientation
DESCRIPTION:Out of School Youth Employment (OSY) \nThe Out of School Youth Program offers youth ages 17-24 the opportunity to gain paid work experience (WEX) and pursue advanced training. Throughout participants work experience they have the support of an Employment Training Specialist to help them achieve their education and employment goals. Assessment and tutoring are provided to enable them to overcome deficiencies in Math and/or Language Arts. \n\n*Participants must meet eligibility requirements please contact Abraham for more information    @ 916-452-3601
URL:https://lafcc.org/event/youth-employment-orientation-173/
LOCATION:La Familia Counseling Center Inc.\, 5523 34th Street\, Sacramento\, 95820
END:VEVENT
BEGIN:VEVENT
DTSTART;TZID=America/Los_Angeles:20180627T130000
DTEND;TZID=America/Los_Angeles:20180627T140000
DTSTAMP:20260420T035225
CREATED:20180613T011006Z
LAST-MODIFIED:20180613T011040Z
UID:10001182-1530104400-1530108000@lafcc.org
SUMMARY:Youth Employment Orientation
DESCRIPTION:Out of School Youth Employment (OSY) \nThe Out of School Youth Program offers youth ages 17-24 the opportunity to gain paid work experience (WEX) and pursue advanced training. Throughout participants work experience they have the support of an Employment Training Specialist to help them achieve their education and employment goals. Assessment and tutoring are provided to enable them to overcome deficiencies in Math and/or Language Arts. \n*Participants must meet eligibility requirements please contact Abraham for more information                 @ 916-452-3601
URL:https://lafcc.org/event/youth-employment-orientation-172/
LOCATION:La Familia Counseling Center Inc.\, 5523 34th Street\, Sacramento\, 95820
END:VEVENT
BEGIN:VEVENT
DTSTART;TZID=America/Los_Angeles:20180620T130000
DTEND;TZID=America/Los_Angeles:20180620T140000
DTSTAMP:20260420T035225
CREATED:20180613T010652Z
LAST-MODIFIED:20180613T010652Z
UID:10001181-1529499600-1529503200@lafcc.org
SUMMARY:Youth Employment Orientation
DESCRIPTION:Out of School Youth Employment (OSY) \nThe Out of School Youth Program offers youth ages 17-24 the opportunity to gain paid work experience (WEX) and pursue advanced training. Throughout participants work experience they have the support of an Employment Training Specialist to help them achieve their education and employment goals. Assessment and tutoring are provided to enable them to overcome deficiencies in Math and/or Language Arts. \n  \n*Participants must meet eligibility requirements please contact Abraham for more information   @ 916-452-3601
URL:https://lafcc.org/event/youth-employment-orientation-171/
LOCATION:La Familia Counseling Center Inc.\, 5523 34th Street\, Sacramento\, 95820
END:VEVENT
BEGIN:VEVENT
DTSTART;TZID=America/Los_Angeles:20180613T130000
DTEND;TZID=America/Los_Angeles:20180613T140000
DTSTAMP:20260420T035225
CREATED:20180613T010436Z
LAST-MODIFIED:20180613T010530Z
UID:10001180-1528894800-1528898400@lafcc.org
SUMMARY:Youth Employment Orientation
DESCRIPTION:Out of School Youth Employment (OSY) \nThe Out of School Youth Program offers youth ages 17-24 the opportunity to gain paid work experience (WEX) and pursue advanced training. Throughout participants work experience they have the support of an Employment Training Specialist to help them achieve their education and employment goals. Assessment and tutoring are provided to enable them to overcome deficiencies in Math and/or Language Arts. \n*Participants must meet eligibility requirements please contact Abraham for more information @ 916-452-3601
URL:https://lafcc.org/event/youth-employment-orientation-170/
LOCATION:La Familia Counseling Center Inc.\, 5523 34th Street\, Sacramento\, 95820
END:VEVENT
BEGIN:VEVENT
DTSTART;TZID=America/Los_Angeles:20180530T130000
DTEND;TZID=America/Los_Angeles:20180530T140000
DTSTAMP:20260420T035225
CREATED:20180509T164104Z
LAST-MODIFIED:20180509T164104Z
UID:10002479-1527685200-1527688800@lafcc.org
SUMMARY:Youth Employment Orientation
DESCRIPTION:Out of School Youth Employment (OSY) \nThe Out of School Youth Program offers youth ages 17-24 the opportunity to gain paid work experience (WEX) and pursue advanced training. Throughout participants work experience they have the support of an Employment Training Specialist to help them achieve their education and employment goals. Assessment and tutoring are provided to enable them to overcome deficiencies in Math and/or Language Arts. \n\n*Participants must meet eligibility requirements please contact Abraham for more information                 @ 916-452-3601
URL:https://lafcc.org/event/youth-employment-orientation-169/
LOCATION:La Familia Counseling Center Inc.\, 5523 34th Street\, Sacramento\, 95820
END:VEVENT
BEGIN:VEVENT
DTSTART;TZID=America/Los_Angeles:20180523T130000
DTEND;TZID=America/Los_Angeles:20180523T140000
DTSTAMP:20260420T035225
CREATED:20180509T163915Z
LAST-MODIFIED:20180509T163915Z
UID:10002478-1527080400-1527084000@lafcc.org
SUMMARY:Youth Employment Orientation
DESCRIPTION:Out of School Youth Employment (OSY) \nThe Out of School Youth Program offers youth ages 17-24 the opportunity to gain paid work experience (WEX) and pursue advanced training. Throughout participants work experience they have the support of an Employment Training Specialist to help them achieve their education and employment goals. Assessment and tutoring are provided to enable them to overcome deficiencies in Math and/or Language Arts. \n\n*Participants must meet eligibility requirements please contact Abraham for more information                 @ 916-452-3601
URL:https://lafcc.org/event/youth-employment-orientation-168/
LOCATION:La Familia Counseling Center Inc.\, 5523 34th Street\, Sacramento\, 95820
END:VEVENT
BEGIN:VEVENT
DTSTART;TZID=America/Los_Angeles:20180516T130000
DTEND;TZID=America/Los_Angeles:20180516T140000
DTSTAMP:20260420T035225
CREATED:20180509T163826Z
LAST-MODIFIED:20180509T163826Z
UID:10002477-1526475600-1526479200@lafcc.org
SUMMARY:Youth Employment Orientation
DESCRIPTION:Out of School Youth Employment (OSY) \nThe Out of School Youth Program offers youth ages 17-24 the opportunity to gain paid work experience (WEX) and pursue advanced training. Throughout participants work experience they have the support of an Employment Training Specialist to help them achieve their education and employment goals. Assessment and tutoring are provided to enable them to overcome deficiencies in Math and/or Language Arts. \n\n*Participants must meet eligibility requirements please contact Abraham for more information                 @ 916-452-3601
URL:https://lafcc.org/event/youth-employment-orientation-167/
LOCATION:La Familia Counseling Center Inc.\, 5523 34th Street\, Sacramento\, 95820
END:VEVENT
BEGIN:VEVENT
DTSTART;TZID=America/Los_Angeles:20180509T130000
DTEND;TZID=America/Los_Angeles:20180509T140000
DTSTAMP:20260420T035225
CREATED:20180509T163725Z
LAST-MODIFIED:20180509T163725Z
UID:10002476-1525870800-1525874400@lafcc.org
SUMMARY:Youth Employment Orientation
DESCRIPTION:Out of School Youth Employment (OSY) \nThe Out of School Youth Program offers youth ages 17-24 the opportunity to gain paid work experience (WEX) and pursue advanced training. Throughout participants work experience they have the support of an Employment Training Specialist to help them achieve their education and employment goals. Assessment and tutoring are provided to enable them to overcome deficiencies in Math and/or Language Arts. \n\n*Participants must meet eligibility requirements please contact Abraham for more information                 @ 916-452-3601
URL:https://lafcc.org/event/youth-employment-orientation-166/
LOCATION:La Familia Counseling Center Inc.\, 5523 34th Street\, Sacramento\, 95820
END:VEVENT
BEGIN:VEVENT
DTSTART;TZID=America/Los_Angeles:20180425T130000
DTEND;TZID=America/Los_Angeles:20180425T140000
DTSTAMP:20260420T035225
CREATED:20180329T175516Z
LAST-MODIFIED:20180329T175516Z
UID:10001117-1524661200-1524664800@lafcc.org
SUMMARY:Youth Employment Orientation
DESCRIPTION:Out of School Youth Employment (OSY) \nThe Out of School Youth Program offers youth ages 17-24 the opportunity to gain paid work experience (WEX) and pursue advanced training. Throughout participants work experience they have the support of an Employment Training Specialist to help them achieve their education and employment goals. Assessment and tutoring are provided to enable them to overcome deficiencies in Math and/or Language Arts. \n  \n*Participants must meet eligibility requirements please contact Abraham for more information @ 916-452-3601
URL:https://lafcc.org/event/youth-employment-orientation-164/
LOCATION:La Familia Counseling Center Inc.\, 5523 34th Street\, Sacramento\, 95820
END:VEVENT
BEGIN:VEVENT
DTSTART;TZID=America/Los_Angeles:20180418T130000
DTEND;TZID=America/Los_Angeles:20180418T140000
DTSTAMP:20260420T035225
CREATED:20180329T175654Z
LAST-MODIFIED:20180329T175654Z
UID:10001119-1524056400-1524060000@lafcc.org
SUMMARY:Youth Employment Orientation
DESCRIPTION:Out of School Youth Employment (OSY) \nThe Out of School Youth Program offers youth ages 17-24 the opportunity to gain paid work experience (WEX) and pursue advanced training. Throughout participants work experience they have the support of an Employment Training Specialist to help them achieve their education and employment goals. Assessment and tutoring are provided to enable them to overcome deficiencies in Math and/or Language Arts. \n  \n*Participants must meet eligibility requirements please contact Abraham for more information @ 916-452-3601
URL:https://lafcc.org/event/youth-employment-orientation-165/
LOCATION:La Familia Counseling Center Inc.\, 5523 34th Street\, Sacramento\, 95820
END:VEVENT
BEGIN:VEVENT
DTSTART;TZID=America/Los_Angeles:20180411T130000
DTEND;TZID=America/Los_Angeles:20180411T140000
DTSTAMP:20260420T035225
CREATED:20180329T175338Z
LAST-MODIFIED:20180329T175338Z
UID:10002442-1523451600-1523455200@lafcc.org
SUMMARY:Youth Employment Orientation
DESCRIPTION:Out of School Youth Employment (OSY) \nThe Out of School Youth Program offers youth ages 17-24 the opportunity to gain paid work experience (WEX) and pursue advanced training. Throughout participants work experience they have the support of an Employment Training Specialist to help them achieve their education and employment goals. Assessment and tutoring are provided to enable them to overcome deficiencies in Math and/or Language Arts. \n  \n*Participants must meet eligibility requirements please contact Abraham for more information @ 916-452-3601
URL:https://lafcc.org/event/youth-employment-orientation-163/
LOCATION:La Familia Counseling Center Inc.\, 5523 34th Street\, Sacramento\, 95820
END:VEVENT
BEGIN:VEVENT
DTSTART;TZID=America/Los_Angeles:20180404T130000
DTEND;TZID=America/Los_Angeles:20180404T140000
DTSTAMP:20260420T035225
CREATED:20180329T175042Z
LAST-MODIFIED:20180329T175157Z
UID:10002441-1522846800-1522850400@lafcc.org
SUMMARY:Youth Employment Orientation
DESCRIPTION:Out of School Youth Employment (OSY) \nThe Out of School Youth Program offers youth ages 17-24 the opportunity to gain paid work experience (WEX) and pursue advanced training. Throughout participants work experience they have the support of an Employment Training Specialist to help them achieve their education and employment goals. Assessment and tutoring are provided to enable them to overcome deficiencies in Math and/or Language Arts. \n*Participants must meet eligibility requirements please contact Abraham for more information @ 916-452-3601
URL:https://lafcc.org/event/youth-employment-orientation-162/
LOCATION:La Familia Counseling Center Inc.\, 5523 34th Street\, Sacramento\, 95820
END:VEVENT
END:VCALENDAR