BEGIN:VCALENDAR
VERSION:2.0
PRODID:-//La Familia Counseling Center - ECPv6.15.20//NONSGML v1.0//EN
CALSCALE:GREGORIAN
METHOD:PUBLISH
X-WR-CALNAME:La Familia Counseling Center
X-ORIGINAL-URL:https://lafcc.org
X-WR-CALDESC:Events for La Familia Counseling Center
REFRESH-INTERVAL;VALUE=DURATION:PT1H
X-Robots-Tag:noindex
X-PUBLISHED-TTL:PT1H
BEGIN:VTIMEZONE
TZID:America/Los_Angeles
BEGIN:DAYLIGHT
TZOFFSETFROM:-0800
TZOFFSETTO:-0700
TZNAME:PDT
DTSTART:20240310T100000
END:DAYLIGHT
BEGIN:STANDARD
TZOFFSETFROM:-0700
TZOFFSETTO:-0800
TZNAME:PST
DTSTART:20241103T090000
END:STANDARD
BEGIN:DAYLIGHT
TZOFFSETFROM:-0800
TZOFFSETTO:-0700
TZNAME:PDT
DTSTART:20250309T100000
END:DAYLIGHT
BEGIN:STANDARD
TZOFFSETFROM:-0700
TZOFFSETTO:-0800
TZNAME:PST
DTSTART:20251102T090000
END:STANDARD
BEGIN:DAYLIGHT
TZOFFSETFROM:-0800
TZOFFSETTO:-0700
TZNAME:PDT
DTSTART:20260308T100000
END:DAYLIGHT
BEGIN:STANDARD
TZOFFSETFROM:-0700
TZOFFSETTO:-0800
TZNAME:PST
DTSTART:20261101T090000
END:STANDARD
BEGIN:DAYLIGHT
TZOFFSETFROM:-0800
TZOFFSETTO:-0700
TZNAME:PDT
DTSTART:20270314T100000
END:DAYLIGHT
BEGIN:STANDARD
TZOFFSETFROM:-0700
TZOFFSETTO:-0800
TZNAME:PST
DTSTART:20271107T090000
END:STANDARD
END:VTIMEZONE
BEGIN:VEVENT
DTSTART;VALUE=DATE:20251224
DTEND;VALUE=DATE:20260103
DTSTAMP:20260421T011444
CREATED:20260105T230053Z
LAST-MODIFIED:20260105T230053Z
UID:10005208-1766534400-1767398399@lafcc.org
SUMMARY:CLOSED/CERRADO
DESCRIPTION:Our offices will be CLOSED from Wednesday\, December 24th 2025 to Friday\, January 2nd 2026. We wish everyone a safe and happy holiday season and new year.Nuestras oficinas permanecerán CERRADAS desde el miércoles 24 de diciembre de 2025 hasta el viernes 2 de enero de 2026. Les deseamos a todos unas felices fiestas y un próspero año nuevo.
URL:https://lafcc.org/event/closed-cerrado-66/
LOCATION:La Familia Counseling Center Inc.\, 5523 34th Street\, Sacramento\, 95820
ATTACH;FMTTYPE=image/png:https://lafcc.org/wp-content/uploads/2026/01/Closed.2025-7.png
END:VEVENT
BEGIN:VEVENT
DTSTART;TZID=America/Los_Angeles:20260123T110000
DTEND;TZID=America/Los_Angeles:20260123T130000
DTSTAMP:20260421T011444
CREATED:20260105T231642Z
LAST-MODIFIED:20260420T154644Z
UID:10005217-1769166000-1769173200@lafcc.org
SUMMARY:FREE Diaper Distribution/ Distribución GRATUITA de Pañales
DESCRIPTION:We offer free diapers and pull-ups (while supplies last) to community members in need. Join us each month for an informative workshop where we’ll cover a new topic\, helpful resources and you can pick up some diapers for your child. \nTo receive diapers you must: \n\nLive in the following zip codes: 95814\, 95817\, 95820\, 95824\, 95822\, 95632\, 95624\, 95757\nFill out an application\nBring Child Identification in the form of: Birth Certificate\, Immunization Card\, or Medi-Cal Card\n\n\nOfrecemos pañales y pull-ups gratis (hasta agotar existencias) para los miembros de la comunidad que lo necesiten. Únase a nosotros cada mes a un taller informativo en el que cubriremos un tema nuevo\, recursos útiles y usted podrá recoger pañales para sus hijos. \nPara recibir los pañales usted: \n\nVive en los siguientes códigos postales: 95814\, 95817\, 95820\, 95824\, 95822\, 95632\, 95624\, 95757\nDeberá llenar una aplicación\nTraer una forma de identificación de su niñ@ como: Acta de nacimiento\, Tarjeta de vacunación\, o Tarjeta de Medi-Cal
URL:https://lafcc.org/event/free-diaper-distribution-distribucion-gratuita-de-panales-10/2026-01-23/
LOCATION:La Familia Counseling Center Inc.\, 5523 34th Street\, Sacramento\, 95820
ATTACH;FMTTYPE=image/png:https://lafcc.org/wp-content/uploads/2026/01/BB-2025-Flyers-4.png
END:VEVENT
BEGIN:VEVENT
DTSTART;TZID=America/Los_Angeles:20260126T100000
DTEND;TZID=America/Los_Angeles:20260126T120000
DTSTAMP:20260421T011444
CREATED:20260105T231317Z
LAST-MODIFIED:20260105T231317Z
UID:10005213-1769421600-1769428800@lafcc.org
SUMMARY:Tiny Steps Playgroup – Grupo de Juegos Pasos Pequeños
DESCRIPTION:Tiny Steps Playgroups has official started! These playgroups are for children with exceptional needs ages 0-5yrs old are designed to help develop your child’s social\, emotional\, cognitive and gross motor skills.\nPlaygroups will:\n-Incorporate sensory play\n-Foster connections among participating families\n-Occur twice per week on Monday and Wednesday\nFor more information contact us at 916-452-3601.\n\n\n– – – – – – – – – – – – – – – – – – – – – – – – – –\n\n\n¡El grupo de juegos Pasos Pequeños ha comenzado oficialmente! Estos grupos de juego son para niños con necesidades excepcionales de 0 y 5 años y están diseñados para satisfacer las necesidades únicas de diversos niños pequeños para desarrollar sus habilidades sociales\, emocionales\, cognitivas y motoras.\nLos grupos de juegos incluirán:\n-Juegos sensoriales\n-Fomentarán las relaciones entre familias participantes\n-Se realizarán dos veces por semana los lunes y miércoles\nPara obtener más información\, comuníquese con nosotros al 916-452-3601.
URL:https://lafcc.org/event/tiny-steps-playgroup-grupo-de-juegos-pasos-pequenos-4/2026-01-26/
LOCATION:Maple Neighborhood Center\, 3301 37th Avenue\, Sacramento\, 95824
ATTACH;FMTTYPE=image/png:https://lafcc.org/wp-content/uploads/2026/01/Tiny-Steps.-English-3.png
END:VEVENT
BEGIN:VEVENT
DTSTART;TZID=America/Los_Angeles:20260127T093000
DTEND;TZID=America/Los_Angeles:20260127T120000
DTSTAMP:20260421T011444
CREATED:20260105T230914Z
LAST-MODIFIED:20260105T230914Z
UID:10005209-1769506200-1769515200@lafcc.org
SUMMARY:Early Learners / Aprendiendo Temprano
DESCRIPTION:Parents with children 0-5 years old join us to discover early school readiness and child development! Learn how to support your child’s growing brain and build a strong foundation for their future. \n\nA group for moms\, dads\, & little ones\nFun arts & crafts activities\nLots of exciting and interactive learning experiences\n\n\n¡Padres con niños de 0 a 5 años acompáñanos para descubrir la preparación escolar temprana y el desarrollo infantil! Aprende cómo apoyar el crecimiento del cerebro de tu hijo y construir una base sólida para su futuro. \n\nUn grupo para mamás\, papás y pequeños\nDivertidas actividades de arte y manualidades\nMuchas experiencias de aprendizaje emocionantes e interactivas
URL:https://lafcc.org/event/early-learners-aprendiendo-temprano-11/2026-01-27/
LOCATION:Maple Neighborhood Center\, 3301 37th Avenue\, Sacramento\, 95824
ATTACH;FMTTYPE=image/png:https://lafcc.org/wp-content/uploads/2026/01/Early-Learners-eng-3.png
END:VEVENT
BEGIN:VEVENT
DTSTART;TZID=America/Los_Angeles:20260128T100000
DTEND;TZID=America/Los_Angeles:20260128T120000
DTSTAMP:20260421T011444
CREATED:20260105T231317Z
LAST-MODIFIED:20260105T231317Z
UID:10005214-1769594400-1769601600@lafcc.org
SUMMARY:Tiny Steps Playgroup – Grupo de Juegos Pasos Pequeños
DESCRIPTION:Tiny Steps Playgroups has official started! These playgroups are for children with exceptional needs ages 0-5yrs old are designed to help develop your child’s social\, emotional\, cognitive and gross motor skills.\nPlaygroups will:\n-Incorporate sensory play\n-Foster connections among participating families\n-Occur twice per week on Monday and Wednesday\nFor more information contact us at 916-452-3601.\n\n\n– – – – – – – – – – – – – – – – – – – – – – – – – –\n\n\n¡El grupo de juegos Pasos Pequeños ha comenzado oficialmente! Estos grupos de juego son para niños con necesidades excepcionales de 0 y 5 años y están diseñados para satisfacer las necesidades únicas de diversos niños pequeños para desarrollar sus habilidades sociales\, emocionales\, cognitivas y motoras.\nLos grupos de juegos incluirán:\n-Juegos sensoriales\n-Fomentarán las relaciones entre familias participantes\n-Se realizarán dos veces por semana los lunes y miércoles\nPara obtener más información\, comuníquese con nosotros al 916-452-3601.
URL:https://lafcc.org/event/tiny-steps-playgroup-grupo-de-juegos-pasos-pequenos-4/2026-01-28/
LOCATION:Maple Neighborhood Center\, 3301 37th Avenue\, Sacramento\, 95824
ATTACH;FMTTYPE=image/png:https://lafcc.org/wp-content/uploads/2026/01/Tiny-Steps.-English-3.png
END:VEVENT
BEGIN:VEVENT
DTSTART;TZID=America/Los_Angeles:20260129T093000
DTEND;TZID=America/Los_Angeles:20260129T120000
DTSTAMP:20260421T011444
CREATED:20260105T230914Z
LAST-MODIFIED:20260105T230914Z
UID:10005210-1769679000-1769688000@lafcc.org
SUMMARY:Early Learners / Aprendiendo Temprano
DESCRIPTION:Parents with children 0-5 years old join us to discover early school readiness and child development! Learn how to support your child’s growing brain and build a strong foundation for their future. \n\nA group for moms\, dads\, & little ones\nFun arts & crafts activities\nLots of exciting and interactive learning experiences\n\n\n¡Padres con niños de 0 a 5 años acompáñanos para descubrir la preparación escolar temprana y el desarrollo infantil! Aprende cómo apoyar el crecimiento del cerebro de tu hijo y construir una base sólida para su futuro. \n\nUn grupo para mamás\, papás y pequeños\nDivertidas actividades de arte y manualidades\nMuchas experiencias de aprendizaje emocionantes e interactivas
URL:https://lafcc.org/event/early-learners-aprendiendo-temprano-11/2026-01-29/
LOCATION:Maple Neighborhood Center\, 3301 37th Avenue\, Sacramento\, 95824
ATTACH;FMTTYPE=image/png:https://lafcc.org/wp-content/uploads/2026/01/Early-Learners-eng-3.png
END:VEVENT
END:VCALENDAR