BEGIN:VCALENDAR
VERSION:2.0
PRODID:-//La Familia Counseling Center - ECPv6.15.20//NONSGML v1.0//EN
CALSCALE:GREGORIAN
METHOD:PUBLISH
X-WR-CALNAME:La Familia Counseling Center
X-ORIGINAL-URL:https://lafcc.org
X-WR-CALDESC:Events for La Familia Counseling Center
REFRESH-INTERVAL;VALUE=DURATION:PT1H
X-Robots-Tag:noindex
X-PUBLISHED-TTL:PT1H
BEGIN:VTIMEZONE
TZID:America/Los_Angeles
BEGIN:DAYLIGHT
TZOFFSETFROM:-0800
TZOFFSETTO:-0700
TZNAME:PDT
DTSTART:20250309T100000
END:DAYLIGHT
BEGIN:STANDARD
TZOFFSETFROM:-0700
TZOFFSETTO:-0800
TZNAME:PST
DTSTART:20251102T090000
END:STANDARD
BEGIN:DAYLIGHT
TZOFFSETFROM:-0800
TZOFFSETTO:-0700
TZNAME:PDT
DTSTART:20260308T100000
END:DAYLIGHT
BEGIN:STANDARD
TZOFFSETFROM:-0700
TZOFFSETTO:-0800
TZNAME:PST
DTSTART:20261101T090000
END:STANDARD
BEGIN:DAYLIGHT
TZOFFSETFROM:-0800
TZOFFSETTO:-0700
TZNAME:PDT
DTSTART:20270314T100000
END:DAYLIGHT
BEGIN:STANDARD
TZOFFSETFROM:-0700
TZOFFSETTO:-0800
TZNAME:PST
DTSTART:20271107T090000
END:STANDARD
END:VTIMEZONE
BEGIN:VEVENT
DTSTART;TZID=America/Los_Angeles:20260415T100000
DTEND;TZID=America/Los_Angeles:20260415T110000
DTSTAMP:20260421T010357
CREATED:20260213T191106Z
LAST-MODIFIED:20260403T184756Z
UID:10005277-1776247200-1776250800@lafcc.org
SUMMARY:Play To Learn Playgroup
DESCRIPTION:These playgroups are for children with exceptional needs ages 0-5 years. They are designed to meet the unique needs of young\, diverse children\, acting as a bring to support their social\, emotional\, cognitive and gross motor development.\nPlaygroups will:\n-Incorporate sensory play\n-Build connections among families\n-Meets twice weekly for one hour\nFor more information contact us at 916-452-3601.\n\n\n– – – – – – – – – – – – – – – – – – – – – – – – – –\n\n\nEstos grupos de juego son para niños con necesidades excepcionales\, de 0 a 5 años de edad. Están diseñados para satisfacer las necesidades únicas de niños pequeños y diversos\, y brindan un entorno de apoyo que fomenta el desarrollo social\, emocional\, cognitivo y motor grueso.\nLos grupos de juegos incluirán:\n-Juegos sensoriales\n-Creará vinculos entre familias\n-Se reunirán dos veces por semana durante una hora\nPara obtener más información\, comuníquese con nosotros al 916-452-3601.
URL:https://lafcc.org/event/play-to-learn-playgroup/2026-04-15/
LOCATION:Maple Neighborhood Center\, 3301 37th Avenue\, Sacramento\, 95824
ATTACH;FMTTYPE=image/png:https://lafcc.org/wp-content/uploads/2026/02/PlaytoLearn_AIMHIGH.ENG_.png
END:VEVENT
BEGIN:VEVENT
DTSTART;TZID=America/Los_Angeles:20260415T110000
DTEND;TZID=America/Los_Angeles:20260415T180000
DTSTAMP:20260421T010357
CREATED:20260403T185832Z
LAST-MODIFIED:20260403T190005Z
UID:10005292-1776250800-1776276000@lafcc.org
SUMMARY:Free Flu Vaccine Clinic/ Clínica de vacunación gratuita contra la gripe
DESCRIPTION:Free flu vaccines are back!\nFor a limited time\, get vaccinated and receive a $25 gift card. All ages are welcome\, and no appointment is needed.\n\n\n Register: https://myturn.ca.gov/appointment-select…\n\n\n– – – – – – – – – – – – – – – – – – – – – – –\n\n\n¡Las vacunas contra la gripe están de regreso!\nPor tiempo limitado\, vacúnate y recibe una tarjeta de regalo de $25. Todas las edades son bienvenidas y no se requiere cita.\n\n\n Regístrate: https://myturn.ca.gov/appointment-select…\n\n\n: Maple Neighborhood Center\n3301 37th Ave. Sacramento\, CA 95824
URL:https://lafcc.org/event/free-flu-vaccine-vacuna-contra-la-gripe-gratuita/2026-04-15/
LOCATION:Maple Neighborhood Center\, 3301 37th Avenue\, Sacramento\, 95824
ATTACH;FMTTYPE=image/png:https://lafcc.org/wp-content/uploads/2026/04/English-1.png
END:VEVENT
BEGIN:VEVENT
DTSTART;TZID=America/Los_Angeles:20260415T160000
DTEND;TZID=America/Los_Angeles:20260415T173000
DTSTAMP:20260421T010357
CREATED:20260223T204325Z
LAST-MODIFIED:20260403T184112Z
UID:10005283-1776268800-1776274200@lafcc.org
SUMMARY:Girl Scouts
DESCRIPTION:Attention girls ages 6-14!\nJoin our fun Girl Scout program filled with STEM discoveries\, outdoor adventures\, community activities\, and lifelong friendships! Dive into creativity and fun – we can’t wait to see you there! For questions or more information please contact us at (916) 452-3601.\nDate/Time: Every Wednesday – 4pm to 5:30pm\nLocation: La Familia’s Maple Neighborhood Center – 3200 37th Ave.\, Sacramento\, CA 95824\n——————————— \n¡Atención niñas de 6 a 14 años!\n¡Únete a nuestro divertido programa de Girl Scouts lleno de descubrimientos STEM\, aventuras al aire libre\, actividades comunitarias y amistades para toda la vida! Sumérgete en la creatividad y la diversión. ¡Estamos ansiosos por verte allí! Si tienes preguntas o quieres más información\, comunícate con nosotros al (916) 452-3601.\nFecha y hora: todos los miércoles\, de 4pm-5:30pm\nUbicación: La Familia’s Maple Neighborhood Center – 3200 37th Ave.\, Sacramento\, CA 95824
URL:https://lafcc.org/event/girl-scouts-9/2026-04-15/
LOCATION:La Familia- Maple Neighborhood Center\, 3200 37th Ave\, Sacramento\, California\, 95824
ATTACH;FMTTYPE=image/png:https://lafcc.org/wp-content/uploads/2026/02/Girl-Scout.-ENGLISH.png
END:VEVENT
END:VCALENDAR