BEGIN:VCALENDAR
VERSION:2.0
PRODID:-//La Familia Counseling Center - ECPv6.15.20//NONSGML v1.0//EN
CALSCALE:GREGORIAN
METHOD:PUBLISH
X-WR-CALNAME:La Familia Counseling Center
X-ORIGINAL-URL:https://lafcc.org
X-WR-CALDESC:Events for La Familia Counseling Center
REFRESH-INTERVAL;VALUE=DURATION:PT1H
X-Robots-Tag:noindex
X-PUBLISHED-TTL:PT1H
BEGIN:VTIMEZONE
TZID:America/Los_Angeles
BEGIN:DAYLIGHT
TZOFFSETFROM:-0800
TZOFFSETTO:-0700
TZNAME:PDT
DTSTART:20190310T100000
END:DAYLIGHT
BEGIN:STANDARD
TZOFFSETFROM:-0700
TZOFFSETTO:-0800
TZNAME:PST
DTSTART:20191103T090000
END:STANDARD
BEGIN:DAYLIGHT
TZOFFSETFROM:-0800
TZOFFSETTO:-0700
TZNAME:PDT
DTSTART:20200308T100000
END:DAYLIGHT
BEGIN:STANDARD
TZOFFSETFROM:-0700
TZOFFSETTO:-0800
TZNAME:PST
DTSTART:20201101T090000
END:STANDARD
BEGIN:DAYLIGHT
TZOFFSETFROM:-0800
TZOFFSETTO:-0700
TZNAME:PDT
DTSTART:20210314T100000
END:DAYLIGHT
BEGIN:STANDARD
TZOFFSETFROM:-0700
TZOFFSETTO:-0800
TZNAME:PST
DTSTART:20211107T090000
END:STANDARD
END:VTIMEZONE
BEGIN:VEVENT
DTSTART;TZID=America/Los_Angeles:20200211T100000
DTEND;TZID=America/Los_Angeles:20200211T110000
DTSTAMP:20260423T020818
CREATED:20200211T171619Z
LAST-MODIFIED:20200211T171619Z
UID:5710-1581415200-1581418800@lafcc.org
SUMMARY:Career Center Orientation
DESCRIPTION:La Familia Career Center offers an Orientation designed to assist clients in Career Development by providing: \n\nResume Writing Workshop\nJob Fairs\nInterview Practices\nJob Placement Opportunities\n\nOur goal is to create new outcomes that will drive our community to greater heights. \n\n  \nLa Familia Centro de Carreras ofrece una Orientación diseñada para ayudar a los clientes en el desarrollo de su carrera proveyendo: \n\nTalleres para la preparación historial de empleo\nFerias de Trabajo\nPrácticas para entrevistas\nOportunidades para colocación de empleo\n\nNuestro objetivo es crear nuevos caminos que dirijiran a nuestra comunidad hacia mejores oportunidades.
URL:https://lafcc.org/event/career-center-orientation-199/
LOCATION:La Familia Counseling Center Inc.\, 5523 34th Street\, Sacramento\, 95820
END:VEVENT
END:VCALENDAR